BEGIN:VCALENDAR
VERSION:2.0
PRODID:-//Unitarian Universalists of the Cumberland Valley - ECPv6.15.20//NONSGML v1.0//EN
CALSCALE:GREGORIAN
METHOD:PUBLISH
X-WR-CALNAME:Unitarian Universalists of the Cumberland Valley
X-ORIGINAL-URL:https://uucv.org
X-WR-CALDESC:Events for Unitarian Universalists of the Cumberland Valley
REFRESH-INTERVAL;VALUE=DURATION:PT1H
X-Robots-Tag:noindex
X-PUBLISHED-TTL:PT1H
BEGIN:VTIMEZONE
TZID:America/New_York
BEGIN:DAYLIGHT
TZOFFSETFROM:-0500
TZOFFSETTO:-0400
TZNAME:EDT
DTSTART:20280312T070000
END:DAYLIGHT
BEGIN:STANDARD
TZOFFSETFROM:-0400
TZOFFSETTO:-0500
TZNAME:EST
DTSTART:20281105T060000
END:STANDARD
BEGIN:DAYLIGHT
TZOFFSETFROM:-0500
TZOFFSETTO:-0400
TZNAME:EDT
DTSTART:20290311T070000
END:DAYLIGHT
BEGIN:STANDARD
TZOFFSETFROM:-0400
TZOFFSETTO:-0500
TZNAME:EST
DTSTART:20291104T060000
END:STANDARD
BEGIN:DAYLIGHT
TZOFFSETFROM:-0500
TZOFFSETTO:-0400
TZNAME:EDT
DTSTART:20300310T070000
END:DAYLIGHT
BEGIN:STANDARD
TZOFFSETFROM:-0400
TZOFFSETTO:-0500
TZNAME:EST
DTSTART:20301103T060000
END:STANDARD
END:VTIMEZONE
BEGIN:VEVENT
DTSTART;TZID=America/New_York:20290617T133000
DTEND;TZID=America/New_York:20290617T133000
DTSTAMP:20260423T043655
CREATED:20250318T175647Z
LAST-MODIFIED:20250318T175647Z
UID:10019840-1876397400-1876397400@uucv.org
SUMMARY:Kumquats - Joan's House
DESCRIPTION:
URL:https://uucv.org/event/kumquats-joans-house-2/2029-06-17/
LOCATION:Area Homes
END:VEVENT
BEGIN:VEVENT
DTSTART;TZID=America/New_York:20290619T183000
DTEND;TZID=America/New_York:20290619T203000
DTSTAMP:20260423T043655
CREATED:20250926T182036Z
LAST-MODIFIED:20250926T182037Z
UID:10021380-1876588200-1876595400@uucv.org
SUMMARY:Board of Trustees
DESCRIPTION:
URL:https://uucv.org/event/board-of-trustees-2/2029-06-19/
LOCATION:Board Room and ZOOM https://zoom.us/my/uucvpa
END:VEVENT
BEGIN:VEVENT
DTSTART;TZID=America/New_York:20290620T183000
DTEND;TZID=America/New_York:20290620T200000
DTSTAMP:20260423T043655
CREATED:20250115T174735Z
LAST-MODIFIED:20250626T160726Z
UID:10020808-1876674600-1876680000@uucv.org
SUMMARY:Social Justice Meeting
DESCRIPTION:
URL:https://uucv.org/event/social-justice-meeting-2/2029-06-20/
LOCATION:Board Room and ZOOM https://zoom.us/my/uucvpa
END:VEVENT
BEGIN:VEVENT
DTSTART;TZID=America/New_York:20290620T190000
DTEND;TZID=America/New_York:20290620T210000
DTSTAMP:20260423T043655
CREATED:20250318T175301Z
LAST-MODIFIED:20250318T175301Z
UID:10019764-1876676400-1876683600@uucv.org
SUMMARY:Men's Group
DESCRIPTION:
URL:https://uucv.org/event/mens-group/2029-06-20/
LOCATION:Area Homes
END:VEVENT
BEGIN:VEVENT
DTSTART;TZID=America/New_York:20290621T133000
DTEND;TZID=America/New_York:20290621T150000
DTSTAMP:20260423T043655
CREATED:20250626T161019Z
LAST-MODIFIED:20250626T161019Z
UID:10020866-1876743000-1876748400@uucv.org
SUMMARY:Daytimers
DESCRIPTION:
URL:https://uucv.org/event/daytimers/2029-06-21/
LOCATION:Meeting Room
END:VEVENT
BEGIN:VEVENT
DTSTART;TZID=America/New_York:20290621T140000
DTEND;TZID=America/New_York:20290621T160000
DTSTAMP:20260423T043655
CREATED:20250115T181345Z
LAST-MODIFIED:20250115T181345Z
UID:10018752-1876744800-1876752000@uucv.org
SUMMARY:The Divers Small Group
DESCRIPTION:
URL:https://uucv.org/event/gail-mike-small-group-2/2029-06-21/
LOCATION:Youuth Room
END:VEVENT
BEGIN:VEVENT
DTSTART;TZID=America/New_York:20290621T191500
DTEND;TZID=America/New_York:20290621T203000
DTSTAMP:20260423T043655
CREATED:20250829T170618Z
LAST-MODIFIED:20250829T170618Z
UID:10021252-1876763700-1876768200@uucv.org
SUMMARY:Soul Matters Small Group Open to ALL
DESCRIPTION:
URL:https://uucv.org/event/soul-matters-small-group-open-to-all/2029-06-21/
LOCATION:https://zoom.us/my/uucvpa
END:VEVENT
BEGIN:VEVENT
DTSTART;TZID=America/New_York:20290624T183000
DTEND;TZID=America/New_York:20290624T203000
DTSTAMP:20260423T043655
CREATED:20250115T181530Z
LAST-MODIFIED:20250115T181546Z
UID:10018812-1877020200-1877027400@uucv.org
SUMMARY:UUCV Book Group
DESCRIPTION:
URL:https://uucv.org/event/uucv-book-group-5/2029-06-24/
LOCATION:ZOOM https://zoom.us/my/uucvpa
END:VEVENT
BEGIN:VEVENT
DTSTART;TZID=America/New_York:20290626T180000
DTEND;TZID=America/New_York:20290626T200000
DTSTAMP:20260423T043655
CREATED:20251031T160914Z
LAST-MODIFIED:20251031T160914Z
UID:10021567-1877191200-1877198400@uucv.org
SUMMARY:COM
DESCRIPTION:
URL:https://uucv.org/event/com/2029-06-26/
LOCATION:Welcome Center
END:VEVENT
BEGIN:VEVENT
DTSTART;TZID=America/New_York:20290703T194500
DTEND;TZID=America/New_York:20290703T210000
DTSTAMP:20260423T043655
CREATED:20250827T165850Z
LAST-MODIFIED:20250827T165850Z
UID:10021133-1877802300-1877806800@uucv.org
SUMMARY:Worship Leadership Team
DESCRIPTION:
URL:https://uucv.org/event/worship-leadership-team/2029-07-03/
LOCATION:Rev. Phoenix ZOOM
END:VEVENT
BEGIN:VEVENT
DTSTART;TZID=America/New_York:20290705T191500
DTEND;TZID=America/New_York:20290705T203000
DTSTAMP:20260423T043655
CREATED:20250829T170500Z
LAST-MODIFIED:20250829T170713Z
UID:10021193-1877973300-1877977800@uucv.org
SUMMARY:Soul Matters Small Group Open to ALL
DESCRIPTION:
URL:https://uucv.org/event/soul-matters-small-group/2029-07-05/
LOCATION:ZOOM https://zoom.us/my/uucvpa
END:VEVENT
BEGIN:VEVENT
DTSTART;TZID=America/New_York:20290706T180000
DTEND;TZID=America/New_York:20290706T200000
DTSTAMP:20260423T043655
CREATED:20251031T160512Z
LAST-MODIFIED:20251031T160512Z
UID:10021447-1878055200-1878062400@uucv.org
SUMMARY:First Fridays Community Night
DESCRIPTION:
URL:https://uucv.org/event/first-fridays-community-night/2029-07-06/
LOCATION:Dining Room
END:VEVENT
BEGIN:VEVENT
DTSTART;TZID=America/New_York:20290713T120000
DTEND;TZID=America/New_York:20290713T140000
DTSTAMP:20260423T043656
CREATED:20251125T191056Z
LAST-MODIFIED:20251125T191057Z
UID:10021821-1878638400-1878645600@uucv.org
SUMMARY:Soup Matters for All
DESCRIPTION:
URL:https://uucv.org/event/soup-matters-for-all-2/2029-07-13/
LOCATION:Dining Room
END:VEVENT
END:VCALENDAR