BEGIN:VCALENDAR
VERSION:2.0
PRODID:-//Unitarian Universalists of the Cumberland Valley - ECPv6.15.20//NONSGML v1.0//EN
CALSCALE:GREGORIAN
METHOD:PUBLISH
X-WR-CALNAME:Unitarian Universalists of the Cumberland Valley
X-ORIGINAL-URL:https://uucv.org
X-WR-CALDESC:Events for Unitarian Universalists of the Cumberland Valley
REFRESH-INTERVAL;VALUE=DURATION:PT1H
X-Robots-Tag:noindex
X-PUBLISHED-TTL:PT1H
BEGIN:VTIMEZONE
TZID:America/New_York
BEGIN:DAYLIGHT
TZOFFSETFROM:-0500
TZOFFSETTO:-0400
TZNAME:EDT
DTSTART:20270314T070000
END:DAYLIGHT
BEGIN:STANDARD
TZOFFSETFROM:-0400
TZOFFSETTO:-0500
TZNAME:EST
DTSTART:20271107T060000
END:STANDARD
BEGIN:DAYLIGHT
TZOFFSETFROM:-0500
TZOFFSETTO:-0400
TZNAME:EDT
DTSTART:20280312T070000
END:DAYLIGHT
BEGIN:STANDARD
TZOFFSETFROM:-0400
TZOFFSETTO:-0500
TZNAME:EST
DTSTART:20281105T060000
END:STANDARD
BEGIN:DAYLIGHT
TZOFFSETFROM:-0500
TZOFFSETTO:-0400
TZNAME:EDT
DTSTART:20290311T070000
END:DAYLIGHT
BEGIN:STANDARD
TZOFFSETFROM:-0400
TZOFFSETTO:-0500
TZNAME:EST
DTSTART:20291104T060000
END:STANDARD
END:VTIMEZONE
BEGIN:VEVENT
DTSTART;TZID=America/New_York:20281116T133000
DTEND;TZID=America/New_York:20281116T150000
DTSTAMP:20260422T025813
CREATED:20250626T161019Z
LAST-MODIFIED:20250626T161019Z
UID:10020859-1857994200-1857999600@uucv.org
SUMMARY:Daytimers
DESCRIPTION:
URL:https://uucv.org/event/daytimers/2028-11-16/
LOCATION:Meeting Room
END:VEVENT
BEGIN:VEVENT
DTSTART;TZID=America/New_York:20281116T140000
DTEND;TZID=America/New_York:20281116T160000
DTSTAMP:20260422T025813
CREATED:20250115T181345Z
LAST-MODIFIED:20250115T181345Z
UID:10018745-1857996000-1858003200@uucv.org
SUMMARY:The Divers Small Group
DESCRIPTION:
URL:https://uucv.org/event/gail-mike-small-group-2/2028-11-16/
LOCATION:Youuth Room
END:VEVENT
BEGIN:VEVENT
DTSTART;TZID=America/New_York:20281116T184500
DTEND;TZID=America/New_York:20281116T204500
DTSTAMP:20260422T025813
CREATED:20250122T160647Z
LAST-MODIFIED:20250122T160648Z
UID:10018983-1858013100-1858020300@uucv.org
SUMMARY:UUCV Music Small Group
DESCRIPTION:
URL:https://uucv.org/event/uucv-music-small-group-2-2/2028-11-16/
LOCATION:Mary and Matts
END:VEVENT
BEGIN:VEVENT
DTSTART;TZID=America/New_York:20281116T191500
DTEND;TZID=America/New_York:20281116T203000
DTSTAMP:20260422T025813
CREATED:20250829T170618Z
LAST-MODIFIED:20250829T170618Z
UID:10021245-1858014900-1858019400@uucv.org
SUMMARY:Soul Matters Small Group Open to ALL
DESCRIPTION:
URL:https://uucv.org/event/soul-matters-small-group-open-to-all/2028-11-16/
LOCATION:https://zoom.us/my/uucvpa
END:VEVENT
BEGIN:VEVENT
DTSTART;TZID=America/New_York:20281117T163000
DTEND;TZID=America/New_York:20281117T180000
DTSTAMP:20260422T025813
CREATED:20250318T175806Z
LAST-MODIFIED:20250625T181544Z
UID:10020735-1858091400-1858096800@uucv.org
SUMMARY:Namely Women's Group - Area Homes
DESCRIPTION:
URL:https://uucv.org/event/namely-womens-group-backyards-2/2028-11-17/
LOCATION:Area Homes\, PA
CATEGORIES:SGM
END:VEVENT
BEGIN:VEVENT
DTSTART;TZID=America/New_York:20281119T120000
DTEND;TZID=America/New_York:20281119T130000
DTSTAMP:20260422T025813
CREATED:20251031T161626Z
LAST-MODIFIED:20251031T161626Z
UID:10021621-1858248000-1858251600@uucv.org
SUMMARY:Outreach and Membership Meeting
DESCRIPTION:
URL:https://uucv.org/event/outreach-and-membership-meeting/2028-11-19/
LOCATION:Welcome Center
END:VEVENT
BEGIN:VEVENT
DTSTART;TZID=America/New_York:20281119T120000
DTEND;TZID=America/New_York:20281119T133000
DTSTAMP:20260422T025813
CREATED:20240328T143311Z
LAST-MODIFIED:20240328T143312Z
UID:10017401-1858248000-1858253400@uucv.org
SUMMARY:Worship Associates
DESCRIPTION:
URL:https://uucv.org/event/worship-associates-2/2028-11-19/
LOCATION:Social Hall\, PA\, United States
END:VEVENT
BEGIN:VEVENT
DTSTART;TZID=America/New_York:20281119T133000
DTEND;TZID=America/New_York:20281119T133000
DTSTAMP:20260422T025813
CREATED:20250318T175647Z
LAST-MODIFIED:20250318T175647Z
UID:10019833-1858253400-1858253400@uucv.org
SUMMARY:Kumquats - Joan's House
DESCRIPTION:
URL:https://uucv.org/event/kumquats-joans-house-2/2028-11-19/
LOCATION:Area Homes
END:VEVENT
BEGIN:VEVENT
DTSTART;TZID=America/New_York:20281121T183000
DTEND;TZID=America/New_York:20281121T203000
DTSTAMP:20260422T025813
CREATED:20250926T182036Z
LAST-MODIFIED:20250926T182037Z
UID:10021373-1858444200-1858451400@uucv.org
SUMMARY:Board of Trustees
DESCRIPTION:
URL:https://uucv.org/event/board-of-trustees-2/2028-11-21/
LOCATION:Board Room and ZOOM https://zoom.us/my/uucvpa
END:VEVENT
BEGIN:VEVENT
DTSTART;TZID=America/New_York:20281126T183000
DTEND;TZID=America/New_York:20281126T203000
DTSTAMP:20260422T025813
CREATED:20250115T181530Z
LAST-MODIFIED:20250115T181546Z
UID:10018805-1858876200-1858883400@uucv.org
SUMMARY:UUCV Book Group
DESCRIPTION:
URL:https://uucv.org/event/uucv-book-group-5/2028-11-26/
LOCATION:ZOOM https://zoom.us/my/uucvpa
END:VEVENT
BEGIN:VEVENT
DTSTART;TZID=America/New_York:20281128T180000
DTEND;TZID=America/New_York:20281128T200000
DTSTAMP:20260422T025813
CREATED:20251031T160914Z
LAST-MODIFIED:20251031T160914Z
UID:10021560-1859047200-1859054400@uucv.org
SUMMARY:COM
DESCRIPTION:
URL:https://uucv.org/event/com/2028-11-28/
LOCATION:Welcome Center
END:VEVENT
BEGIN:VEVENT
DTSTART;TZID=America/New_York:20281201T180000
DTEND;TZID=America/New_York:20281201T200000
DTSTAMP:20260422T025813
CREATED:20251031T160512Z
LAST-MODIFIED:20251031T160512Z
UID:10021440-1859306400-1859313600@uucv.org
SUMMARY:First Fridays Community Night
DESCRIPTION:
URL:https://uucv.org/event/first-fridays-community-night/2028-12-01/
LOCATION:Dining Room
END:VEVENT
BEGIN:VEVENT
DTSTART;TZID=America/New_York:20281205T194500
DTEND;TZID=America/New_York:20281205T210000
DTSTAMP:20260422T025813
CREATED:20250827T165850Z
LAST-MODIFIED:20250827T165850Z
UID:10021126-1859658300-1859662800@uucv.org
SUMMARY:Worship Leadership Team
DESCRIPTION:
URL:https://uucv.org/event/worship-leadership-team/2028-12-05/
LOCATION:Rev. Phoenix ZOOM
END:VEVENT
BEGIN:VEVENT
DTSTART;TZID=America/New_York:20281207T191500
DTEND;TZID=America/New_York:20281207T203000
DTSTAMP:20260422T025813
CREATED:20250829T170500Z
LAST-MODIFIED:20250829T170713Z
UID:10021186-1859829300-1859833800@uucv.org
SUMMARY:Soul Matters Small Group Open to ALL
DESCRIPTION:
URL:https://uucv.org/event/soul-matters-small-group/2028-12-07/
LOCATION:ZOOM https://zoom.us/my/uucvpa
END:VEVENT
END:VCALENDAR