BEGIN:VCALENDAR
VERSION:2.0
PRODID:-//Unitarian Universalists of the Cumberland Valley - ECPv6.15.20//NONSGML v1.0//EN
CALSCALE:GREGORIAN
METHOD:PUBLISH
X-WR-CALNAME:Unitarian Universalists of the Cumberland Valley
X-ORIGINAL-URL:https://uucv.org
X-WR-CALDESC:Events for Unitarian Universalists of the Cumberland Valley
REFRESH-INTERVAL;VALUE=DURATION:PT1H
X-Robots-Tag:noindex
X-PUBLISHED-TTL:PT1H
BEGIN:VTIMEZONE
TZID:America/New_York
BEGIN:DAYLIGHT
TZOFFSETFROM:-0500
TZOFFSETTO:-0400
TZNAME:EDT
DTSTART:20270314T070000
END:DAYLIGHT
BEGIN:STANDARD
TZOFFSETFROM:-0400
TZOFFSETTO:-0500
TZNAME:EST
DTSTART:20271107T060000
END:STANDARD
BEGIN:DAYLIGHT
TZOFFSETFROM:-0500
TZOFFSETTO:-0400
TZNAME:EDT
DTSTART:20280312T070000
END:DAYLIGHT
BEGIN:STANDARD
TZOFFSETFROM:-0400
TZOFFSETTO:-0500
TZNAME:EST
DTSTART:20281105T060000
END:STANDARD
BEGIN:DAYLIGHT
TZOFFSETFROM:-0500
TZOFFSETTO:-0400
TZNAME:EDT
DTSTART:20290311T070000
END:DAYLIGHT
BEGIN:STANDARD
TZOFFSETFROM:-0400
TZOFFSETTO:-0500
TZNAME:EST
DTSTART:20291104T060000
END:STANDARD
END:VTIMEZONE
BEGIN:VEVENT
DTSTART;TZID=America/New_York:20280820T120000
DTEND;TZID=America/New_York:20280820T130000
DTSTAMP:20260421T154541
CREATED:20251031T161626Z
LAST-MODIFIED:20251031T161626Z
UID:10021618-1850385600-1850389200@uucv.org
SUMMARY:Outreach and Membership Meeting
DESCRIPTION:
URL:https://uucv.org/event/outreach-and-membership-meeting/2028-08-20/
LOCATION:Welcome Center
END:VEVENT
BEGIN:VEVENT
DTSTART;TZID=America/New_York:20280820T120000
DTEND;TZID=America/New_York:20280820T133000
DTSTAMP:20260421T154541
CREATED:20240328T143311Z
LAST-MODIFIED:20240328T143312Z
UID:10017398-1850385600-1850391000@uucv.org
SUMMARY:Worship Associates
DESCRIPTION:
URL:https://uucv.org/event/worship-associates-2/2028-08-20/
LOCATION:Social Hall\, PA\, United States
END:VEVENT
BEGIN:VEVENT
DTSTART;TZID=America/New_York:20280820T133000
DTEND;TZID=America/New_York:20280820T133000
DTSTAMP:20260421T154541
CREATED:20250318T175647Z
LAST-MODIFIED:20250318T175647Z
UID:10016353-1850391000-1850391000@uucv.org
SUMMARY:Kumquats - Joan's House
DESCRIPTION:
URL:https://uucv.org/event/kumquats-joans-house-2/2028-08-20/
LOCATION:Area Homes
END:VEVENT
BEGIN:VEVENT
DTSTART;TZID=America/New_York:20280822T180000
DTEND;TZID=America/New_York:20280822T200000
DTSTAMP:20260421T154541
CREATED:20251031T160914Z
LAST-MODIFIED:20251031T160914Z
UID:10021557-1850580000-1850587200@uucv.org
SUMMARY:COM
DESCRIPTION:
URL:https://uucv.org/event/com/2028-08-22/
LOCATION:Welcome Center
END:VEVENT
BEGIN:VEVENT
DTSTART;TZID=America/New_York:20280824T184500
DTEND;TZID=America/New_York:20280824T204500
DTSTAMP:20260421T154541
CREATED:20250122T160647Z
LAST-MODIFIED:20250122T160648Z
UID:10018977-1850755500-1850762700@uucv.org
SUMMARY:UUCV Music Small Group
DESCRIPTION:
URL:https://uucv.org/event/uucv-music-small-group-2-2/2028-08-24/
LOCATION:Mary and Matts
END:VEVENT
BEGIN:VEVENT
DTSTART;TZID=America/New_York:20280827T183000
DTEND;TZID=America/New_York:20280827T203000
DTSTAMP:20260421T154541
CREATED:20250115T181530Z
LAST-MODIFIED:20250115T181546Z
UID:10018802-1851013800-1851021000@uucv.org
SUMMARY:UUCV Book Group
DESCRIPTION:
URL:https://uucv.org/event/uucv-book-group-5/2028-08-27/
LOCATION:ZOOM https://zoom.us/my/uucvpa
END:VEVENT
BEGIN:VEVENT
DTSTART;TZID=America/New_York:20280901T180000
DTEND;TZID=America/New_York:20280901T200000
DTSTAMP:20260421T154541
CREATED:20251031T160512Z
LAST-MODIFIED:20251031T160512Z
UID:10021437-1851444000-1851451200@uucv.org
SUMMARY:First Fridays Community Night
DESCRIPTION:
URL:https://uucv.org/event/first-fridays-community-night/2028-09-01/
LOCATION:Dining Room
END:VEVENT
BEGIN:VEVENT
DTSTART;TZID=America/New_York:20280905T194500
DTEND;TZID=America/New_York:20280905T210000
DTSTAMP:20260421T154541
CREATED:20250827T165850Z
LAST-MODIFIED:20250827T165850Z
UID:10021123-1851795900-1851800400@uucv.org
SUMMARY:Worship Leadership Team
DESCRIPTION:
URL:https://uucv.org/event/worship-leadership-team/2028-09-05/
LOCATION:Rev. Phoenix ZOOM
END:VEVENT
BEGIN:VEVENT
DTSTART;TZID=America/New_York:20280907T191500
DTEND;TZID=America/New_York:20280907T203000
DTSTAMP:20260421T154541
CREATED:20250829T170500Z
LAST-MODIFIED:20250829T170713Z
UID:10021183-1851966900-1851971400@uucv.org
SUMMARY:Soul Matters Small Group Open to ALL
DESCRIPTION:
URL:https://uucv.org/event/soul-matters-small-group/2028-09-07/
LOCATION:ZOOM https://zoom.us/my/uucvpa
END:VEVENT
BEGIN:VEVENT
DTSTART;TZID=America/New_York:20280908T120000
DTEND;TZID=America/New_York:20280908T140000
DTSTAMP:20260421T154541
CREATED:20251125T191056Z
LAST-MODIFIED:20251125T191057Z
UID:10021811-1852027200-1852034400@uucv.org
SUMMARY:Soup Matters for All
DESCRIPTION:
URL:https://uucv.org/event/soup-matters-for-all-2/2028-09-08/
LOCATION:Dining Room
END:VEVENT
BEGIN:VEVENT
DTSTART;TZID=America/New_York:20280909T090000
DTEND;TZID=America/New_York:20280909T110000
DTSTAMP:20260421T154542
CREATED:20250910T142406Z
LAST-MODIFIED:20250910T172931Z
UID:10021305-1852102800-1852110000@uucv.org
SUMMARY:Caregivers Circle
DESCRIPTION:
URL:https://uucv.org/event/caregivers-circle-8/2028-09-09/
LOCATION:Youuth Room
END:VEVENT
BEGIN:VEVENT
DTSTART;TZID=America/New_York:20280910T083000
DTEND;TZID=America/New_York:20280910T100000
DTSTAMP:20260421T154542
CREATED:20250827T133907Z
LAST-MODIFIED:20250827T133908Z
UID:10021036-1852187400-1852192800@uucv.org
SUMMARY:Word Weavers Small Group
DESCRIPTION:
URL:https://uucv.org/event/word-weavers-small-group-2/2028-09-10/
LOCATION:Board Room
END:VEVENT
BEGIN:VEVENT
DTSTART;TZID=America/New_York:20280911T193000
DTEND;TZID=America/New_York:20280911T210000
DTSTAMP:20260421T154542
CREATED:20250827T133745Z
LAST-MODIFIED:20250827T133746Z
UID:10020977-1852313400-1852318800@uucv.org
SUMMARY:Finance
DESCRIPTION:
URL:https://uucv.org/event/finance-3-2-2-2/2028-09-11/
LOCATION:Offsite ZOOM
END:VEVENT
BEGIN:VEVENT
DTSTART;TZID=America/New_York:20280919T183000
DTEND;TZID=America/New_York:20280919T203000
DTSTAMP:20260421T154542
CREATED:20250926T182036Z
LAST-MODIFIED:20250926T182037Z
UID:10021371-1853001000-1853008200@uucv.org
SUMMARY:Board of Trustees
DESCRIPTION:
URL:https://uucv.org/event/board-of-trustees-2/2028-09-19/
LOCATION:Board Room and ZOOM https://zoom.us/my/uucvpa
END:VEVENT
END:VCALENDAR