BEGIN:VCALENDAR
VERSION:2.0
PRODID:-//Unitarian Universalists of the Cumberland Valley - ECPv6.15.20//NONSGML v1.0//EN
CALSCALE:GREGORIAN
METHOD:PUBLISH
X-WR-CALNAME:Unitarian Universalists of the Cumberland Valley
X-ORIGINAL-URL:https://uucv.org
X-WR-CALDESC:Events for Unitarian Universalists of the Cumberland Valley
REFRESH-INTERVAL;VALUE=DURATION:PT1H
X-Robots-Tag:noindex
X-PUBLISHED-TTL:PT1H
BEGIN:VTIMEZONE
TZID:America/New_York
BEGIN:DAYLIGHT
TZOFFSETFROM:-0500
TZOFFSETTO:-0400
TZNAME:EDT
DTSTART:20270314T070000
END:DAYLIGHT
BEGIN:STANDARD
TZOFFSETFROM:-0400
TZOFFSETTO:-0500
TZNAME:EST
DTSTART:20271107T060000
END:STANDARD
BEGIN:DAYLIGHT
TZOFFSETFROM:-0500
TZOFFSETTO:-0400
TZNAME:EDT
DTSTART:20280312T070000
END:DAYLIGHT
BEGIN:STANDARD
TZOFFSETFROM:-0400
TZOFFSETTO:-0500
TZNAME:EST
DTSTART:20281105T060000
END:STANDARD
BEGIN:DAYLIGHT
TZOFFSETFROM:-0500
TZOFFSETTO:-0400
TZNAME:EDT
DTSTART:20290311T070000
END:DAYLIGHT
BEGIN:STANDARD
TZOFFSETFROM:-0400
TZOFFSETTO:-0500
TZNAME:EST
DTSTART:20291104T060000
END:STANDARD
END:VTIMEZONE
BEGIN:VEVENT
DTSTART;TZID=America/New_York:20280123T103000
DTEND;TZID=America/New_York:20280123T113000
DTSTAMP:20260420T214102
CREATED:20230811T162352Z
LAST-MODIFIED:20230811T170330Z
UID:10015634-1832236200-1832239800@uucv.org
SUMMARY:Worship In-Person or ZOOM https://zoom.us/my/uucvpa
DESCRIPTION:
URL:https://uucv.org/event/worship-zoom-only-https-zoom-us-my-uucvpa-2/2028-01-23/
LOCATION:Social Hall\, PA\, United States
END:VEVENT
BEGIN:VEVENT
DTSTART;TZID=America/New_York:20280123T104500
DTEND;TZID=America/New_York:20280123T114500
DTSTAMP:20260420T214102
CREATED:20250508T170216Z
LAST-MODIFIED:20250508T170216Z
UID:10014238-1832237100-1832240700@uucv.org
SUMMARY:Religious Education K-12
DESCRIPTION:
URL:https://uucv.org/event/religious-education-k-12-2-2-2/2028-01-23/
LOCATION:Religious Education Classrooms\, 2 Forge Road\, Boiling Springs\, PA\, 17007\, United States
END:VEVENT
BEGIN:VEVENT
DTSTART;TZID=America/New_York:20280123T183000
DTEND;TZID=America/New_York:20280123T203000
DTSTAMP:20260420T214102
CREATED:20250115T181530Z
LAST-MODIFIED:20250115T181546Z
UID:10018795-1832265000-1832272200@uucv.org
SUMMARY:UUCV Book Group
DESCRIPTION:
URL:https://uucv.org/event/uucv-book-group-5/2028-01-23/
LOCATION:ZOOM https://zoom.us/my/uucvpa
END:VEVENT
BEGIN:VEVENT
DTSTART;TZID=America/New_York:20280125T180000
DTEND;TZID=America/New_York:20280125T200000
DTSTAMP:20260420T214102
CREATED:20251031T160914Z
LAST-MODIFIED:20251031T160914Z
UID:10021550-1832436000-1832443200@uucv.org
SUMMARY:COM
DESCRIPTION:
URL:https://uucv.org/event/com/2028-01-25/
LOCATION:Welcome Center
END:VEVENT
BEGIN:VEVENT
DTSTART;TZID=America/New_York:20280127T184500
DTEND;TZID=America/New_York:20280127T204500
DTSTAMP:20260420T214102
CREATED:20250122T160647Z
LAST-MODIFIED:20250122T160648Z
UID:10018962-1832611500-1832618700@uucv.org
SUMMARY:UUCV Music Small Group
DESCRIPTION:
URL:https://uucv.org/event/uucv-music-small-group-2-2/2028-01-27/
LOCATION:Mary and Matts
END:VEVENT
BEGIN:VEVENT
DTSTART;TZID=America/New_York:20280201T194500
DTEND;TZID=America/New_York:20280201T210000
DTSTAMP:20260420T214102
CREATED:20250827T165850Z
LAST-MODIFIED:20250827T165850Z
UID:10021116-1833047100-1833051600@uucv.org
SUMMARY:Worship Leadership Team
DESCRIPTION:
URL:https://uucv.org/event/worship-leadership-team/2028-02-01/
LOCATION:Rev. Phoenix ZOOM
END:VEVENT
BEGIN:VEVENT
DTSTART;TZID=America/New_York:20280203T191500
DTEND;TZID=America/New_York:20280203T203000
DTSTAMP:20260420T214102
CREATED:20250829T170500Z
LAST-MODIFIED:20250829T170713Z
UID:10021176-1833218100-1833222600@uucv.org
SUMMARY:Soul Matters Small Group Open to ALL
DESCRIPTION:
URL:https://uucv.org/event/soul-matters-small-group/2028-02-03/
LOCATION:ZOOM https://zoom.us/my/uucvpa
END:VEVENT
BEGIN:VEVENT
DTSTART;TZID=America/New_York:20280204T180000
DTEND;TZID=America/New_York:20280204T200000
DTSTAMP:20260420T214102
CREATED:20251031T160512Z
LAST-MODIFIED:20251031T160512Z
UID:10021430-1833300000-1833307200@uucv.org
SUMMARY:First Fridays Community Night
DESCRIPTION:
URL:https://uucv.org/event/first-fridays-community-night/2028-02-04/
LOCATION:Dining Room
END:VEVENT
BEGIN:VEVENT
DTSTART;TZID=America/New_York:20280211T120000
DTEND;TZID=America/New_York:20280211T140000
DTSTAMP:20260420T214102
CREATED:20251125T191056Z
LAST-MODIFIED:20251125T191057Z
UID:10021804-1833883200-1833890400@uucv.org
SUMMARY:Soup Matters for All
DESCRIPTION:
URL:https://uucv.org/event/soup-matters-for-all-2/2028-02-11/
LOCATION:Dining Room
END:VEVENT
BEGIN:VEVENT
DTSTART;TZID=America/New_York:20280212T090000
DTEND;TZID=America/New_York:20280212T110000
DTSTAMP:20260420T214102
CREATED:20250910T142406Z
LAST-MODIFIED:20250910T172931Z
UID:10021298-1833958800-1833966000@uucv.org
SUMMARY:Caregivers Circle
DESCRIPTION:
URL:https://uucv.org/event/caregivers-circle-8/2028-02-12/
LOCATION:Youuth Room
END:VEVENT
BEGIN:VEVENT
DTSTART;TZID=America/New_York:20280213T083000
DTEND;TZID=America/New_York:20280213T100000
DTSTAMP:20260420T214102
CREATED:20250827T133907Z
LAST-MODIFIED:20250827T133908Z
UID:10021029-1834043400-1834048800@uucv.org
SUMMARY:Word Weavers Small Group
DESCRIPTION:
URL:https://uucv.org/event/word-weavers-small-group-2/2028-02-13/
LOCATION:Board Room
END:VEVENT
BEGIN:VEVENT
DTSTART;TZID=America/New_York:20280214T193000
DTEND;TZID=America/New_York:20280214T210000
DTSTAMP:20260420T214102
CREATED:20250827T133745Z
LAST-MODIFIED:20250827T133746Z
UID:10020970-1834169400-1834174800@uucv.org
SUMMARY:Finance
DESCRIPTION:
URL:https://uucv.org/event/finance-3-2-2-2/2028-02-14/
LOCATION:Offsite ZOOM
END:VEVENT
BEGIN:VEVENT
DTSTART;TZID=America/New_York:20280220T120000
DTEND;TZID=America/New_York:20280220T130000
DTSTAMP:20260420T214102
CREATED:20251031T161626Z
LAST-MODIFIED:20251031T161626Z
UID:10021612-1834660800-1834664400@uucv.org
SUMMARY:Outreach and Membership Meeting
DESCRIPTION:
URL:https://uucv.org/event/outreach-and-membership-meeting/2028-02-20/
LOCATION:Welcome Center
END:VEVENT
BEGIN:VEVENT
DTSTART;TZID=America/New_York:20280220T120000
DTEND;TZID=America/New_York:20280220T133000
DTSTAMP:20260420T214102
CREATED:20240328T143311Z
LAST-MODIFIED:20240328T143312Z
UID:10017392-1834660800-1834666200@uucv.org
SUMMARY:Worship Associates
DESCRIPTION:
URL:https://uucv.org/event/worship-associates-2/2028-02-20/
LOCATION:Social Hall\, PA\, United States
END:VEVENT
BEGIN:VEVENT
DTSTART;TZID=America/New_York:20280220T133000
DTEND;TZID=America/New_York:20280220T133000
DTSTAMP:20260420T214102
CREATED:20250318T175647Z
LAST-MODIFIED:20250318T175647Z
UID:10016347-1834666200-1834666200@uucv.org
SUMMARY:Kumquats - Joan's House
DESCRIPTION:
URL:https://uucv.org/event/kumquats-joans-house-2/2028-02-20/
LOCATION:Area Homes
END:VEVENT
END:VCALENDAR