BEGIN:VCALENDAR
VERSION:2.0
PRODID:-//Unitarian Universalists of the Cumberland Valley - ECPv6.15.20//NONSGML v1.0//EN
CALSCALE:GREGORIAN
METHOD:PUBLISH
X-WR-CALNAME:Unitarian Universalists of the Cumberland Valley
X-ORIGINAL-URL:https://uucv.org
X-WR-CALDESC:Events for Unitarian Universalists of the Cumberland Valley
REFRESH-INTERVAL;VALUE=DURATION:PT1H
X-Robots-Tag:noindex
X-PUBLISHED-TTL:PT1H
BEGIN:VTIMEZONE
TZID:America/New_York
BEGIN:DAYLIGHT
TZOFFSETFROM:-0500
TZOFFSETTO:-0400
TZNAME:EDT
DTSTART:20260308T070000
END:DAYLIGHT
BEGIN:STANDARD
TZOFFSETFROM:-0400
TZOFFSETTO:-0500
TZNAME:EST
DTSTART:20261101T060000
END:STANDARD
BEGIN:DAYLIGHT
TZOFFSETFROM:-0500
TZOFFSETTO:-0400
TZNAME:EDT
DTSTART:20270314T070000
END:DAYLIGHT
BEGIN:STANDARD
TZOFFSETFROM:-0400
TZOFFSETTO:-0500
TZNAME:EST
DTSTART:20271107T060000
END:STANDARD
BEGIN:DAYLIGHT
TZOFFSETFROM:-0500
TZOFFSETTO:-0400
TZNAME:EDT
DTSTART:20280312T070000
END:DAYLIGHT
BEGIN:STANDARD
TZOFFSETFROM:-0400
TZOFFSETTO:-0500
TZNAME:EST
DTSTART:20281105T060000
END:STANDARD
END:VTIMEZONE
BEGIN:VEVENT
DTSTART;TZID=America/New_York:20270815T133000
DTEND;TZID=America/New_York:20270815T133000
DTSTAMP:20260420T032105
CREATED:20250318T175647Z
LAST-MODIFIED:20250318T175647Z
UID:10016341-1818336600-1818336600@uucv.org
SUMMARY:Kumquats - Joan's House
DESCRIPTION:
URL:https://uucv.org/event/kumquats-joans-house-2/2027-08-15/
LOCATION:Area Homes
END:VEVENT
BEGIN:VEVENT
DTSTART;TZID=America/New_York:20270817T183000
DTEND;TZID=America/New_York:20270817T203000
DTSTAMP:20260420T032105
CREATED:20250926T182036Z
LAST-MODIFIED:20250926T182037Z
UID:10021358-1818527400-1818534600@uucv.org
SUMMARY:Board of Trustees
DESCRIPTION:
URL:https://uucv.org/event/board-of-trustees-2/2027-08-17/
LOCATION:Board Room and ZOOM https://zoom.us/my/uucvpa
END:VEVENT
BEGIN:VEVENT
DTSTART;TZID=America/New_York:20270818T183000
DTEND;TZID=America/New_York:20270818T200000
DTSTAMP:20260420T032105
CREATED:20250115T174735Z
LAST-MODIFIED:20250626T160726Z
UID:10020786-1818613800-1818619200@uucv.org
SUMMARY:Social Justice Meeting
DESCRIPTION:
URL:https://uucv.org/event/social-justice-meeting-2/2027-08-18/
LOCATION:Board Room and ZOOM https://zoom.us/my/uucvpa
END:VEVENT
BEGIN:VEVENT
DTSTART;TZID=America/New_York:20270818T190000
DTEND;TZID=America/New_York:20270818T210000
DTSTAMP:20260420T032105
CREATED:20250318T175301Z
LAST-MODIFIED:20250318T175301Z
UID:10019742-1818615600-1818622800@uucv.org
SUMMARY:Men's Group
DESCRIPTION:
URL:https://uucv.org/event/mens-group/2027-08-18/
LOCATION:Area Homes
END:VEVENT
BEGIN:VEVENT
DTSTART;TZID=America/New_York:20270819T133000
DTEND;TZID=America/New_York:20270819T150000
DTSTAMP:20260420T032105
CREATED:20250626T161019Z
LAST-MODIFIED:20250626T161019Z
UID:10020844-1818682200-1818687600@uucv.org
SUMMARY:Daytimers
DESCRIPTION:
URL:https://uucv.org/event/daytimers/2027-08-19/
LOCATION:Meeting Room
END:VEVENT
BEGIN:VEVENT
DTSTART;TZID=America/New_York:20270819T140000
DTEND;TZID=America/New_York:20270819T160000
DTSTAMP:20260420T032105
CREATED:20250115T181345Z
LAST-MODIFIED:20250115T181345Z
UID:10018730-1818684000-1818691200@uucv.org
SUMMARY:The Divers Small Group
DESCRIPTION:
URL:https://uucv.org/event/gail-mike-small-group-2/2027-08-19/
LOCATION:Youuth Room
END:VEVENT
BEGIN:VEVENT
DTSTART;TZID=America/New_York:20270819T191500
DTEND;TZID=America/New_York:20270819T203000
DTSTAMP:20260420T032105
CREATED:20250829T170618Z
LAST-MODIFIED:20250829T170618Z
UID:10021230-1818702900-1818707400@uucv.org
SUMMARY:Soul Matters Small Group Open to ALL
DESCRIPTION:
URL:https://uucv.org/event/soul-matters-small-group-open-to-all/2027-08-19/
LOCATION:https://zoom.us/my/uucvpa
END:VEVENT
BEGIN:VEVENT
DTSTART;TZID=America/New_York:20270820T163000
DTEND;TZID=America/New_York:20270820T180000
DTSTAMP:20260420T032105
CREATED:20250318T175806Z
LAST-MODIFIED:20250625T181544Z
UID:10020720-1818779400-1818784800@uucv.org
SUMMARY:Namely Women's Group - Area Homes
DESCRIPTION:
URL:https://uucv.org/event/namely-womens-group-backyards-2/2027-08-20/
LOCATION:Area Homes\, PA
CATEGORIES:SGM
END:VEVENT
BEGIN:VEVENT
DTSTART;TZID=America/New_York:20270822T090000
DTEND;TZID=America/New_York:20270822T100000
DTSTAMP:20260420T032105
CREATED:20251120T181840Z
LAST-MODIFIED:20251120T181840Z
UID:10021692-1818925200-1818928800@uucv.org
SUMMARY:Roots & Wings Community Meet-Up
DESCRIPTION:
URL:https://uucv.org/event/roots-wings-community-meet-up-2/2027-08-22/
LOCATION:Dining Hall
END:VEVENT
BEGIN:VEVENT
DTSTART;TZID=America/New_York:20270822T183000
DTEND;TZID=America/New_York:20270822T203000
DTSTAMP:20260420T032105
CREATED:20250115T181530Z
LAST-MODIFIED:20250115T181546Z
UID:10018790-1818959400-1818966600@uucv.org
SUMMARY:UUCV Book Group
DESCRIPTION:
URL:https://uucv.org/event/uucv-book-group-5/2027-08-22/
LOCATION:ZOOM https://zoom.us/my/uucvpa
END:VEVENT
BEGIN:VEVENT
DTSTART;TZID=America/New_York:20270824T180000
DTEND;TZID=America/New_York:20270824T200000
DTSTAMP:20260420T032105
CREATED:20251031T160914Z
LAST-MODIFIED:20251031T160914Z
UID:10021545-1819130400-1819137600@uucv.org
SUMMARY:COM
DESCRIPTION:
URL:https://uucv.org/event/com/2027-08-24/
LOCATION:Welcome Center
END:VEVENT
BEGIN:VEVENT
DTSTART;TZID=America/New_York:20270902T191500
DTEND;TZID=America/New_York:20270902T203000
DTSTAMP:20260420T032105
CREATED:20250829T170500Z
LAST-MODIFIED:20250829T170713Z
UID:10021171-1819912500-1819917000@uucv.org
SUMMARY:Soul Matters Small Group Open to ALL
DESCRIPTION:
URL:https://uucv.org/event/soul-matters-small-group/2027-09-02/
LOCATION:ZOOM https://zoom.us/my/uucvpa
END:VEVENT
BEGIN:VEVENT
DTSTART;TZID=America/New_York:20270903T180000
DTEND;TZID=America/New_York:20270903T200000
DTSTAMP:20260420T032105
CREATED:20251031T160512Z
LAST-MODIFIED:20251031T160512Z
UID:10021425-1819994400-1820001600@uucv.org
SUMMARY:First Fridays Community Night
DESCRIPTION:
URL:https://uucv.org/event/first-fridays-community-night/2027-09-03/
LOCATION:Dining Room
END:VEVENT
BEGIN:VEVENT
DTSTART;TZID=America/New_York:20270907T194500
DTEND;TZID=America/New_York:20270907T210000
DTSTAMP:20260420T032105
CREATED:20250827T165850Z
LAST-MODIFIED:20250827T165850Z
UID:10021111-1820346300-1820350800@uucv.org
SUMMARY:Worship Leadership Team
DESCRIPTION:
URL:https://uucv.org/event/worship-leadership-team/2027-09-07/
LOCATION:Rev. Phoenix ZOOM
END:VEVENT
BEGIN:VEVENT
DTSTART;TZID=America/New_York:20270912T083000
DTEND;TZID=America/New_York:20270912T100000
DTSTAMP:20260420T032105
CREATED:20250827T133907Z
LAST-MODIFIED:20250827T133908Z
UID:10021024-1820737800-1820743200@uucv.org
SUMMARY:Word Weavers Small Group
DESCRIPTION:
URL:https://uucv.org/event/word-weavers-small-group-2/2027-09-12/
LOCATION:Board Room
END:VEVENT
END:VCALENDAR