BEGIN:VCALENDAR
VERSION:2.0
PRODID:-//Unitarian Universalists of the Cumberland Valley - ECPv6.15.20//NONSGML v1.0//EN
CALSCALE:GREGORIAN
METHOD:PUBLISH
X-WR-CALNAME:Unitarian Universalists of the Cumberland Valley
X-ORIGINAL-URL:https://uucv.org
X-WR-CALDESC:Events for Unitarian Universalists of the Cumberland Valley
REFRESH-INTERVAL;VALUE=DURATION:PT1H
X-Robots-Tag:noindex
X-PUBLISHED-TTL:PT1H
BEGIN:VTIMEZONE
TZID:America/New_York
BEGIN:DAYLIGHT
TZOFFSETFROM:-0500
TZOFFSETTO:-0400
TZNAME:EDT
DTSTART:20260308T070000
END:DAYLIGHT
BEGIN:STANDARD
TZOFFSETFROM:-0400
TZOFFSETTO:-0500
TZNAME:EST
DTSTART:20261101T060000
END:STANDARD
BEGIN:DAYLIGHT
TZOFFSETFROM:-0500
TZOFFSETTO:-0400
TZNAME:EDT
DTSTART:20270314T070000
END:DAYLIGHT
BEGIN:STANDARD
TZOFFSETFROM:-0400
TZOFFSETTO:-0500
TZNAME:EST
DTSTART:20271107T060000
END:STANDARD
BEGIN:DAYLIGHT
TZOFFSETFROM:-0500
TZOFFSETTO:-0400
TZNAME:EDT
DTSTART:20280312T070000
END:DAYLIGHT
BEGIN:STANDARD
TZOFFSETFROM:-0400
TZOFFSETTO:-0500
TZNAME:EST
DTSTART:20281105T060000
END:STANDARD
END:VTIMEZONE
BEGIN:VEVENT
DTSTART;TZID=America/New_York:20270720T183000
DTEND;TZID=America/New_York:20270720T203000
DTSTAMP:20260420T032102
CREATED:20250926T182036Z
LAST-MODIFIED:20250926T182037Z
UID:10021357-1816108200-1816115400@uucv.org
SUMMARY:Board of Trustees
DESCRIPTION:
URL:https://uucv.org/event/board-of-trustees-2/2027-07-20/
LOCATION:Board Room and ZOOM https://zoom.us/my/uucvpa
END:VEVENT
BEGIN:VEVENT
DTSTART;TZID=America/New_York:20270721T103000
DTEND;TZID=America/New_York:20270721T120000
DTSTAMP:20260420T032102
CREATED:20250625T180818Z
LAST-MODIFIED:20250625T180818Z
UID:10020482-1816165800-1816171200@uucv.org
SUMMARY:Staff Meeting
DESCRIPTION:
URL:https://uucv.org/event/staff-meeting-2/2027-07-21/
LOCATION:Rev. Phoenix Office
END:VEVENT
BEGIN:VEVENT
DTSTART;TZID=America/New_York:20270721T163000
DTEND;TZID=America/New_York:20270721T170000
DTSTAMP:20260420T032102
CREATED:20241224T152618Z
LAST-MODIFIED:20241224T152619Z
UID:10018196-1816187400-1816189200@uucv.org
SUMMARY:Worship Tech Meeting
DESCRIPTION:
URL:https://uucv.org/event/worship-tech-meeting-2-2-2/2027-07-21/
LOCATION:Board and ZOOM https://zoom.us/my/meetingsuucv 572/887-2212
END:VEVENT
BEGIN:VEVENT
DTSTART;TZID=America/New_York:20270721T183000
DTEND;TZID=America/New_York:20270721T200000
DTSTAMP:20260420T032102
CREATED:20250115T174735Z
LAST-MODIFIED:20250626T160726Z
UID:10020785-1816194600-1816200000@uucv.org
SUMMARY:Social Justice Meeting
DESCRIPTION:
URL:https://uucv.org/event/social-justice-meeting-2/2027-07-21/
LOCATION:Board Room and ZOOM https://zoom.us/my/uucvpa
END:VEVENT
BEGIN:VEVENT
DTSTART;TZID=America/New_York:20270721T190000
DTEND;TZID=America/New_York:20270721T210000
DTSTAMP:20260420T032103
CREATED:20250318T175301Z
LAST-MODIFIED:20250318T175301Z
UID:10019741-1816196400-1816203600@uucv.org
SUMMARY:Men's Group
DESCRIPTION:
URL:https://uucv.org/event/mens-group/2027-07-21/
LOCATION:Area Homes
END:VEVENT
BEGIN:VEVENT
DTSTART;TZID=America/New_York:20270725T090000
DTEND;TZID=America/New_York:20270725T100000
DTSTAMP:20260420T032103
CREATED:20251120T181840Z
LAST-MODIFIED:20251120T181840Z
UID:10021690-1816506000-1816509600@uucv.org
SUMMARY:Roots & Wings Community Meet-Up
DESCRIPTION:
URL:https://uucv.org/event/roots-wings-community-meet-up-2/2027-07-25/
LOCATION:Dining Hall
END:VEVENT
BEGIN:VEVENT
DTSTART;TZID=America/New_York:20270725T183000
DTEND;TZID=America/New_York:20270725T203000
DTSTAMP:20260420T032103
CREATED:20250115T181530Z
LAST-MODIFIED:20250115T181546Z
UID:10018789-1816540200-1816547400@uucv.org
SUMMARY:UUCV Book Group
DESCRIPTION:
URL:https://uucv.org/event/uucv-book-group-5/2027-07-25/
LOCATION:ZOOM https://zoom.us/my/uucvpa
END:VEVENT
BEGIN:VEVENT
DTSTART;TZID=America/New_York:20270727T180000
DTEND;TZID=America/New_York:20270727T200000
DTSTAMP:20260420T032103
CREATED:20251031T160914Z
LAST-MODIFIED:20251031T160914Z
UID:10021544-1816711200-1816718400@uucv.org
SUMMARY:COM
DESCRIPTION:
URL:https://uucv.org/event/com/2027-07-27/
LOCATION:Welcome Center
END:VEVENT
BEGIN:VEVENT
DTSTART;TZID=America/New_York:20270803T194500
DTEND;TZID=America/New_York:20270803T210000
DTSTAMP:20260420T032103
CREATED:20250827T165850Z
LAST-MODIFIED:20250827T165850Z
UID:10021110-1817322300-1817326800@uucv.org
SUMMARY:Worship Leadership Team
DESCRIPTION:
URL:https://uucv.org/event/worship-leadership-team/2027-08-03/
LOCATION:Rev. Phoenix ZOOM
END:VEVENT
BEGIN:VEVENT
DTSTART;TZID=America/New_York:20270805T191500
DTEND;TZID=America/New_York:20270805T203000
DTSTAMP:20260420T032103
CREATED:20250829T170500Z
LAST-MODIFIED:20250829T170713Z
UID:10021170-1817493300-1817497800@uucv.org
SUMMARY:Soul Matters Small Group Open to ALL
DESCRIPTION:
URL:https://uucv.org/event/soul-matters-small-group/2027-08-05/
LOCATION:ZOOM https://zoom.us/my/uucvpa
END:VEVENT
BEGIN:VEVENT
DTSTART;TZID=America/New_York:20270806T180000
DTEND;TZID=America/New_York:20270806T200000
DTSTAMP:20260420T032103
CREATED:20251031T160512Z
LAST-MODIFIED:20251031T160512Z
UID:10021424-1817575200-1817582400@uucv.org
SUMMARY:First Fridays Community Night
DESCRIPTION:
URL:https://uucv.org/event/first-fridays-community-night/2027-08-06/
LOCATION:Dining Room
END:VEVENT
BEGIN:VEVENT
DTSTART;TZID=America/New_York:20270808T083000
DTEND;TZID=America/New_York:20270808T100000
DTSTAMP:20260420T032103
CREATED:20250827T133907Z
LAST-MODIFIED:20250827T133908Z
UID:10021023-1817713800-1817719200@uucv.org
SUMMARY:Word Weavers Small Group
DESCRIPTION:
URL:https://uucv.org/event/word-weavers-small-group-2/2027-08-08/
LOCATION:Board Room
END:VEVENT
BEGIN:VEVENT
DTSTART;TZID=America/New_York:20270809T193000
DTEND;TZID=America/New_York:20270809T210000
DTSTAMP:20260420T032103
CREATED:20250827T133745Z
LAST-MODIFIED:20250827T133746Z
UID:10020964-1817839800-1817845200@uucv.org
SUMMARY:Finance
DESCRIPTION:
URL:https://uucv.org/event/finance-3-2-2-2/2027-08-09/
LOCATION:Offsite ZOOM
END:VEVENT
BEGIN:VEVENT
DTSTART;TZID=America/New_York:20270813T120000
DTEND;TZID=America/New_York:20270813T140000
DTSTAMP:20260420T032103
CREATED:20251125T191056Z
LAST-MODIFIED:20251125T191057Z
UID:10021798-1818158400-1818165600@uucv.org
SUMMARY:Soup Matters for All
DESCRIPTION:
URL:https://uucv.org/event/soup-matters-for-all-2/2027-08-13/
LOCATION:Dining Room
END:VEVENT
BEGIN:VEVENT
DTSTART;TZID=America/New_York:20270814T090000
DTEND;TZID=America/New_York:20270814T110000
DTSTAMP:20260420T032103
CREATED:20250910T142406Z
LAST-MODIFIED:20250910T172931Z
UID:10021292-1818234000-1818241200@uucv.org
SUMMARY:Caregivers Circle
DESCRIPTION:
URL:https://uucv.org/event/caregivers-circle-8/2027-08-14/
LOCATION:Youuth Room
END:VEVENT
END:VCALENDAR