BEGIN:VCALENDAR
VERSION:2.0
PRODID:-//Unitarian Universalists of the Cumberland Valley - ECPv6.15.20//NONSGML v1.0//EN
CALSCALE:GREGORIAN
METHOD:PUBLISH
X-WR-CALNAME:Unitarian Universalists of the Cumberland Valley
X-ORIGINAL-URL:https://uucv.org
X-WR-CALDESC:Events for Unitarian Universalists of the Cumberland Valley
REFRESH-INTERVAL;VALUE=DURATION:PT1H
X-Robots-Tag:noindex
X-PUBLISHED-TTL:PT1H
BEGIN:VTIMEZONE
TZID:America/New_York
BEGIN:DAYLIGHT
TZOFFSETFROM:-0500
TZOFFSETTO:-0400
TZNAME:EDT
DTSTART:20260308T070000
END:DAYLIGHT
BEGIN:STANDARD
TZOFFSETFROM:-0400
TZOFFSETTO:-0500
TZNAME:EST
DTSTART:20261101T060000
END:STANDARD
BEGIN:DAYLIGHT
TZOFFSETFROM:-0500
TZOFFSETTO:-0400
TZNAME:EDT
DTSTART:20270314T070000
END:DAYLIGHT
BEGIN:STANDARD
TZOFFSETFROM:-0400
TZOFFSETTO:-0500
TZNAME:EST
DTSTART:20271107T060000
END:STANDARD
BEGIN:DAYLIGHT
TZOFFSETFROM:-0500
TZOFFSETTO:-0400
TZNAME:EDT
DTSTART:20280312T070000
END:DAYLIGHT
BEGIN:STANDARD
TZOFFSETFROM:-0400
TZOFFSETTO:-0500
TZNAME:EST
DTSTART:20281105T060000
END:STANDARD
END:VTIMEZONE
BEGIN:VEVENT
DTSTART;TZID=America/New_York:20270611T120000
DTEND;TZID=America/New_York:20270611T140000
DTSTAMP:20260420T001632
CREATED:20251125T191056Z
LAST-MODIFIED:20251125T191057Z
UID:10021796-1812715200-1812722400@uucv.org
SUMMARY:Soup Matters for All
DESCRIPTION:
URL:https://uucv.org/event/soup-matters-for-all-2/2027-06-11/
LOCATION:Dining Room
END:VEVENT
BEGIN:VEVENT
DTSTART;TZID=America/New_York:20270612T090000
DTEND;TZID=America/New_York:20270612T110000
DTSTAMP:20260420T001632
CREATED:20250910T142406Z
LAST-MODIFIED:20250910T172931Z
UID:10021290-1812790800-1812798000@uucv.org
SUMMARY:Caregivers Circle
DESCRIPTION:
URL:https://uucv.org/event/caregivers-circle-8/2027-06-12/
LOCATION:Youuth Room
END:VEVENT
BEGIN:VEVENT
DTSTART;TZID=America/New_York:20270613T083000
DTEND;TZID=America/New_York:20270613T100000
DTSTAMP:20260420T001632
CREATED:20250827T133907Z
LAST-MODIFIED:20250827T133908Z
UID:10021021-1812875400-1812880800@uucv.org
SUMMARY:Word Weavers Small Group
DESCRIPTION:
URL:https://uucv.org/event/word-weavers-small-group-2/2027-06-13/
LOCATION:Board Room
END:VEVENT
BEGIN:VEVENT
DTSTART;TZID=America/New_York:20270614T193000
DTEND;TZID=America/New_York:20270614T210000
DTSTAMP:20260420T001632
CREATED:20250827T133745Z
LAST-MODIFIED:20250827T133746Z
UID:10020962-1813001400-1813006800@uucv.org
SUMMARY:Finance
DESCRIPTION:
URL:https://uucv.org/event/finance-3-2-2-2/2027-06-14/
LOCATION:Offsite ZOOM
END:VEVENT
BEGIN:VEVENT
DTSTART;TZID=America/New_York:20270615T183000
DTEND;TZID=America/New_York:20270615T203000
DTSTAMP:20260420T001632
CREATED:20250926T182036Z
LAST-MODIFIED:20250926T182037Z
UID:10021356-1813084200-1813091400@uucv.org
SUMMARY:Board of Trustees
DESCRIPTION:
URL:https://uucv.org/event/board-of-trustees-2/2027-06-15/
LOCATION:Board Room and ZOOM https://zoom.us/my/uucvpa
END:VEVENT
BEGIN:VEVENT
DTSTART;TZID=America/New_York:20270616T183000
DTEND;TZID=America/New_York:20270616T200000
DTSTAMP:20260420T001632
CREATED:20250115T174735Z
LAST-MODIFIED:20250626T160726Z
UID:10020784-1813170600-1813176000@uucv.org
SUMMARY:Social Justice Meeting
DESCRIPTION:
URL:https://uucv.org/event/social-justice-meeting-2/2027-06-16/
LOCATION:Board Room and ZOOM https://zoom.us/my/uucvpa
END:VEVENT
BEGIN:VEVENT
DTSTART;TZID=America/New_York:20270616T190000
DTEND;TZID=America/New_York:20270616T210000
DTSTAMP:20260420T001632
CREATED:20250318T175301Z
LAST-MODIFIED:20250318T175301Z
UID:10019740-1813172400-1813179600@uucv.org
SUMMARY:Men's Group
DESCRIPTION:
URL:https://uucv.org/event/mens-group/2027-06-16/
LOCATION:Area Homes
END:VEVENT
BEGIN:VEVENT
DTSTART;TZID=America/New_York:20270617T133000
DTEND;TZID=America/New_York:20270617T150000
DTSTAMP:20260420T001632
CREATED:20250626T161019Z
LAST-MODIFIED:20250626T161019Z
UID:10020842-1813239000-1813244400@uucv.org
SUMMARY:Daytimers
DESCRIPTION:
URL:https://uucv.org/event/daytimers/2027-06-17/
LOCATION:Meeting Room
END:VEVENT
BEGIN:VEVENT
DTSTART;TZID=America/New_York:20270617T140000
DTEND;TZID=America/New_York:20270617T160000
DTSTAMP:20260420T001632
CREATED:20250115T181345Z
LAST-MODIFIED:20250115T181345Z
UID:10018728-1813240800-1813248000@uucv.org
SUMMARY:The Divers Small Group
DESCRIPTION:
URL:https://uucv.org/event/gail-mike-small-group-2/2027-06-17/
LOCATION:Youuth Room
END:VEVENT
BEGIN:VEVENT
DTSTART;TZID=America/New_York:20270617T191500
DTEND;TZID=America/New_York:20270617T203000
DTSTAMP:20260420T001632
CREATED:20250829T170618Z
LAST-MODIFIED:20250829T170618Z
UID:10021228-1813259700-1813264200@uucv.org
SUMMARY:Soul Matters Small Group Open to ALL
DESCRIPTION:
URL:https://uucv.org/event/soul-matters-small-group-open-to-all/2027-06-17/
LOCATION:https://zoom.us/my/uucvpa
END:VEVENT
BEGIN:VEVENT
DTSTART;TZID=America/New_York:20270618T163000
DTEND;TZID=America/New_York:20270618T180000
DTSTAMP:20260420T001632
CREATED:20250318T175806Z
LAST-MODIFIED:20250625T181544Z
UID:10020718-1813336200-1813341600@uucv.org
SUMMARY:Namely Women's Group - Area Homes
DESCRIPTION:
URL:https://uucv.org/event/namely-womens-group-backyards-2/2027-06-18/
LOCATION:Area Homes\, PA
CATEGORIES:SGM
END:VEVENT
BEGIN:VEVENT
DTSTART;TZID=America/New_York:20270620T120000
DTEND;TZID=America/New_York:20270620T130000
DTSTAMP:20260420T001632
CREATED:20251031T161626Z
LAST-MODIFIED:20251031T161626Z
UID:10021604-1813492800-1813496400@uucv.org
SUMMARY:Outreach and Membership Meeting
DESCRIPTION:
URL:https://uucv.org/event/outreach-and-membership-meeting/2027-06-20/
LOCATION:Welcome Center
END:VEVENT
BEGIN:VEVENT
DTSTART;TZID=America/New_York:20270620T120000
DTEND;TZID=America/New_York:20270620T133000
DTSTAMP:20260420T001632
CREATED:20240328T143311Z
LAST-MODIFIED:20240328T143312Z
UID:10017384-1813492800-1813498200@uucv.org
SUMMARY:Worship Associates
DESCRIPTION:
URL:https://uucv.org/event/worship-associates-2/2027-06-20/
LOCATION:Social Hall\, PA\, United States
END:VEVENT
BEGIN:VEVENT
DTSTART;TZID=America/New_York:20270620T133000
DTEND;TZID=America/New_York:20270620T133000
DTSTAMP:20260420T001632
CREATED:20250318T175647Z
LAST-MODIFIED:20250318T175647Z
UID:10016339-1813498200-1813498200@uucv.org
SUMMARY:Kumquats - Joan's House
DESCRIPTION:
URL:https://uucv.org/event/kumquats-joans-house-2/2027-06-20/
LOCATION:Area Homes
END:VEVENT
BEGIN:VEVENT
DTSTART;TZID=America/New_York:20270627T183000
DTEND;TZID=America/New_York:20270627T203000
DTSTAMP:20260420T001632
CREATED:20250115T181530Z
LAST-MODIFIED:20250115T181546Z
UID:10018788-1814121000-1814128200@uucv.org
SUMMARY:UUCV Book Group
DESCRIPTION:
URL:https://uucv.org/event/uucv-book-group-5/2027-06-27/
LOCATION:ZOOM https://zoom.us/my/uucvpa
END:VEVENT
END:VCALENDAR