BEGIN:VCALENDAR
VERSION:2.0
PRODID:-//Unitarian Universalists of the Cumberland Valley - ECPv6.15.20//NONSGML v1.0//EN
CALSCALE:GREGORIAN
METHOD:PUBLISH
X-WR-CALNAME:Unitarian Universalists of the Cumberland Valley
X-ORIGINAL-URL:https://uucv.org
X-WR-CALDESC:Events for Unitarian Universalists of the Cumberland Valley
REFRESH-INTERVAL;VALUE=DURATION:PT1H
X-Robots-Tag:noindex
X-PUBLISHED-TTL:PT1H
BEGIN:VTIMEZONE
TZID:America/New_York
BEGIN:DAYLIGHT
TZOFFSETFROM:-0500
TZOFFSETTO:-0400
TZNAME:EDT
DTSTART:20260308T070000
END:DAYLIGHT
BEGIN:STANDARD
TZOFFSETFROM:-0400
TZOFFSETTO:-0500
TZNAME:EST
DTSTART:20261101T060000
END:STANDARD
BEGIN:DAYLIGHT
TZOFFSETFROM:-0500
TZOFFSETTO:-0400
TZNAME:EDT
DTSTART:20270314T070000
END:DAYLIGHT
BEGIN:STANDARD
TZOFFSETFROM:-0400
TZOFFSETTO:-0500
TZNAME:EST
DTSTART:20271107T060000
END:STANDARD
BEGIN:DAYLIGHT
TZOFFSETFROM:-0500
TZOFFSETTO:-0400
TZNAME:EDT
DTSTART:20280312T070000
END:DAYLIGHT
BEGIN:STANDARD
TZOFFSETFROM:-0400
TZOFFSETTO:-0500
TZNAME:EST
DTSTART:20281105T060000
END:STANDARD
END:VTIMEZONE
BEGIN:VEVENT
DTSTART;TZID=America/New_York:20270412T193000
DTEND;TZID=America/New_York:20270412T210000
DTSTAMP:20260420T015114
CREATED:20250827T133745Z
LAST-MODIFIED:20250827T133746Z
UID:10020960-1807558200-1807563600@uucv.org
SUMMARY:Finance
DESCRIPTION:
URL:https://uucv.org/event/finance-3-2-2-2/2027-04-12/
LOCATION:Offsite ZOOM
END:VEVENT
BEGIN:VEVENT
DTSTART;TZID=America/New_York:20270415T133000
DTEND;TZID=America/New_York:20270415T150000
DTSTAMP:20260420T015114
CREATED:20250626T161019Z
LAST-MODIFIED:20250626T161019Z
UID:10020840-1807795800-1807801200@uucv.org
SUMMARY:Daytimers
DESCRIPTION:
URL:https://uucv.org/event/daytimers/2027-04-15/
LOCATION:Meeting Room
END:VEVENT
BEGIN:VEVENT
DTSTART;TZID=America/New_York:20270415T140000
DTEND;TZID=America/New_York:20270415T160000
DTSTAMP:20260420T015114
CREATED:20250115T181345Z
LAST-MODIFIED:20250115T181345Z
UID:10018726-1807797600-1807804800@uucv.org
SUMMARY:The Divers Small Group
DESCRIPTION:
URL:https://uucv.org/event/gail-mike-small-group-2/2027-04-15/
LOCATION:Youuth Room
END:VEVENT
BEGIN:VEVENT
DTSTART;TZID=America/New_York:20270415T191500
DTEND;TZID=America/New_York:20270415T203000
DTSTAMP:20260420T015114
CREATED:20250829T170618Z
LAST-MODIFIED:20250829T170618Z
UID:10021226-1807816500-1807821000@uucv.org
SUMMARY:Soul Matters Small Group Open to ALL
DESCRIPTION:
URL:https://uucv.org/event/soul-matters-small-group-open-to-all/2027-04-15/
LOCATION:https://zoom.us/my/uucvpa
END:VEVENT
BEGIN:VEVENT
DTSTART;TZID=America/New_York:20270416T163000
DTEND;TZID=America/New_York:20270416T180000
DTSTAMP:20260420T015114
CREATED:20250318T175806Z
LAST-MODIFIED:20250625T181544Z
UID:10020716-1807893000-1807898400@uucv.org
SUMMARY:Namely Women's Group - Area Homes
DESCRIPTION:
URL:https://uucv.org/event/namely-womens-group-backyards-2/2027-04-16/
LOCATION:Area Homes\, PA
CATEGORIES:SGM
END:VEVENT
BEGIN:VEVENT
DTSTART;TZID=America/New_York:20270418T120000
DTEND;TZID=America/New_York:20270418T130000
DTSTAMP:20260420T015114
CREATED:20251031T161626Z
LAST-MODIFIED:20251031T161626Z
UID:10021602-1808049600-1808053200@uucv.org
SUMMARY:Outreach and Membership Meeting
DESCRIPTION:
URL:https://uucv.org/event/outreach-and-membership-meeting/2027-04-18/
LOCATION:Welcome Center
END:VEVENT
BEGIN:VEVENT
DTSTART;TZID=America/New_York:20270418T120000
DTEND;TZID=America/New_York:20270418T133000
DTSTAMP:20260420T015114
CREATED:20240328T143311Z
LAST-MODIFIED:20240328T143312Z
UID:10017382-1808049600-1808055000@uucv.org
SUMMARY:Worship Associates
DESCRIPTION:
URL:https://uucv.org/event/worship-associates-2/2027-04-18/
LOCATION:Social Hall\, PA\, United States
END:VEVENT
BEGIN:VEVENT
DTSTART;TZID=America/New_York:20270418T133000
DTEND;TZID=America/New_York:20270418T133000
DTSTAMP:20260420T015114
CREATED:20250318T175647Z
LAST-MODIFIED:20250318T175647Z
UID:10016337-1808055000-1808055000@uucv.org
SUMMARY:Kumquats - Joan's House
DESCRIPTION:
URL:https://uucv.org/event/kumquats-joans-house-2/2027-04-18/
LOCATION:Area Homes
END:VEVENT
BEGIN:VEVENT
DTSTART;TZID=America/New_York:20270420T183000
DTEND;TZID=America/New_York:20270420T203000
DTSTAMP:20260420T015114
CREATED:20250926T182036Z
LAST-MODIFIED:20250926T182037Z
UID:10021354-1808245800-1808253000@uucv.org
SUMMARY:Board of Trustees
DESCRIPTION:
URL:https://uucv.org/event/board-of-trustees-2/2027-04-20/
LOCATION:Board Room and ZOOM https://zoom.us/my/uucvpa
END:VEVENT
BEGIN:VEVENT
DTSTART;TZID=America/New_York:20270421T183000
DTEND;TZID=America/New_York:20270421T200000
DTSTAMP:20260420T015114
CREATED:20250115T174735Z
LAST-MODIFIED:20250626T160726Z
UID:10020782-1808332200-1808337600@uucv.org
SUMMARY:Social Justice Meeting
DESCRIPTION:
URL:https://uucv.org/event/social-justice-meeting-2/2027-04-21/
LOCATION:Board Room and ZOOM https://zoom.us/my/uucvpa
END:VEVENT
BEGIN:VEVENT
DTSTART;TZID=America/New_York:20270421T190000
DTEND;TZID=America/New_York:20270421T210000
DTSTAMP:20260420T015114
CREATED:20250318T175301Z
LAST-MODIFIED:20250318T175301Z
UID:10019738-1808334000-1808341200@uucv.org
SUMMARY:Men's Group
DESCRIPTION:
URL:https://uucv.org/event/mens-group/2027-04-21/
LOCATION:Area Homes
END:VEVENT
BEGIN:VEVENT
DTSTART;TZID=America/New_York:20270425T183000
DTEND;TZID=America/New_York:20270425T203000
DTSTAMP:20260420T015114
CREATED:20250115T181530Z
LAST-MODIFIED:20250115T181546Z
UID:10018786-1808677800-1808685000@uucv.org
SUMMARY:UUCV Book Group
DESCRIPTION:
URL:https://uucv.org/event/uucv-book-group-5/2027-04-25/
LOCATION:ZOOM https://zoom.us/my/uucvpa
END:VEVENT
BEGIN:VEVENT
DTSTART;TZID=America/New_York:20270427T180000
DTEND;TZID=America/New_York:20270427T200000
DTSTAMP:20260420T015114
CREATED:20251031T160914Z
LAST-MODIFIED:20251031T160914Z
UID:10021541-1808848800-1808856000@uucv.org
SUMMARY:COM
DESCRIPTION:
URL:https://uucv.org/event/com/2027-04-27/
LOCATION:Welcome Center
END:VEVENT
BEGIN:VEVENT
DTSTART;TZID=America/New_York:20270506T191500
DTEND;TZID=America/New_York:20270506T203000
DTSTAMP:20260420T015114
CREATED:20250829T170500Z
LAST-MODIFIED:20250829T170713Z
UID:10021167-1809630900-1809635400@uucv.org
SUMMARY:Soul Matters Small Group Open to ALL
DESCRIPTION:
URL:https://uucv.org/event/soul-matters-small-group/2027-05-06/
LOCATION:ZOOM https://zoom.us/my/uucvpa
END:VEVENT
BEGIN:VEVENT
DTSTART;TZID=America/New_York:20270507T180000
DTEND;TZID=America/New_York:20270507T200000
DTSTAMP:20260420T015114
CREATED:20251031T160512Z
LAST-MODIFIED:20251031T160512Z
UID:10021421-1809712800-1809720000@uucv.org
SUMMARY:First Fridays Community Night
DESCRIPTION:
URL:https://uucv.org/event/first-fridays-community-night/2027-05-07/
LOCATION:Dining Room
END:VEVENT
END:VCALENDAR