BEGIN:VCALENDAR
VERSION:2.0
PRODID:-//Unitarian Universalists of the Cumberland Valley - ECPv6.15.20//NONSGML v1.0//EN
CALSCALE:GREGORIAN
METHOD:PUBLISH
X-WR-CALNAME:Unitarian Universalists of the Cumberland Valley
X-ORIGINAL-URL:https://uucv.org
X-WR-CALDESC:Events for Unitarian Universalists of the Cumberland Valley
REFRESH-INTERVAL;VALUE=DURATION:PT1H
X-Robots-Tag:noindex
X-PUBLISHED-TTL:PT1H
BEGIN:VTIMEZONE
TZID:America/New_York
BEGIN:DAYLIGHT
TZOFFSETFROM:-0500
TZOFFSETTO:-0400
TZNAME:EDT
DTSTART:20260308T070000
END:DAYLIGHT
BEGIN:STANDARD
TZOFFSETFROM:-0400
TZOFFSETTO:-0500
TZNAME:EST
DTSTART:20261101T060000
END:STANDARD
BEGIN:DAYLIGHT
TZOFFSETFROM:-0500
TZOFFSETTO:-0400
TZNAME:EDT
DTSTART:20270314T070000
END:DAYLIGHT
BEGIN:STANDARD
TZOFFSETFROM:-0400
TZOFFSETTO:-0500
TZNAME:EST
DTSTART:20271107T060000
END:STANDARD
BEGIN:DAYLIGHT
TZOFFSETFROM:-0500
TZOFFSETTO:-0400
TZNAME:EDT
DTSTART:20280312T070000
END:DAYLIGHT
BEGIN:STANDARD
TZOFFSETFROM:-0400
TZOFFSETTO:-0500
TZNAME:EST
DTSTART:20281105T060000
END:STANDARD
END:VTIMEZONE
BEGIN:VEVENT
DTSTART;TZID=America/New_York:20270117T120000
DTEND;TZID=America/New_York:20270117T133000
DTSTAMP:20260419T174852
CREATED:20240328T143311Z
LAST-MODIFIED:20240328T143312Z
UID:10017379-1800187200-1800192600@uucv.org
SUMMARY:Worship Associates
DESCRIPTION:
URL:https://uucv.org/event/worship-associates-2/2027-01-17/
LOCATION:Social Hall\, PA\, United States
END:VEVENT
BEGIN:VEVENT
DTSTART;TZID=America/New_York:20270117T133000
DTEND;TZID=America/New_York:20270117T133000
DTSTAMP:20260419T174852
CREATED:20250318T175647Z
LAST-MODIFIED:20250318T175647Z
UID:10016334-1800192600-1800192600@uucv.org
SUMMARY:Kumquats - Joan's House
DESCRIPTION:
URL:https://uucv.org/event/kumquats-joans-house-2/2027-01-17/
LOCATION:Area Homes
END:VEVENT
BEGIN:VEVENT
DTSTART;TZID=America/New_York:20270119T183000
DTEND;TZID=America/New_York:20270119T203000
DTSTAMP:20260419T174852
CREATED:20250926T182036Z
LAST-MODIFIED:20250926T182037Z
UID:10021351-1800383400-1800390600@uucv.org
SUMMARY:Board of Trustees
DESCRIPTION:
URL:https://uucv.org/event/board-of-trustees-2/2027-01-19/
LOCATION:Board Room and ZOOM https://zoom.us/my/uucvpa
END:VEVENT
BEGIN:VEVENT
DTSTART;TZID=America/New_York:20270120T183000
DTEND;TZID=America/New_York:20270120T200000
DTSTAMP:20260419T174852
CREATED:20250115T174735Z
LAST-MODIFIED:20250626T160726Z
UID:10020779-1800469800-1800475200@uucv.org
SUMMARY:Social Justice Meeting
DESCRIPTION:
URL:https://uucv.org/event/social-justice-meeting-2/2027-01-20/
LOCATION:Board Room and ZOOM https://zoom.us/my/uucvpa
END:VEVENT
BEGIN:VEVENT
DTSTART;TZID=America/New_York:20270120T190000
DTEND;TZID=America/New_York:20270120T210000
DTSTAMP:20260419T174852
CREATED:20250318T175301Z
LAST-MODIFIED:20250318T175301Z
UID:10019735-1800471600-1800478800@uucv.org
SUMMARY:Men's Group
DESCRIPTION:
URL:https://uucv.org/event/mens-group/2027-01-20/
LOCATION:Area Homes
END:VEVENT
BEGIN:VEVENT
DTSTART;TZID=America/New_York:20270121T133000
DTEND;TZID=America/New_York:20270121T150000
DTSTAMP:20260419T174852
CREATED:20250626T161019Z
LAST-MODIFIED:20250626T161019Z
UID:10020837-1800538200-1800543600@uucv.org
SUMMARY:Daytimers
DESCRIPTION:
URL:https://uucv.org/event/daytimers/2027-01-21/
LOCATION:Meeting Room
END:VEVENT
BEGIN:VEVENT
DTSTART;TZID=America/New_York:20270121T140000
DTEND;TZID=America/New_York:20270121T160000
DTSTAMP:20260419T174852
CREATED:20250115T181345Z
LAST-MODIFIED:20250115T181345Z
UID:10018723-1800540000-1800547200@uucv.org
SUMMARY:The Divers Small Group
DESCRIPTION:
URL:https://uucv.org/event/gail-mike-small-group-2/2027-01-21/
LOCATION:Youuth Room
END:VEVENT
BEGIN:VEVENT
DTSTART;TZID=America/New_York:20270121T191500
DTEND;TZID=America/New_York:20270121T203000
DTSTAMP:20260419T174852
CREATED:20250829T170618Z
LAST-MODIFIED:20250829T170618Z
UID:10021223-1800558900-1800563400@uucv.org
SUMMARY:Soul Matters Small Group Open to ALL
DESCRIPTION:
URL:https://uucv.org/event/soul-matters-small-group-open-to-all/2027-01-21/
LOCATION:https://zoom.us/my/uucvpa
END:VEVENT
BEGIN:VEVENT
DTSTART;TZID=America/New_York:20270124T183000
DTEND;TZID=America/New_York:20270124T203000
DTSTAMP:20260419T174852
CREATED:20250115T181530Z
LAST-MODIFIED:20250115T181546Z
UID:10018783-1800815400-1800822600@uucv.org
SUMMARY:UUCV Book Group
DESCRIPTION:
URL:https://uucv.org/event/uucv-book-group-5/2027-01-24/
LOCATION:ZOOM https://zoom.us/my/uucvpa
END:VEVENT
BEGIN:VEVENT
DTSTART;TZID=America/New_York:20270126T180000
DTEND;TZID=America/New_York:20270126T200000
DTSTAMP:20260419T174852
CREATED:20251031T160914Z
LAST-MODIFIED:20251031T160914Z
UID:10021538-1800986400-1800993600@uucv.org
SUMMARY:COM
DESCRIPTION:
URL:https://uucv.org/event/com/2027-01-26/
LOCATION:Welcome Center
END:VEVENT
BEGIN:VEVENT
DTSTART;TZID=America/New_York:20270202T194500
DTEND;TZID=America/New_York:20270202T210000
DTSTAMP:20260419T174852
CREATED:20250827T165850Z
LAST-MODIFIED:20250827T165850Z
UID:10021104-1801597500-1801602000@uucv.org
SUMMARY:Worship Leadership Team
DESCRIPTION:
URL:https://uucv.org/event/worship-leadership-team/2027-02-02/
LOCATION:Rev. Phoenix ZOOM
END:VEVENT
BEGIN:VEVENT
DTSTART;TZID=America/New_York:20270204T191500
DTEND;TZID=America/New_York:20270204T203000
DTSTAMP:20260419T174852
CREATED:20250829T170500Z
LAST-MODIFIED:20250829T170713Z
UID:10021164-1801768500-1801773000@uucv.org
SUMMARY:Soul Matters Small Group Open to ALL
DESCRIPTION:
URL:https://uucv.org/event/soul-matters-small-group/2027-02-04/
LOCATION:ZOOM https://zoom.us/my/uucvpa
END:VEVENT
BEGIN:VEVENT
DTSTART;TZID=America/New_York:20270205T180000
DTEND;TZID=America/New_York:20270205T200000
DTSTAMP:20260419T174852
CREATED:20251031T160512Z
LAST-MODIFIED:20251031T160512Z
UID:10021418-1801850400-1801857600@uucv.org
SUMMARY:First Fridays Community Night
DESCRIPTION:
URL:https://uucv.org/event/first-fridays-community-night/2027-02-05/
LOCATION:Dining Room
END:VEVENT
BEGIN:VEVENT
DTSTART;TZID=America/New_York:20270212T120000
DTEND;TZID=America/New_York:20270212T140000
DTSTAMP:20260419T174852
CREATED:20251125T191056Z
LAST-MODIFIED:20251125T191057Z
UID:10021792-1802433600-1802440800@uucv.org
SUMMARY:Soup Matters for All
DESCRIPTION:
URL:https://uucv.org/event/soup-matters-for-all-2/2027-02-12/
LOCATION:Dining Room
END:VEVENT
BEGIN:VEVENT
DTSTART;TZID=America/New_York:20270213T090000
DTEND;TZID=America/New_York:20270213T110000
DTSTAMP:20260419T174852
CREATED:20250910T142406Z
LAST-MODIFIED:20250910T172931Z
UID:10021286-1802509200-1802516400@uucv.org
SUMMARY:Caregivers Circle
DESCRIPTION:
URL:https://uucv.org/event/caregivers-circle-8/2027-02-13/
LOCATION:Youuth Room
END:VEVENT
END:VCALENDAR