BEGIN:VCALENDAR
VERSION:2.0
PRODID:-//Unitarian Universalists of the Cumberland Valley - ECPv6.15.20//NONSGML v1.0//EN
CALSCALE:GREGORIAN
METHOD:PUBLISH
X-WR-CALNAME:Unitarian Universalists of the Cumberland Valley
X-ORIGINAL-URL:https://uucv.org
X-WR-CALDESC:Events for Unitarian Universalists of the Cumberland Valley
REFRESH-INTERVAL;VALUE=DURATION:PT1H
X-Robots-Tag:noindex
X-PUBLISHED-TTL:PT1H
BEGIN:VTIMEZONE
TZID:America/New_York
BEGIN:DAYLIGHT
TZOFFSETFROM:-0500
TZOFFSETTO:-0400
TZNAME:EDT
DTSTART:20250309T070000
END:DAYLIGHT
BEGIN:STANDARD
TZOFFSETFROM:-0400
TZOFFSETTO:-0500
TZNAME:EST
DTSTART:20251102T060000
END:STANDARD
BEGIN:DAYLIGHT
TZOFFSETFROM:-0500
TZOFFSETTO:-0400
TZNAME:EDT
DTSTART:20260308T070000
END:DAYLIGHT
BEGIN:STANDARD
TZOFFSETFROM:-0400
TZOFFSETTO:-0500
TZNAME:EST
DTSTART:20261101T060000
END:STANDARD
BEGIN:DAYLIGHT
TZOFFSETFROM:-0500
TZOFFSETTO:-0400
TZNAME:EDT
DTSTART:20270314T070000
END:DAYLIGHT
BEGIN:STANDARD
TZOFFSETFROM:-0400
TZOFFSETTO:-0500
TZNAME:EST
DTSTART:20271107T060000
END:STANDARD
BEGIN:DAYLIGHT
TZOFFSETFROM:-0500
TZOFFSETTO:-0400
TZNAME:EDT
DTSTART:20280312T070000
END:DAYLIGHT
BEGIN:STANDARD
TZOFFSETFROM:-0400
TZOFFSETTO:-0500
TZNAME:EST
DTSTART:20281105T060000
END:STANDARD
END:VTIMEZONE
BEGIN:VEVENT
DTSTART;TZID=America/New_York:20261218T163000
DTEND;TZID=America/New_York:20261218T180000
DTSTAMP:20260419T162639
CREATED:20250318T175806Z
LAST-MODIFIED:20250625T181544Z
UID:10020712-1797611400-1797616800@uucv.org
SUMMARY:Namely Women's Group - Area Homes
DESCRIPTION:
URL:https://uucv.org/event/namely-womens-group-backyards-2/2026-12-18/
LOCATION:Area Homes\, PA
CATEGORIES:SGM
END:VEVENT
BEGIN:VEVENT
DTSTART;TZID=America/New_York:20261220T103000
DTEND;TZID=America/New_York:20261220T113000
DTSTAMP:20260419T162639
CREATED:20230811T162352Z
LAST-MODIFIED:20230811T170330Z
UID:10015577-1797762600-1797766200@uucv.org
SUMMARY:Worship In-Person or ZOOM https://zoom.us/my/uucvpa
DESCRIPTION:
URL:https://uucv.org/event/worship-zoom-only-https-zoom-us-my-uucvpa-2/2026-12-20/
LOCATION:Social Hall\, PA\, United States
END:VEVENT
BEGIN:VEVENT
DTSTART;TZID=America/New_York:20261220T104500
DTEND;TZID=America/New_York:20261220T114500
DTSTAMP:20260419T162639
CREATED:20250508T170216Z
LAST-MODIFIED:20250508T170216Z
UID:10014181-1797763500-1797767100@uucv.org
SUMMARY:Religious Education K-12
DESCRIPTION:
URL:https://uucv.org/event/religious-education-k-12-2-2-2/2026-12-20/
LOCATION:Religious Education Classrooms\, 2 Forge Road\, Boiling Springs\, PA\, 17007\, United States
END:VEVENT
BEGIN:VEVENT
DTSTART;TZID=America/New_York:20261220T120000
DTEND;TZID=America/New_York:20261220T130000
DTSTAMP:20260419T162639
CREATED:20251031T161626Z
LAST-MODIFIED:20251031T161626Z
UID:10021598-1797768000-1797771600@uucv.org
SUMMARY:Outreach and Membership Meeting
DESCRIPTION:
URL:https://uucv.org/event/outreach-and-membership-meeting/2026-12-20/
LOCATION:Welcome Center
END:VEVENT
BEGIN:VEVENT
DTSTART;TZID=America/New_York:20261220T120000
DTEND;TZID=America/New_York:20261220T133000
DTSTAMP:20260419T162639
CREATED:20240328T143311Z
LAST-MODIFIED:20240328T143312Z
UID:10017378-1797768000-1797773400@uucv.org
SUMMARY:Worship Associates
DESCRIPTION:
URL:https://uucv.org/event/worship-associates-2/2026-12-20/
LOCATION:Social Hall\, PA\, United States
END:VEVENT
BEGIN:VEVENT
DTSTART;TZID=America/New_York:20261220T133000
DTEND;TZID=America/New_York:20261220T133000
DTSTAMP:20260419T162639
CREATED:20250318T175647Z
LAST-MODIFIED:20250318T175647Z
UID:10016333-1797773400-1797773400@uucv.org
SUMMARY:Kumquats - Joan's House
DESCRIPTION:
URL:https://uucv.org/event/kumquats-joans-house-2/2026-12-20/
LOCATION:Area Homes
END:VEVENT
BEGIN:VEVENT
DTSTART;TZID=America/New_York:20261222T180000
DTEND;TZID=America/New_York:20261222T200000
DTSTAMP:20260419T162639
CREATED:20251031T160914Z
LAST-MODIFIED:20251031T160914Z
UID:10021537-1797962400-1797969600@uucv.org
SUMMARY:COM
DESCRIPTION:
URL:https://uucv.org/event/com/2026-12-22/
LOCATION:Welcome Center
END:VEVENT
BEGIN:VEVENT
DTSTART;TZID=America/New_York:20261227T090000
DTEND;TZID=America/New_York:20261227T100000
DTSTAMP:20260419T162639
CREATED:20251120T181840Z
LAST-MODIFIED:20251120T181840Z
UID:10021675-1798362000-1798365600@uucv.org
SUMMARY:Roots & Wings Community Meet-Up
DESCRIPTION:
URL:https://uucv.org/event/roots-wings-community-meet-up-2/2026-12-27/
LOCATION:Dining Hall
END:VEVENT
BEGIN:VEVENT
DTSTART;TZID=America/New_York:20261227T183000
DTEND;TZID=America/New_York:20261227T203000
DTSTAMP:20260419T162639
CREATED:20250115T181530Z
LAST-MODIFIED:20250115T181546Z
UID:10018782-1798396200-1798403400@uucv.org
SUMMARY:UUCV Book Group
DESCRIPTION:
URL:https://uucv.org/event/uucv-book-group-5/2026-12-27/
LOCATION:ZOOM https://zoom.us/my/uucvpa
END:VEVENT
BEGIN:VEVENT
DTSTART;TZID=America/New_York:20270101T180000
DTEND;TZID=America/New_York:20270101T200000
DTSTAMP:20260419T162639
CREATED:20251031T160512Z
LAST-MODIFIED:20251031T160512Z
UID:10021417-1798826400-1798833600@uucv.org
SUMMARY:First Fridays Community Night
DESCRIPTION:
URL:https://uucv.org/event/first-fridays-community-night/2027-01-01/
LOCATION:Dining Room
END:VEVENT
BEGIN:VEVENT
DTSTART;TZID=America/New_York:20270105T194500
DTEND;TZID=America/New_York:20270105T210000
DTSTAMP:20260419T162639
CREATED:20250827T165850Z
LAST-MODIFIED:20250827T165850Z
UID:10021103-1799178300-1799182800@uucv.org
SUMMARY:Worship Leadership Team
DESCRIPTION:
URL:https://uucv.org/event/worship-leadership-team/2027-01-05/
LOCATION:Rev. Phoenix ZOOM
END:VEVENT
BEGIN:VEVENT
DTSTART;TZID=America/New_York:20270107T191500
DTEND;TZID=America/New_York:20270107T203000
DTSTAMP:20260419T162639
CREATED:20250829T170500Z
LAST-MODIFIED:20250829T170713Z
UID:10021163-1799349300-1799353800@uucv.org
SUMMARY:Soul Matters Small Group Open to ALL
DESCRIPTION:
URL:https://uucv.org/event/soul-matters-small-group/2027-01-07/
LOCATION:ZOOM https://zoom.us/my/uucvpa
END:VEVENT
BEGIN:VEVENT
DTSTART;TZID=America/New_York:20270108T120000
DTEND;TZID=America/New_York:20270108T140000
DTSTAMP:20260419T162639
CREATED:20251125T191056Z
LAST-MODIFIED:20251125T191057Z
UID:10021791-1799409600-1799416800@uucv.org
SUMMARY:Soup Matters for All
DESCRIPTION:
URL:https://uucv.org/event/soup-matters-for-all-2/2027-01-08/
LOCATION:Dining Room
END:VEVENT
BEGIN:VEVENT
DTSTART;TZID=America/New_York:20270109T090000
DTEND;TZID=America/New_York:20270109T110000
DTSTAMP:20260419T162639
CREATED:20250910T142406Z
LAST-MODIFIED:20250910T172931Z
UID:10021285-1799485200-1799492400@uucv.org
SUMMARY:Caregivers Circle
DESCRIPTION:
URL:https://uucv.org/event/caregivers-circle-8/2027-01-09/
LOCATION:Youuth Room
END:VEVENT
BEGIN:VEVENT
DTSTART;TZID=America/New_York:20270110T083000
DTEND;TZID=America/New_York:20270110T100000
DTSTAMP:20260419T162639
CREATED:20250827T133907Z
LAST-MODIFIED:20250827T133908Z
UID:10021016-1799569800-1799575200@uucv.org
SUMMARY:Word Weavers Small Group
DESCRIPTION:
URL:https://uucv.org/event/word-weavers-small-group-2/2027-01-10/
LOCATION:Board Room
END:VEVENT
END:VCALENDAR