BEGIN:VCALENDAR
VERSION:2.0
PRODID:-//Unitarian Universalists of the Cumberland Valley - ECPv6.15.20//NONSGML v1.0//EN
CALSCALE:GREGORIAN
METHOD:PUBLISH
X-WR-CALNAME:Unitarian Universalists of the Cumberland Valley
X-ORIGINAL-URL:https://uucv.org
X-WR-CALDESC:Events for Unitarian Universalists of the Cumberland Valley
REFRESH-INTERVAL;VALUE=DURATION:PT1H
X-Robots-Tag:noindex
X-PUBLISHED-TTL:PT1H
BEGIN:VTIMEZONE
TZID:America/New_York
BEGIN:DAYLIGHT
TZOFFSETFROM:-0500
TZOFFSETTO:-0400
TZNAME:EDT
DTSTART:20250309T070000
END:DAYLIGHT
BEGIN:STANDARD
TZOFFSETFROM:-0400
TZOFFSETTO:-0500
TZNAME:EST
DTSTART:20251102T060000
END:STANDARD
BEGIN:DAYLIGHT
TZOFFSETFROM:-0500
TZOFFSETTO:-0400
TZNAME:EDT
DTSTART:20260308T070000
END:DAYLIGHT
BEGIN:STANDARD
TZOFFSETFROM:-0400
TZOFFSETTO:-0500
TZNAME:EST
DTSTART:20261101T060000
END:STANDARD
BEGIN:DAYLIGHT
TZOFFSETFROM:-0500
TZOFFSETTO:-0400
TZNAME:EDT
DTSTART:20270314T070000
END:DAYLIGHT
BEGIN:STANDARD
TZOFFSETFROM:-0400
TZOFFSETTO:-0500
TZNAME:EST
DTSTART:20271107T060000
END:STANDARD
END:VTIMEZONE
BEGIN:VEVENT
DTSTART;TZID=America/New_York:20261018T120000
DTEND;TZID=America/New_York:20261018T133000
DTSTAMP:20260419T132552
CREATED:20240328T143311Z
LAST-MODIFIED:20240328T143312Z
UID:10017376-1792324800-1792330200@uucv.org
SUMMARY:Worship Associates
DESCRIPTION:
URL:https://uucv.org/event/worship-associates-2/2026-10-18/
LOCATION:Social Hall\, PA\, United States
END:VEVENT
BEGIN:VEVENT
DTSTART;TZID=America/New_York:20261018T133000
DTEND;TZID=America/New_York:20261018T133000
DTSTAMP:20260419T132552
CREATED:20250318T175647Z
LAST-MODIFIED:20250318T175647Z
UID:10016331-1792330200-1792330200@uucv.org
SUMMARY:Kumquats - Joan's House
DESCRIPTION:
URL:https://uucv.org/event/kumquats-joans-house-2/2026-10-18/
LOCATION:Area Homes
END:VEVENT
BEGIN:VEVENT
DTSTART;TZID=America/New_York:20261020T183000
DTEND;TZID=America/New_York:20261020T203000
DTSTAMP:20260419T132552
CREATED:20250926T182036Z
LAST-MODIFIED:20250926T182037Z
UID:10021348-1792521000-1792528200@uucv.org
SUMMARY:Board of Trustees
DESCRIPTION:
URL:https://uucv.org/event/board-of-trustees-2/2026-10-20/
LOCATION:Board Room and ZOOM https://zoom.us/my/uucvpa
END:VEVENT
BEGIN:VEVENT
DTSTART;TZID=America/New_York:20261021T183000
DTEND;TZID=America/New_York:20261021T200000
DTSTAMP:20260419T132552
CREATED:20250115T174735Z
LAST-MODIFIED:20250626T160726Z
UID:10020776-1792607400-1792612800@uucv.org
SUMMARY:Social Justice Meeting
DESCRIPTION:
URL:https://uucv.org/event/social-justice-meeting-2/2026-10-21/
LOCATION:Board Room and ZOOM https://zoom.us/my/uucvpa
END:VEVENT
BEGIN:VEVENT
DTSTART;TZID=America/New_York:20261021T190000
DTEND;TZID=America/New_York:20261021T210000
DTSTAMP:20260419T132552
CREATED:20250318T175301Z
LAST-MODIFIED:20250318T175301Z
UID:10019732-1792609200-1792616400@uucv.org
SUMMARY:Men's Group
DESCRIPTION:
URL:https://uucv.org/event/mens-group/2026-10-21/
LOCATION:Area Homes
END:VEVENT
BEGIN:VEVENT
DTSTART;TZID=America/New_York:20261022T184500
DTEND;TZID=America/New_York:20261022T204500
DTSTAMP:20260419T132552
CREATED:20250122T160647Z
LAST-MODIFIED:20250122T160648Z
UID:10018929-1792694700-1792701900@uucv.org
SUMMARY:UUCV Music Small Group
DESCRIPTION:
URL:https://uucv.org/event/uucv-music-small-group-2-2/2026-10-22/
LOCATION:Mary and Matts
END:VEVENT
BEGIN:VEVENT
DTSTART;TZID=America/New_York:20261025T183000
DTEND;TZID=America/New_York:20261025T203000
DTSTAMP:20260419T132552
CREATED:20250115T181530Z
LAST-MODIFIED:20250115T181546Z
UID:10018780-1792953000-1792960200@uucv.org
SUMMARY:UUCV Book Group
DESCRIPTION:
URL:https://uucv.org/event/uucv-book-group-5/2026-10-25/
LOCATION:ZOOM https://zoom.us/my/uucvpa
END:VEVENT
BEGIN:VEVENT
DTSTART;TZID=America/New_York:20261027T180000
DTEND;TZID=America/New_York:20261027T200000
DTSTAMP:20260419T132552
CREATED:20251031T160914Z
LAST-MODIFIED:20251031T160914Z
UID:10021535-1793124000-1793131200@uucv.org
SUMMARY:COM
DESCRIPTION:
URL:https://uucv.org/event/com/2026-10-27/
LOCATION:Welcome Center
END:VEVENT
BEGIN:VEVENT
DTSTART;TZID=America/New_York:20261103T194500
DTEND;TZID=America/New_York:20261103T210000
DTSTAMP:20260419T132552
CREATED:20250827T165850Z
LAST-MODIFIED:20250827T165850Z
UID:10021101-1793735100-1793739600@uucv.org
SUMMARY:Worship Leadership Team
DESCRIPTION:
URL:https://uucv.org/event/worship-leadership-team/2026-11-03/
LOCATION:Rev. Phoenix ZOOM
END:VEVENT
BEGIN:VEVENT
DTSTART;TZID=America/New_York:20261105T191500
DTEND;TZID=America/New_York:20261105T203000
DTSTAMP:20260419T132552
CREATED:20250829T170500Z
LAST-MODIFIED:20250829T170713Z
UID:10021161-1793906100-1793910600@uucv.org
SUMMARY:Soul Matters Small Group Open to ALL
DESCRIPTION:
URL:https://uucv.org/event/soul-matters-small-group/2026-11-05/
LOCATION:ZOOM https://zoom.us/my/uucvpa
END:VEVENT
BEGIN:VEVENT
DTSTART;TZID=America/New_York:20261106T180000
DTEND;TZID=America/New_York:20261106T200000
DTSTAMP:20260419T132552
CREATED:20251031T160512Z
LAST-MODIFIED:20251031T160512Z
UID:10021415-1793988000-1793995200@uucv.org
SUMMARY:First Fridays Community Night
DESCRIPTION:
URL:https://uucv.org/event/first-fridays-community-night/2026-11-06/
LOCATION:Dining Room
END:VEVENT
BEGIN:VEVENT
DTSTART;TZID=America/New_York:20261108T083000
DTEND;TZID=America/New_York:20261108T100000
DTSTAMP:20260419T132552
CREATED:20250827T133907Z
LAST-MODIFIED:20250827T133908Z
UID:10021014-1794126600-1794132000@uucv.org
SUMMARY:Word Weavers Small Group
DESCRIPTION:
URL:https://uucv.org/event/word-weavers-small-group-2/2026-11-08/
LOCATION:Board Room
END:VEVENT
BEGIN:VEVENT
DTSTART;TZID=America/New_York:20261109T193000
DTEND;TZID=America/New_York:20261109T210000
DTSTAMP:20260419T132552
CREATED:20250827T133745Z
LAST-MODIFIED:20250827T133746Z
UID:10020955-1794252600-1794258000@uucv.org
SUMMARY:Finance
DESCRIPTION:
URL:https://uucv.org/event/finance-3-2-2-2/2026-11-09/
LOCATION:Offsite ZOOM
END:VEVENT
BEGIN:VEVENT
DTSTART;TZID=America/New_York:20261113T120000
DTEND;TZID=America/New_York:20261113T140000
DTSTAMP:20260419T132552
CREATED:20251125T191056Z
LAST-MODIFIED:20251125T191057Z
UID:10021789-1794571200-1794578400@uucv.org
SUMMARY:Soup Matters for All
DESCRIPTION:
URL:https://uucv.org/event/soup-matters-for-all-2/2026-11-13/
LOCATION:Dining Room
END:VEVENT
BEGIN:VEVENT
DTSTART;TZID=America/New_York:20261114T090000
DTEND;TZID=America/New_York:20261114T110000
DTSTAMP:20260419T132552
CREATED:20250910T142406Z
LAST-MODIFIED:20250910T172931Z
UID:10021283-1794646800-1794654000@uucv.org
SUMMARY:Caregivers Circle
DESCRIPTION:
URL:https://uucv.org/event/caregivers-circle-8/2026-11-14/
LOCATION:Youuth Room
END:VEVENT
END:VCALENDAR