BEGIN:VCALENDAR
VERSION:2.0
PRODID:-//Unitarian Universalists of the Cumberland Valley - ECPv6.15.20//NONSGML v1.0//EN
CALSCALE:GREGORIAN
METHOD:PUBLISH
X-WR-CALNAME:Unitarian Universalists of the Cumberland Valley
X-ORIGINAL-URL:https://uucv.org
X-WR-CALDESC:Events for Unitarian Universalists of the Cumberland Valley
REFRESH-INTERVAL;VALUE=DURATION:PT1H
X-Robots-Tag:noindex
X-PUBLISHED-TTL:PT1H
BEGIN:VTIMEZONE
TZID:America/New_York
BEGIN:DAYLIGHT
TZOFFSETFROM:-0500
TZOFFSETTO:-0400
TZNAME:EDT
DTSTART:20220313T070000
END:DAYLIGHT
BEGIN:STANDARD
TZOFFSETFROM:-0400
TZOFFSETTO:-0500
TZNAME:EST
DTSTART:20221106T060000
END:STANDARD
BEGIN:DAYLIGHT
TZOFFSETFROM:-0500
TZOFFSETTO:-0400
TZNAME:EDT
DTSTART:20230312T070000
END:DAYLIGHT
BEGIN:STANDARD
TZOFFSETFROM:-0400
TZOFFSETTO:-0500
TZNAME:EST
DTSTART:20231105T060000
END:STANDARD
BEGIN:DAYLIGHT
TZOFFSETFROM:-0500
TZOFFSETTO:-0400
TZNAME:EDT
DTSTART:20240310T070000
END:DAYLIGHT
BEGIN:STANDARD
TZOFFSETFROM:-0400
TZOFFSETTO:-0500
TZNAME:EST
DTSTART:20241103T060000
END:STANDARD
END:VTIMEZONE
BEGIN:VEVENT
DTSTART;TZID=America/New_York:20231106T180000
DTEND;TZID=America/New_York:20231106T200000
DTSTAMP:20260420T200414
CREATED:20230811T165005Z
LAST-MODIFIED:20230811T165005Z
UID:10008246-1699293600-1699300800@uucv.org
SUMMARY:Executive Committee Meeting - ZOOM
DESCRIPTION:
URL:https://uucv.org/event/executive-committee-meeting-2021-10-11-2-2/
LOCATION:Board Room\, PA\, United States
CATEGORIES:Meetings
END:VEVENT
BEGIN:VEVENT
DTSTART;TZID=America/New_York:20231012T180000
DTEND;TZID=America/New_York:20231012T190000
DTSTAMP:20260420T200414
CREATED:20160212T182042Z
LAST-MODIFIED:20231106T164014Z
UID:10007858-1697133600-1697137200@uucv.org
SUMMARY:Finance
DESCRIPTION:
URL:https://uucv.org/event/finance/2023-10-12/
LOCATION:Board Room
END:VEVENT
BEGIN:VEVENT
DTSTART;TZID=America/New_York:20231010T180000
DTEND;TZID=America/New_York:20231010T200000
DTSTAMP:20260420T200414
CREATED:20230206T154519Z
LAST-MODIFIED:20230206T154519Z
UID:10013465-1696960800-1696968000@uucv.org
SUMMARY:Wheel of the Year
DESCRIPTION:
URL:https://uucv.org/event/wheel-of-the-year-3/
LOCATION:Area Homes
END:VEVENT
BEGIN:VEVENT
DTSTART;TZID=America/New_York:20230820T110000
DTEND;TZID=America/New_York:20230820T160000
DTSTAMP:20260420T200414
CREATED:20230814T130130Z
LAST-MODIFIED:20230814T130130Z
UID:10015664-1692529200-1692547200@uucv.org
SUMMARY:UU Revival - NO SERVICES AT UUCV
DESCRIPTION:
URL:https://uucv.org/event/uu-revival-no-services-at-uucv/
LOCATION:https://us02web.zoom.us/j/87826745579  The password is embedded\, but enter 1955 as the password if prompted.\, PA\, United States
END:VEVENT
BEGIN:VEVENT
DTSTART;TZID=America/New_York:20230820T110000
DTEND;TZID=America/New_York:20230820T160000
DTSTAMP:20260420T200414
CREATED:20230714T161317Z
LAST-MODIFIED:20230714T161317Z
UID:10014350-1692529200-1692547200@uucv.org
SUMMARY:UU Revival - Pavilion 22 Lancaster Park 1050 Rockford Road
DESCRIPTION:
URL:https://uucv.org/event/uu-revival-pavilion-22-lancaster-park-1050-rockford-road/
LOCATION:1050 Rockford Road\, Lancaster\, PA  Pavillion 22 at Lancaster County Park\, PA\, United States
END:VEVENT
BEGIN:VEVENT
DTSTART;TZID=America/New_York:20230820T103000
DTEND;TZID=America/New_York:20230820T113000
DTSTAMP:20260420T200414
CREATED:20230811T170030Z
LAST-MODIFIED:20230811T170030Z
UID:10015141-1692527400-1692531000@uucv.org
SUMMARY:UUCV CLOSED
DESCRIPTION:
URL:https://uucv.org/event/worship-zoom-only-https-zoom-us-my-uucvpa-3-2/
LOCATION:Social Hall\, PA\, United States
END:VEVENT
BEGIN:VEVENT
DTSTART;TZID=America/New_York:20230813T103000
DTEND;TZID=America/New_York:20230813T113000
DTSTAMP:20260420T200414
CREATED:20230811T170439Z
LAST-MODIFIED:20230811T170439Z
UID:10015663-1691922600-1691926200@uucv.org
SUMMARY:Worship In-Person or ZOOM  https://zoom.us/my/uucvpa
DESCRIPTION:
URL:https://uucv.org/event/worship-in-person-or-zoom-https-zoom-us-my-uucvpa/
LOCATION:Social Hall\, PA\, United States
END:VEVENT
BEGIN:VEVENT
DTSTART;TZID=America/New_York:20230806T090000
DTEND;TZID=America/New_York:20230806T100000
DTSTAMP:20260420T200414
CREATED:20230714T164402Z
LAST-MODIFIED:20230714T164402Z
UID:10014351-1691312400-1691316000@uucv.org
SUMMARY:RE Adult Ed Planning Meeting
DESCRIPTION:
URL:https://uucv.org/event/re-adult-ed-planning-meeting/
LOCATION:Board Room\, PA\, United States
END:VEVENT
BEGIN:VEVENT
DTSTART;TZID=America/New_York:20230805T090000
DTEND;TZID=America/New_York:20230805T140000
DTSTAMP:20260420T200414
CREATED:20230714T164756Z
LAST-MODIFIED:20230714T164756Z
UID:10014352-1691226000-1691244000@uucv.org
SUMMARY:UUCV Coffee Hour Bake
DESCRIPTION:
URL:https://uucv.org/event/uucv-coffee-hour-bake/
LOCATION:Kitchen and Dining Room\, PA\, United States
END:VEVENT
BEGIN:VEVENT
DTSTART;TZID=America/New_York:20230722T193000
DTEND;TZID=America/New_York:20230723T090000
DTSTAMP:20260420T200414
CREATED:20230714T133015Z
LAST-MODIFIED:20230714T133015Z
UID:10014349-1690054200-1690102800@uucv.org
SUMMARY:Youth Group Sleepover
DESCRIPTION:
URL:https://uucv.org/event/youth-group-sleepover/2023-07-22/2/
LOCATION:YUUth Room
END:VEVENT
BEGIN:VEVENT
DTSTART;TZID=America/New_York:20230719T190000
DTEND;TZID=America/New_York:20230719T203000
DTSTAMP:20260420T200414
CREATED:20160115T174343Z
LAST-MODIFIED:20211110T182745Z
UID:10006801-1689793200-1689798600@uucv.org
SUMMARY:Men's Group
DESCRIPTION:
URL:https://uucv.org/event/mens-group-carlisle-area-homes/2023-07-19/
LOCATION:Member’s Home\,  \,  \, PA
CATEGORIES:SGM
ORGANIZER;CN="Jon Tarrant":MAILTO:jwtarrant@comcast.net
END:VEVENT
BEGIN:VEVENT
DTSTART;TZID=America/New_York:20230711T180000
DTEND;TZID=America/New_York:20230711T200000
DTSTAMP:20260420T200415
CREATED:20230206T154426Z
LAST-MODIFIED:20230206T154426Z
UID:10013464-1689098400-1689105600@uucv.org
SUMMARY:Wheel of the Year
DESCRIPTION:
URL:https://uucv.org/event/wheel-of-the-year-2/
LOCATION:Area Homes
END:VEVENT
BEGIN:VEVENT
DTSTART;TZID=America/New_York:20230621T173000
DTEND;TZID=America/New_York:20230621T190000
DTSTAMP:20260420T200415
CREATED:20230309T175100Z
LAST-MODIFIED:20230309T175100Z
UID:10013477-1687368600-1687374000@uucv.org
SUMMARY:Family Happy Hour
DESCRIPTION:
URL:https://uucv.org/event/family-happy-hour/2023-06-21/
LOCATION:Desperate Times\, PA\, United States
END:VEVENT
BEGIN:VEVENT
DTSTART;TZID=America/New_York:20230617T140000
DTEND;TZID=America/New_York:20230617T200000
DTSTAMP:20260420T200415
CREATED:20221128T175256Z
LAST-MODIFIED:20221128T175748Z
UID:10011413-1687010400-1687032000@uucv.org
SUMMARY:Wild Woman Project’s New Moon Circles - Radiate
DESCRIPTION:
URL:https://uucv.org/event/wild-woman-projects-new-moon-circles-sustain-2023-06-17/
LOCATION:Social Hall\, PA\, United States
END:VEVENT
BEGIN:VEVENT
DTSTART;TZID=America/New_York:20230611T120000
DTEND;TZID=America/New_York:20230611T140000
DTSTAMP:20260420T200415
CREATED:20230217T154806Z
LAST-MODIFIED:20230530T152240Z
UID:10013731-1686484800-1686492000@uucv.org
SUMMARY:SGM Facilitators Meeting
DESCRIPTION:
URL:https://uucv.org/event/sgm-facilitators-meeting-3/
LOCATION:Board Room\, PA\, United States
END:VEVENT
BEGIN:VEVENT
DTSTART;TZID=America/New_York:20230521T090000
DTEND;TZID=America/New_York:20230521T100000
DTSTAMP:20260420T200415
CREATED:20230327T152650Z
LAST-MODIFIED:20230327T152650Z
UID:10013641-1684659600-1684663200@uucv.org
SUMMARY:Adult RE
DESCRIPTION:
URL:https://uucv.org/event/adult-re-5/
LOCATION:Board Room
END:VEVENT
BEGIN:VEVENT
DTSTART;TZID=America/New_York:20230520T140000
DTEND;TZID=America/New_York:20230520T200000
DTSTAMP:20260420T200415
CREATED:20221128T175256Z
LAST-MODIFIED:20221128T175719Z
UID:10011411-1684591200-1684612800@uucv.org
SUMMARY:Wild Woman Project’s New Moon Circles - Reveal
DESCRIPTION:
URL:https://uucv.org/event/wild-woman-projects-new-moon-circles-sustain-2023-05-20/
LOCATION:Social Hall\, PA\, United States
END:VEVENT
BEGIN:VEVENT
DTSTART;TZID=America/New_York:20230507T150000
DTEND;TZID=America/New_York:20230507T200000
DTSTAMP:20260420T200415
CREATED:20221118T190028Z
LAST-MODIFIED:20221118T190028Z
UID:10013398-1683471600-1683489600@uucv.org
SUMMARY:OWL
DESCRIPTION:
URL:https://uucv.org/event/owl-5/
LOCATION:Yuuth
END:VEVENT
BEGIN:VEVENT
DTSTART;TZID=America/New_York:20230507T120000
DTEND;TZID=America/New_York:20230507T130000
DTSTAMP:20260420T200415
CREATED:20230501T131811Z
LAST-MODIFIED:20230501T131811Z
UID:10013669-1683460800-1683464400@uucv.org
SUMMARY:Small Group Leaders
DESCRIPTION:
URL:https://uucv.org/event/small-group-leaders/
LOCATION:Board Room and ZOOM https://zoom.us/my/uucvpa
END:VEVENT
BEGIN:VEVENT
DTSTART;TZID=America/New_York:20230507T090000
DTEND;TZID=America/New_York:20230507T100000
DTSTAMP:20260420T200415
CREATED:20230327T152603Z
LAST-MODIFIED:20230327T152603Z
UID:10013640-1683450000-1683453600@uucv.org
SUMMARY:Adult RE
DESCRIPTION:
URL:https://uucv.org/event/adult-re-4/
LOCATION:Board Room
END:VEVENT
BEGIN:VEVENT
DTSTART;TZID=America/New_York:20230430T150000
DTEND;TZID=America/New_York:20230430T200000
DTSTAMP:20260420T200415
CREATED:20221118T185836Z
LAST-MODIFIED:20221118T185946Z
UID:10013397-1682866800-1682884800@uucv.org
SUMMARY:OWL
DESCRIPTION:
URL:https://uucv.org/event/owl-4/
LOCATION:Yuuth
END:VEVENT
BEGIN:VEVENT
DTSTART;TZID=America/New_York:20230423T150000
DTEND;TZID=America/New_York:20230423T200000
DTSTAMP:20260420T200415
CREATED:20221118T190452Z
LAST-MODIFIED:20221118T190452Z
UID:10013401-1682262000-1682280000@uucv.org
SUMMARY:OWL
DESCRIPTION:
URL:https://uucv.org/event/owl-8/
LOCATION:Yuuth
END:VEVENT
BEGIN:VEVENT
DTSTART;TZID=America/New_York:20230422T090000
DTEND;TZID=America/New_York:20230422T233000
DTSTAMP:20260420T200415
CREATED:20221118T190234Z
LAST-MODIFIED:20221118T190528Z
UID:10013400-1682154000-1682206200@uucv.org
SUMMARY:OWL
DESCRIPTION:
URL:https://uucv.org/event/owl-7/
LOCATION:Yuuth
END:VEVENT
BEGIN:VEVENT
DTSTART;TZID=America/New_York:20230421T150000
DTEND;TZID=America/New_York:20230421T233000
DTSTAMP:20260420T200415
CREATED:20221118T190158Z
LAST-MODIFIED:20221118T190158Z
UID:10013399-1682089200-1682119800@uucv.org
SUMMARY:OWL
DESCRIPTION:
URL:https://uucv.org/event/owl-6/
LOCATION:Yuuth
END:VEVENT
BEGIN:VEVENT
DTSTART;TZID=America/New_York:20230420T190000
DTEND;TZID=America/New_York:20230420T210000
DTSTAMP:20260420T200415
CREATED:20230331T133509Z
LAST-MODIFIED:20230331T142836Z
UID:10013642-1682017200-1682024400@uucv.org
SUMMARY:COM - Rev. Meg's Office
DESCRIPTION:
URL:https://uucv.org/event/com-rev-megs-office/
LOCATION:Rev. Meg’s Office\, PA\, United States
END:VEVENT
BEGIN:VEVENT
DTSTART;TZID=America/New_York:20230416T090000
DTEND;TZID=America/New_York:20230416T100000
DTSTAMP:20260420T200415
CREATED:20230327T152522Z
LAST-MODIFIED:20230327T152522Z
UID:10013639-1681635600-1681639200@uucv.org
SUMMARY:Adult RE
DESCRIPTION:
URL:https://uucv.org/event/adult-re-3/
LOCATION:Board Room
END:VEVENT
BEGIN:VEVENT
DTSTART;TZID=America/New_York:20230415T140000
DTEND;TZID=America/New_York:20230415T200000
DTSTAMP:20260420T200415
CREATED:20221128T175256Z
LAST-MODIFIED:20221128T175541Z
UID:10011409-1681567200-1681588800@uucv.org
SUMMARY:Wild Woman Project’s New Moon Circles - Tend
DESCRIPTION:
URL:https://uucv.org/event/wild-woman-projects-new-moon-circles-sustain-2023-04-15/
LOCATION:Social Hall\, PA\, United States
END:VEVENT
BEGIN:VEVENT
DTSTART;TZID=America/New_York:20230411T180000
DTEND;TZID=America/New_York:20230411T200000
DTSTAMP:20260420T200415
CREATED:20230206T154340Z
LAST-MODIFIED:20230206T154340Z
UID:10013463-1681236000-1681243200@uucv.org
SUMMARY:Wheel of the Year
DESCRIPTION:
URL:https://uucv.org/event/wheel-of-the-year/
LOCATION:Area Homes
END:VEVENT
BEGIN:VEVENT
DTSTART;TZID=America/New_York:20230402T090000
DTEND;TZID=America/New_York:20230402T100000
DTSTAMP:20260420T200415
CREATED:20230327T152439Z
LAST-MODIFIED:20230327T152439Z
UID:10013638-1680426000-1680429600@uucv.org
SUMMARY:Adult RE
DESCRIPTION:
URL:https://uucv.org/event/adult-re-2/
LOCATION:Board Room
END:VEVENT
BEGIN:VEVENT
DTSTART;TZID=America/New_York:20230401T120000
DTEND;TZID=America/New_York:20230401T140000
DTSTAMP:20260420T200415
CREATED:20230326T232320Z
LAST-MODIFIED:20230326T232329Z
UID:10013406-1680350400-1680357600@uucv.org
SUMMARY:Movie - "Back to the Future" - UUCV Dining Hall
DESCRIPTION:
URL:https://uucv.org/event/holy-grounds-2-2/
LOCATION:Dining Room at UUCV\, PA\, United States
END:VEVENT
END:VCALENDAR