BEGIN:VCALENDAR
VERSION:2.0
PRODID:-//Unitarian Universalists of the Cumberland Valley - ECPv6.15.20//NONSGML v1.0//EN
CALSCALE:GREGORIAN
METHOD:PUBLISH
X-ORIGINAL-URL:https://uucv.org
X-WR-CALDESC:Events for Unitarian Universalists of the Cumberland Valley
REFRESH-INTERVAL;VALUE=DURATION:PT1H
X-Robots-Tag:noindex
X-PUBLISHED-TTL:PT1H
BEGIN:VTIMEZONE
TZID:America/New_York
BEGIN:DAYLIGHT
TZOFFSETFROM:-0500
TZOFFSETTO:-0400
TZNAME:EDT
DTSTART:20230312T070000
END:DAYLIGHT
BEGIN:STANDARD
TZOFFSETFROM:-0400
TZOFFSETTO:-0500
TZNAME:EST
DTSTART:20231105T060000
END:STANDARD
BEGIN:DAYLIGHT
TZOFFSETFROM:-0500
TZOFFSETTO:-0400
TZNAME:EDT
DTSTART:20240310T070000
END:DAYLIGHT
BEGIN:STANDARD
TZOFFSETFROM:-0400
TZOFFSETTO:-0500
TZNAME:EST
DTSTART:20241103T060000
END:STANDARD
BEGIN:DAYLIGHT
TZOFFSETFROM:-0500
TZOFFSETTO:-0400
TZNAME:EDT
DTSTART:20250309T070000
END:DAYLIGHT
BEGIN:STANDARD
TZOFFSETFROM:-0400
TZOFFSETTO:-0500
TZNAME:EST
DTSTART:20251102T060000
END:STANDARD
END:VTIMEZONE
BEGIN:VEVENT
DTSTART;TZID=America/New_York:20240911T130000
DTEND;TZID=America/New_York:20240911T160000
DTSTAMP:20260420T123355
CREATED:20240828T151114Z
LAST-MODIFIED:20240828T151114Z
UID:10018037-1726059600-1726070400@uucv.org
SUMMARY:UU Scrabbler Potluck Picnic
DESCRIPTION:
URL:https://uucv.org/event/uu-scrabbler-potluck-picnic/
LOCATION:South Middleton Township Park
END:VEVENT
BEGIN:VEVENT
DTSTART;TZID=America/New_York:20240827T170000
DTEND;TZID=America/New_York:20240827T190000
DTSTAMP:20260420T123355
CREATED:20240723T134658Z
LAST-MODIFIED:20240723T134658Z
UID:10018025-1724778000-1724785200@uucv.org
SUMMARY:Music Committee
DESCRIPTION:
URL:https://uucv.org/event/music-committee-2/
LOCATION:Board Room and ZOOM https://zoom.us/my/uucvpa
ORGANIZER;CN="Cheryl Parsons":MAILTO:cherylhparsons@comcast.net
END:VEVENT
BEGIN:VEVENT
DTSTART;TZID=America/New_York:20240825T103000
DTEND;TZID=America/New_York:20240825T113000
DTSTAMP:20260420T123355
CREATED:20240723T170905Z
LAST-MODIFIED:20240723T170905Z
UID:10018028-1724581800-1724585400@uucv.org
SUMMARY:Backpack Blessing Service
DESCRIPTION:
URL:https://uucv.org/event/backpack-blessing-service/
LOCATION:Social Hall\, PA\, United States
END:VEVENT
BEGIN:VEVENT
DTSTART;TZID=America/New_York:20240818T103000
DTEND;TZID=America/New_York:20240818T143000
DTSTAMP:20260420T123355
CREATED:20240723T170813Z
LAST-MODIFIED:20240723T170813Z
UID:10018027-1723977000-1723991400@uucv.org
SUMMARY:UUCV Church Picnic
DESCRIPTION:
URL:https://uucv.org/event/uucv-church-picnic/
LOCATION:South Middleton Park Pavillion #3\, 534 Park Drive\, Boiling Springs
END:VEVENT
BEGIN:VEVENT
DTSTART;TZID=America/New_York:20240815T160000
DTEND;TZID=America/New_York:20240815T210000
DTSTAMP:20260420T123355
CREATED:20240801T161556Z
LAST-MODIFIED:20240801T161556Z
UID:10018030-1723737600-1723755600@uucv.org
SUMMARY:Scoop's Night at Rita's Italian Ice
DESCRIPTION:
URL:https://uucv.org/event/scoops-night-at-ritas-italian-ice/
LOCATION:500 S. Hanover Street\, Carlisle
END:VEVENT
BEGIN:VEVENT
DTSTART;TZID=America/New_York:20240803T090000
DTEND;TZID=America/New_York:20240803T140000
DTSTAMP:20260420T123355
CREATED:20240723T165342Z
LAST-MODIFIED:20240723T165342Z
UID:10018026-1722675600-1722693600@uucv.org
SUMMARY:Thrift Shop Crawl
DESCRIPTION:
URL:https://uucv.org/event/thrift-shop-crawl/
LOCATION:Salvation Army Thrift Store 3901 E. Trindle Road\, Camp Hill
END:VEVENT
BEGIN:VEVENT
DTSTART;TZID=America/New_York:20240723T123000
DTEND;TZID=America/New_York:20240723T133000
DTSTAMP:20260420T123355
CREATED:20240723T171004Z
LAST-MODIFIED:20240723T171004Z
UID:10018029-1721737800-1721741400@uucv.org
SUMMARY:RE Volunteer Teacher Training
DESCRIPTION:
URL:https://uucv.org/event/re-volunteer-teacher-training/
LOCATION:See Lynn Sodora
END:VEVENT
BEGIN:VEVENT
DTSTART;TZID=America/New_York:20240709T180000
DTEND;TZID=America/New_York:20240709T200000
DTSTAMP:20260420T123355
CREATED:20190307T162601Z
LAST-MODIFIED:20191217T172103Z
UID:10012417-1720548000-1720555200@uucv.org
SUMMARY:Women's Dinner
DESCRIPTION:
URL:https://uucv.org/event/womens-dinner/2024-07-09/
LOCATION:Chen’s\, PA\, United States
ORGANIZER;CN="Carole DeWall":MAILTO:carolesdw@gmail.com
END:VEVENT
BEGIN:VEVENT
DTSTART;TZID=America/New_York:20240609T130000
DTEND;TZID=America/New_York:20240609T150000
DTSTAMP:20260420T123355
CREATED:20240502T164935Z
LAST-MODIFIED:20240502T164935Z
UID:10017717-1717938000-1717945200@uucv.org
SUMMARY:Community Adult Clothing Swap
DESCRIPTION:
URL:https://uucv.org/event/community-adult-clothing-swap/
LOCATION:UUCV Social Hall
END:VEVENT
BEGIN:VEVENT
DTSTART;TZID=America/New_York:20240609T113000
DTEND;TZID=America/New_York:20240609T123000
DTSTAMP:20260420T123355
CREATED:20240328T144146Z
LAST-MODIFIED:20240328T144146Z
UID:10017468-1717932600-1717936200@uucv.org
SUMMARY:Annual Meeting
DESCRIPTION:
URL:https://uucv.org/event/annual-meeting-2/
LOCATION:Social Hall\, PA\, United States
END:VEVENT
BEGIN:VEVENT
DTSTART;TZID=America/New_York:20240608T110000
DTEND;TZID=America/New_York:20240608T140000
DTSTAMP:20260420T123355
CREATED:20240513T164803Z
LAST-MODIFIED:20240513T164907Z
UID:10017719-1717844400-1717855200@uucv.org
SUMMARY:Jim Coolsen Memorial Service & Reception
DESCRIPTION:
URL:https://uucv.org/event/jim-coolsen-memorial-service-reception/
LOCATION:Sanctuary and Dining Room
END:VEVENT
BEGIN:VEVENT
DTSTART;TZID=America/New_York:20240601T090000
DTEND;TZID=America/New_York:20240601T160000
DTSTAMP:20260420T123355
CREATED:20240502T164830Z
LAST-MODIFIED:20240502T164830Z
UID:10017716-1717232400-1717257600@uucv.org
SUMMARY:UUCV Strawberry Booth at Foundry Day
DESCRIPTION:
URL:https://uucv.org/event/uucv-strawberry-booth-at-foundry-day-2/
LOCATION:Social Hall\, PA\, United States
END:VEVENT
BEGIN:VEVENT
DTSTART;TZID=America/New_York:20240531T160000
DTEND;TZID=America/New_York:20240531T190000
DTSTAMP:20260420T123355
CREATED:20240513T164644Z
LAST-MODIFIED:20240513T164644Z
UID:10017718-1717171200-1717182000@uucv.org
SUMMARY:Strawberry Prep
DESCRIPTION:
URL:https://uucv.org/event/strawberry-prep/
LOCATION:Dining
END:VEVENT
BEGIN:VEVENT
DTSTART;TZID=America/New_York:20240505T120000
DTEND;TZID=America/New_York:20240505T140000
DTSTAMP:20260420T123355
CREATED:20240325T160904Z
LAST-MODIFIED:20240325T160904Z
UID:10017346-1714910400-1714917600@uucv.org
SUMMARY:Music Luncheon and Getting to Know You Event
DESCRIPTION:
URL:https://uucv.org/event/music-luncheon-and-getting-to-know-you-event/
LOCATION:Dining and Sanctuary
END:VEVENT
BEGIN:VEVENT
DTSTART;TZID=America/New_York:20240428T123000
DTEND;TZID=America/New_York:20240428T143000
DTSTAMP:20260420T123355
CREATED:20240422T141848Z
LAST-MODIFIED:20240422T141848Z
UID:10017484-1714307400-1714314600@uucv.org
SUMMARY:Family Fun Happy Hour - Desperate Times Brewery
DESCRIPTION:
URL:https://uucv.org/event/family-fun-happy-hour-desperate-times-brewery/
LOCATION:Desperate Times\, PA\, United States
END:VEVENT
BEGIN:VEVENT
DTSTART;TZID=America/New_York:20240427T080000
DTEND;TZID=America/New_York:20240427T120000
DTSTAMP:20260420T123355
CREATED:20240328T144103Z
LAST-MODIFIED:20240328T144103Z
UID:10017467-1714204800-1714219200@uucv.org
SUMMARY:UUCV Yard Sale
DESCRIPTION:
URL:https://uucv.org/event/uucv-yard-sale-6/
LOCATION:Dining Room
END:VEVENT
BEGIN:VEVENT
DTSTART;TZID=America/New_York:20240426T080000
DTEND;TZID=America/New_York:20240426T140000
DTSTAMP:20260420T123355
CREATED:20240328T144017Z
LAST-MODIFIED:20240328T144017Z
UID:10017466-1714118400-1714140000@uucv.org
SUMMARY:UUCV Yard Sale
DESCRIPTION:
URL:https://uucv.org/event/uucv-yard-sale-5/
LOCATION:Dining Room
END:VEVENT
BEGIN:VEVENT
DTSTART;TZID=America/New_York:20240425T120000
DTEND;TZID=America/New_York:20240425T180000
DTSTAMP:20260420T123355
CREATED:20240328T143920Z
LAST-MODIFIED:20240328T143920Z
UID:10017465-1714046400-1714068000@uucv.org
SUMMARY:UUCV Yard Sale
DESCRIPTION:
URL:https://uucv.org/event/uucv-yard-sale-3/
LOCATION:Social Hall\, PA\, United States
END:VEVENT
BEGIN:VEVENT
DTSTART;TZID=America/New_York:20240420T090000
DTEND;TZID=America/New_York:20240420T130000
DTSTAMP:20260420T123355
CREATED:20240328T145226Z
LAST-MODIFIED:20240328T145640Z
UID:10017478-1713603600-1713618000@uucv.org
SUMMARY:UUCV Work Day
DESCRIPTION:
URL:https://uucv.org/event/uucv-work-day-2/
LOCATION:UUCV Church
END:VEVENT
BEGIN:VEVENT
DTSTART;TZID=America/New_York:20240414T113000
DTEND;TZID=America/New_York:20240414T143000
DTSTAMP:20260420T123355
CREATED:20240328T144752Z
LAST-MODIFIED:20240328T144752Z
UID:10017477-1713094200-1713105000@uucv.org
SUMMARY:Childrens Free Clothing Swap
DESCRIPTION:
URL:https://uucv.org/event/childrens-free-clothing-swap/
LOCATION:Dining Room
END:VEVENT
BEGIN:VEVENT
DTSTART;TZID=America/New_York:20240414T113000
DTEND;TZID=America/New_York:20240414T120000
DTSTAMP:20260420T123355
CREATED:20240320T184708Z
LAST-MODIFIED:20240320T184708Z
UID:10017344-1713094200-1713096000@uucv.org
SUMMARY:UUCV Town Hall
DESCRIPTION:
URL:https://uucv.org/event/uucv-town-hall/
LOCATION:Sanctuary and ZOOM https://zoom.us/my/uucvpa\, PA\, United States
END:VEVENT
BEGIN:VEVENT
DTSTART;TZID=America/New_York:20240412T180000
DTEND;TZID=America/New_York:20240412T200000
DTSTAMP:20260420T123355
CREATED:20240401T154741Z
LAST-MODIFIED:20240401T154741Z
UID:10017482-1712944800-1712952000@uucv.org
SUMMARY:Family Game Night - Pokemon
DESCRIPTION:
URL:https://uucv.org/event/family-game-night-pokemon/
LOCATION:Board Room
END:VEVENT
BEGIN:VEVENT
DTSTART;TZID=America/New_York:20240407T083000
DTEND;TZID=America/New_York:20240413T133000
DTSTAMP:20260420T123355
CREATED:20240328T150356Z
LAST-MODIFIED:20240328T150357Z
UID:10017470-1712478600-1713015000@uucv.org
SUMMARY:Childrens Clothing Swap Drop Offs
DESCRIPTION:
URL:https://uucv.org/event/childrens-clothing-swap-drop-offs-2/
LOCATION:Dining Room
END:VEVENT
BEGIN:VEVENT
DTSTART;TZID=America/New_York:20240406T170000
DTEND;TZID=America/New_York:20240406T190000
DTSTAMP:20260420T123355
CREATED:20240401T154648Z
LAST-MODIFIED:20240401T154648Z
UID:10017481-1712422800-1712430000@uucv.org
SUMMARY:Family Game Night - Dungeons and Dragons
DESCRIPTION:
URL:https://uucv.org/event/family-game-night-dungeons-and-dragons/
LOCATION:Dining Room
END:VEVENT
BEGIN:VEVENT
DTSTART;TZID=America/New_York:20240331T160000
DTEND;TZID=America/New_York:20240331T180000
DTSTAMP:20260420T123355
CREATED:20240328T144238Z
LAST-MODIFIED:20240328T144238Z
UID:10017469-1711900800-1711908000@uucv.org
SUMMARY:Easter Spring Communal Dinner
DESCRIPTION:
URL:https://uucv.org/event/easter-spring-communal-dinner/
LOCATION:Dining Room
END:VEVENT
BEGIN:VEVENT
DTSTART;TZID=America/New_York:20240324T130000
DTEND;TZID=America/New_York:20240324T143000
DTSTAMP:20260420T123355
CREATED:20231117T150412Z
LAST-MODIFIED:20231117T150412Z
UID:10016810-1711285200-1711290600@uucv.org
SUMMARY:OWL Grades 5/6
DESCRIPTION:
URL:https://uucv.org/event/owl-grades-5-6/2024-03-24/
LOCATION:YUUth Room
END:VEVENT
BEGIN:VEVENT
DTSTART;TZID=America/New_York:20240308T103000
DTEND;TZID=America/New_York:20240308T120000
DTSTAMP:20260420T123355
CREATED:20240228T165925Z
LAST-MODIFIED:20240228T165925Z
UID:10017212-1709893800-1709899200@uucv.org
SUMMARY:Music Committee
DESCRIPTION:
URL:https://uucv.org/event/music-committee/
LOCATION:ZOOM https://zoom.us/my/uucvpa
END:VEVENT
BEGIN:VEVENT
DTSTART;TZID=America/New_York:20240303T123000
DTEND;TZID=America/New_York:20240303T133000
DTSTAMP:20260420T123355
CREATED:20240228T165833Z
LAST-MODIFIED:20240228T165833Z
UID:10017211-1709469000-1709472600@uucv.org
SUMMARY:Don Hoffman Memorial Social Gathering
DESCRIPTION:
URL:https://uucv.org/event/don-hoffman-memorial-social-gathering/
LOCATION:Social Hall
END:VEVENT
BEGIN:VEVENT
DTSTART;TZID=America/New_York:20240303T120000
DTEND;TZID=America/New_York:20240303T130000
DTSTAMP:20260420T123355
CREATED:20240228T165742Z
LAST-MODIFIED:20240228T165742Z
UID:10017210-1709467200-1709470800@uucv.org
SUMMARY:Don Hoffman Memorial Service
DESCRIPTION:
URL:https://uucv.org/event/don-hoffman-memorial-service/
LOCATION:Social Hall\, PA\, United States
END:VEVENT
BEGIN:VEVENT
DTSTART;TZID=America/New_York:20240229T190000
DTEND;TZID=America/New_York:20240229T200000
DTSTAMP:20260420T123355
CREATED:20240228T165654Z
LAST-MODIFIED:20240228T165654Z
UID:10017209-1709233200-1709236800@uucv.org
SUMMARY:ABD Meeting
DESCRIPTION:
URL:https://uucv.org/event/abd-meeting/
LOCATION:Board Room and ZOOM https://zoom.us/my/uucvpa
END:VEVENT
END:VCALENDAR