BEGIN:VCALENDAR
VERSION:2.0
PRODID:-//Unitarian Universalists of the Cumberland Valley - ECPv6.15.20//NONSGML v1.0//EN
CALSCALE:GREGORIAN
METHOD:PUBLISH
X-ORIGINAL-URL:https://uucv.org
X-WR-CALDESC:Events for Unitarian Universalists of the Cumberland Valley
REFRESH-INTERVAL;VALUE=DURATION:PT1H
X-Robots-Tag:noindex
X-PUBLISHED-TTL:PT1H
BEGIN:VTIMEZONE
TZID:America/New_York
BEGIN:DAYLIGHT
TZOFFSETFROM:-0500
TZOFFSETTO:-0400
TZNAME:EDT
DTSTART:20230312T070000
END:DAYLIGHT
BEGIN:STANDARD
TZOFFSETFROM:-0400
TZOFFSETTO:-0500
TZNAME:EST
DTSTART:20231105T060000
END:STANDARD
BEGIN:DAYLIGHT
TZOFFSETFROM:-0500
TZOFFSETTO:-0400
TZNAME:EDT
DTSTART:20240310T070000
END:DAYLIGHT
BEGIN:STANDARD
TZOFFSETFROM:-0400
TZOFFSETTO:-0500
TZNAME:EST
DTSTART:20241103T060000
END:STANDARD
BEGIN:DAYLIGHT
TZOFFSETFROM:-0500
TZOFFSETTO:-0400
TZNAME:EDT
DTSTART:20250309T070000
END:DAYLIGHT
BEGIN:STANDARD
TZOFFSETFROM:-0400
TZOFFSETTO:-0500
TZNAME:EST
DTSTART:20251102T060000
END:STANDARD
BEGIN:DAYLIGHT
TZOFFSETFROM:-0500
TZOFFSETTO:-0400
TZNAME:EDT
DTSTART:20260308T070000
END:DAYLIGHT
BEGIN:STANDARD
TZOFFSETFROM:-0400
TZOFFSETTO:-0500
TZNAME:EST
DTSTART:20261101T060000
END:STANDARD
END:VTIMEZONE
BEGIN:VEVENT
DTSTART;TZID=America/New_York:20250219T190000
DTEND;TZID=America/New_York:20250219T203000
DTSTAMP:20260420T050404
CREATED:20220503T133013Z
LAST-MODIFIED:20220503T163941Z
UID:10012912-1739991600-1739997000@uucv.org
SUMMARY:Men's Group - Area Homes
DESCRIPTION:
URL:https://uucv.org/event/mens-group-area-homes/2025-02-19/
LOCATION:Area Homes
END:VEVENT
BEGIN:VEVENT
DTSTART;TZID=America/New_York:20250214T103000
DTEND;TZID=America/New_York:20250214T120000
DTSTAMP:20260420T050404
CREATED:20250115T181232Z
LAST-MODIFIED:20250115T181232Z
UID:10018700-1739529000-1739534400@uucv.org
SUMMARY:Staff Meeting
DESCRIPTION:
URL:https://uucv.org/event/staff-meeting/
LOCATION:Board Room
END:VEVENT
BEGIN:VEVENT
DTSTART;TZID=America/New_York:20250208T090000
DTEND;TZID=America/New_York:20250208T110000
DTSTAMP:20260420T050404
CREATED:20250122T192819Z
LAST-MODIFIED:20250122T192819Z
UID:10019014-1739005200-1739012400@uucv.org
SUMMARY:Caregivers Circle
DESCRIPTION:
URL:https://uucv.org/event/caregivers-circle-5/
LOCATION:Yuuth
END:VEVENT
BEGIN:VEVENT
DTSTART;TZID=America/New_York:20250201T140000
DTEND;TZID=America/New_York:20250201T170000
DTSTAMP:20260420T050404
CREATED:20250122T192902Z
LAST-MODIFIED:20250122T192902Z
UID:10019015-1738418400-1738429200@uucv.org
SUMMARY:Coming of Age Workshop
DESCRIPTION:
URL:https://uucv.org/event/coming-of-age-workshop/
LOCATION:Yuuth
END:VEVENT
BEGIN:VEVENT
DTSTART;TZID=America/New_York:20250126T090000
DTEND;TZID=America/New_York:20250126T100000
DTSTAMP:20260420T050404
CREATED:20250115T174819Z
LAST-MODIFIED:20250115T174819Z
UID:10018699-1737882000-1737885600@uucv.org
SUMMARY:Greeter Training
DESCRIPTION:
URL:https://uucv.org/event/greeter-training-2/
LOCATION:Board Room
END:VEVENT
BEGIN:VEVENT
DTSTART;TZID=America/New_York:20250125T160000
DTEND;TZID=America/New_York:20250125T180000
DTSTAMP:20260420T050404
CREATED:20241224T152950Z
LAST-MODIFIED:20241224T152950Z
UID:10018696-1737820800-1737828000@uucv.org
SUMMARY:Caregivers Circle
DESCRIPTION:
URL:https://uucv.org/event/caregivers-circle-4/
LOCATION:Social Hall\, PA\, United States
END:VEVENT
BEGIN:VEVENT
DTSTART;TZID=America/New_York:20250120T100000
DTEND;TZID=America/New_York:20250120T150000
DTSTAMP:20260420T050404
CREATED:20250115T184827Z
LAST-MODIFIED:20250115T184827Z
UID:10018884-1737367200-1737385200@uucv.org
SUMMARY:Safe Space
DESCRIPTION:
URL:https://uucv.org/event/safe-space/
LOCATION:Yuuth\, Spirit Play\, Dining
END:VEVENT
BEGIN:VEVENT
DTSTART;TZID=America/New_York:20250111T090000
DTEND;TZID=America/New_York:20250111T110000
DTSTAMP:20260420T050404
CREATED:20241224T152908Z
LAST-MODIFIED:20241224T152908Z
UID:10018695-1736586000-1736593200@uucv.org
SUMMARY:Caregivers Circle
DESCRIPTION:
URL:https://uucv.org/event/caregivers-circle-3/
LOCATION:YUUth Room
END:VEVENT
BEGIN:VEVENT
DTSTART;TZID=America/New_York:20250103T100000
DTEND;TZID=America/New_York:20250103T120000
DTSTAMP:20260420T050404
CREATED:20220614T181452Z
LAST-MODIFIED:20220830T135443Z
UID:10012944-1735898400-1735905600@uucv.org
SUMMARY:Membership Meeting
DESCRIPTION:
URL:https://uucv.org/event/membership-meeting/2025-01-03/
LOCATION:Board Room\, PA\, United States
END:VEVENT
BEGIN:VEVENT
DTSTART;TZID=America/New_York:20241224T180000
DTEND;TZID=America/New_York:20241224T190000
DTSTAMP:20260420T050404
CREATED:20241114T154446Z
LAST-MODIFIED:20241115T145856Z
UID:10018618-1735063200-1735066800@uucv.org
SUMMARY:Christmas Eve Candlelight Service
DESCRIPTION:
URL:https://uucv.org/event/christmas-eve-candlelight-service-3/
LOCATION:Sanctuary
END:VEVENT
BEGIN:VEVENT
DTSTART;TZID=America/New_York:20241222T090000
DTEND;TZID=America/New_York:20241222T093000
DTSTAMP:20260420T050404
CREATED:20241115T171707Z
LAST-MODIFIED:20241115T171707Z
UID:10018624-1734858000-1734859800@uucv.org
SUMMARY:Choir Rehearsal
DESCRIPTION:
URL:https://uucv.org/event/choir-rehearsal-3/
LOCATION:Sanctuary
END:VEVENT
BEGIN:VEVENT
DTSTART;TZID=America/New_York:20241220T180000
DTEND;TZID=America/New_York:20241220T190000
DTSTAMP:20260420T050404
CREATED:20241119T153601Z
LAST-MODIFIED:20241119T153601Z
UID:10018627-1734717600-1734721200@uucv.org
SUMMARY:"Winter Solstice"
DESCRIPTION:Cultures all over the world have used spirals to represent internal paths and provide opportunities for reflections. In the cold\, dark nights of winter\, we look forward to the winter solstice as it means the days will begin to get longer again.\n\n \n\nJoin us as we walk the Solstice Spiral\, a magical and meaningful winter solstice ritual that offers us a unique opportunity for self-reflection about the past year and a space for intention setting as we move through the season of the cold\, dark winter.\n\n \n\nWe will meet at 6:00 PM in the Dining Room for this Service.
URL:https://uucv.org/event/winter-solstice/
LOCATION:Dining Room
ATTACH;FMTTYPE=image/jpeg:https://uucv.org/wp-content/uploads/2024/11/Winter-Solstice.jpg
END:VEVENT
BEGIN:VEVENT
DTSTART;TZID=America/New_York:20241220T180000
DTEND;TZID=America/New_York:20241220T190000
DTSTAMP:20260420T050404
CREATED:20241115T174555Z
LAST-MODIFIED:20241115T174555Z
UID:10018626-1734717600-1734721200@uucv.org
SUMMARY:Winter Solstice Service
DESCRIPTION:
URL:https://uucv.org/event/winter-solstice-service/
LOCATION:Dining Hall
END:VEVENT
BEGIN:VEVENT
DTSTART;TZID=America/New_York:20241218T120000
DTEND;TZID=America/New_York:20241218T170000
DTSTAMP:20260420T050404
CREATED:20241114T154031Z
LAST-MODIFIED:20241114T154031Z
UID:10018617-1734523200-1734541200@uucv.org
SUMMARY:Red Cross Blood Drive
DESCRIPTION:
URL:https://uucv.org/event/red-cross-blood-drive/
LOCATION:Social Hall\, PA\, United States
END:VEVENT
BEGIN:VEVENT
DTSTART;TZID=America/New_York:20241215T180000
DTEND;TZID=America/New_York:20241215T200000
DTSTAMP:20260420T050404
CREATED:20241114T153702Z
LAST-MODIFIED:20241114T153702Z
UID:10018615-1734285600-1734292800@uucv.org
SUMMARY:Holiday Cabaret
DESCRIPTION:
URL:https://uucv.org/event/holiday-cabaret/
LOCATION:Sanctuary
END:VEVENT
BEGIN:VEVENT
DTSTART;TZID=America/New_York:20241215T113000
DTEND;TZID=America/New_York:20241215T123000
DTSTAMP:20260420T050404
CREATED:20241115T171616Z
LAST-MODIFIED:20241115T171616Z
UID:10018623-1734262200-1734265800@uucv.org
SUMMARY:Choir Rehearsal
DESCRIPTION:
URL:https://uucv.org/event/choir-rehearsal-2/
LOCATION:Sanctuary
END:VEVENT
BEGIN:VEVENT
DTSTART;TZID=America/New_York:20241208T080000
DTEND;TZID=America/New_York:20241208T170000
DTSTAMP:20260420T050404
CREATED:20241115T171520Z
LAST-MODIFIED:20241115T171520Z
UID:10018621-1733644800-1733677200@uucv.org
SUMMARY:Choir Rehearsal
DESCRIPTION:
URL:https://uucv.org/event/choir-rehearsal/2024-12-08/1/
LOCATION:Sanctuary
END:VEVENT
BEGIN:VEVENT
DTSTART;TZID=America/New_York:20241201T150000
DTEND;TZID=America/New_York:20241201T170000
DTSTAMP:20260420T050404
CREATED:20241114T153949Z
LAST-MODIFIED:20241114T153949Z
UID:10018616-1733065200-1733072400@uucv.org
SUMMARY:UUCV Friendsgiving
DESCRIPTION:
URL:https://uucv.org/event/uucv-friendsgiving/
LOCATION:Dining Room
END:VEVENT
BEGIN:VEVENT
DTSTART;TZID=America/New_York:20241201T133000
DTEND;TZID=America/New_York:20241201T143000
DTSTAMP:20260420T050404
CREATED:20241115T172104Z
LAST-MODIFIED:20241115T172104Z
UID:10018625-1733059800-1733063400@uucv.org
SUMMARY:PRIDE Prom Planning Meeting
DESCRIPTION:
URL:https://uucv.org/event/pride-prom-planning-meeting/
LOCATION:Board Room
END:VEVENT
BEGIN:VEVENT
DTSTART;TZID=America/New_York:20241124T183000
DTEND;TZID=America/New_York:20241124T203000
DTSTAMP:20260420T050404
CREATED:20240130T144805Z
LAST-MODIFIED:20240130T144805Z
UID:10012876-1732473000-1732480200@uucv.org
SUMMARY:UUCV Book Group
DESCRIPTION:
URL:https://uucv.org/event/uucv-book-group-9-2/2024-11-24/
LOCATION:https://zoom.us/my/uucvpa
END:VEVENT
BEGIN:VEVENT
DTSTART;TZID=America/New_York:20241123T160000
DTEND;TZID=America/New_York:20241123T180000
DTSTAMP:20260420T050404
CREATED:20241115T150050Z
LAST-MODIFIED:20241115T150050Z
UID:10018619-1732377600-1732384800@uucv.org
SUMMARY:Caregivers Circle
DESCRIPTION:
URL:https://uucv.org/event/caregivers-circle-2/
LOCATION:Social Hall\, PA\, United States
END:VEVENT
BEGIN:VEVENT
DTSTART;TZID=America/New_York:20241120T190000
DTEND;TZID=America/New_York:20241120T210000
DTSTAMP:20260420T050404
CREATED:20241114T153419Z
LAST-MODIFIED:20241114T153419Z
UID:10018614-1732129200-1732136400@uucv.org
SUMMARY:Transgender Day of Remembrance Candlelight Vigil
DESCRIPTION:
URL:https://uucv.org/event/transgender-day-of-remembrance-candlelight-vigil/
LOCATION:Square of Carlisle (High and Hanover)
END:VEVENT
BEGIN:VEVENT
DTSTART;TZID=America/New_York:20241110T183000
DTEND;TZID=America/New_York:20241110T203000
DTSTAMP:20260420T050404
CREATED:20241104T175856Z
LAST-MODIFIED:20241104T175856Z
UID:10018552-1731263400-1731270600@uucv.org
SUMMARY:Coming of Age
DESCRIPTION:
URL:https://uucv.org/event/coming-of-age/
LOCATION:Lynn’s ZOOM
END:VEVENT
BEGIN:VEVENT
DTSTART;TZID=America/New_York:20241109T090000
DTEND;TZID=America/New_York:20241109T110000
DTSTAMP:20260420T050404
CREATED:20241104T175949Z
LAST-MODIFIED:20241104T175949Z
UID:10018553-1731142800-1731150000@uucv.org
SUMMARY:Caring Circle
DESCRIPTION:
URL:https://uucv.org/event/caring-circle/
LOCATION:Youuth Room
END:VEVENT
BEGIN:VEVENT
DTSTART;TZID=America/New_York:20241107T180000
DTEND;TZID=America/New_York:20241107T200000
DTSTAMP:20260420T050404
CREATED:20241030T182636Z
LAST-MODIFIED:20241104T180343Z
UID:10018492-1731002400-1731009600@uucv.org
SUMMARY:Service of Comfort and Peace
DESCRIPTION:Thursday\, November 7\, there will be a Drop In Meditative Service held in the Sanctuary from 6 – 8 pm.
URL:https://uucv.org/event/service-of-comfort-and-peace/
LOCATION:Sanctuary and ZOOM https://zoom.us/my/uucvpa\, PA\, United States
ATTACH;FMTTYPE=image/jpeg:https://uucv.org/wp-content/uploads/2024/10/meditation.jpg
END:VEVENT
BEGIN:VEVENT
DTSTART;TZID=America/New_York:20241104T190000
DTEND;TZID=America/New_York:20241104T190000
DTSTAMP:20260420T050404
CREATED:20241030T182225Z
LAST-MODIFIED:20241030T182225Z
UID:10018491-1730746800-1730746800@uucv.org
SUMMARY:Pre-Election Service of Reassurance and Unity
DESCRIPTION:In this time of extreme division and tension\, it is natural to feel overwhelmed\, anxious\, and unsettled.\nJoin us at 7 pm the night before the Election for a time of meditation and singing\, focused around comfort and unity. Studies have shown that when folks sing together\, their heartbeats literally sync up and beat in time with one another\, so let’s join our heartbeats and our spirits in a time of peace and togetherness.\nBring a friend or neighbor if you’d like.
URL:https://uucv.org/event/pre-election-service-of-reassurance-and-unity/
LOCATION:Sanctuary and ZOOM https://zoom.us/my/uucvpa\, PA\, United States
ATTACH;FMTTYPE=image/jpeg:https://uucv.org/wp-content/uploads/2024/10/meditation.jpg
END:VEVENT
BEGIN:VEVENT
DTSTART;TZID=America/New_York:20241102T180000
DTEND;TZID=America/New_York:20241102T210000
DTSTAMP:20260420T050404
CREATED:20240801T161838Z
LAST-MODIFIED:20240816T160621Z
UID:10018031-1730570400-1730581200@uucv.org
SUMMARY:UUCV Auction: "Come as you Aren't"
DESCRIPTION:
URL:https://uucv.org/event/uucv-auction-come-as-you-arent/
LOCATION:UUCV Social Hall
END:VEVENT
BEGIN:VEVENT
DTSTART;TZID=America/New_York:20241020T190000
DTEND;TZID=America/New_York:20241020T210000
DTSTAMP:20260420T050404
CREATED:20241007T172657Z
LAST-MODIFIED:20241007T172657Z
UID:10017411-1729450800-1729458000@uucv.org
SUMMARY:Trauma in the Pews: Deconstructing Toxic Belief Systems and Religious Abuse
DESCRIPTION:
URL:https://uucv.org/event/trauma-in-the-pews-deconstructing-toxic-belief-systems-and-religious-abuse-2-2-2/2024-10-20/
LOCATION:YUUth Room
END:VEVENT
BEGIN:VEVENT
DTSTART;TZID=America/New_York:20241013T113000
DTEND;TZID=America/New_York:20241013T120000
DTSTAMP:20260420T050404
CREATED:20240904T141801Z
LAST-MODIFIED:20240904T141801Z
UID:10018307-1728819000-1728820800@uucv.org
SUMMARY:UUCV Choir Rehearsal
DESCRIPTION:
URL:https://uucv.org/event/uucv-choir-rehearsal/2024-10-13/
LOCATION:Sanctuary
END:VEVENT
BEGIN:VEVENT
DTSTART;TZID=America/New_York:20241012T090000
DTEND;TZID=America/New_York:20241012T130000
DTSTAMP:20260420T050404
CREATED:20241008T125152Z
LAST-MODIFIED:20241008T125152Z
UID:10018490-1728723600-1728738000@uucv.org
SUMMARY:UUCV Fall Clean Up Day
DESCRIPTION:
URL:https://uucv.org/event/uucv-fall-clean-up-day/
LOCATION:UUCV
END:VEVENT
END:VCALENDAR