BEGIN:VCALENDAR
VERSION:2.0
PRODID:-//Unitarian Universalists of the Cumberland Valley - ECPv6.15.20//NONSGML v1.0//EN
CALSCALE:GREGORIAN
METHOD:PUBLISH
X-ORIGINAL-URL:https://uucv.org
X-WR-CALDESC:Events for Unitarian Universalists of the Cumberland Valley
REFRESH-INTERVAL;VALUE=DURATION:PT1H
X-Robots-Tag:noindex
X-PUBLISHED-TTL:PT1H
BEGIN:VTIMEZONE
TZID:America/New_York
BEGIN:DAYLIGHT
TZOFFSETFROM:-0500
TZOFFSETTO:-0400
TZNAME:EDT
DTSTART:20280312T070000
END:DAYLIGHT
BEGIN:STANDARD
TZOFFSETFROM:-0400
TZOFFSETTO:-0500
TZNAME:EST
DTSTART:20281105T060000
END:STANDARD
BEGIN:DAYLIGHT
TZOFFSETFROM:-0500
TZOFFSETTO:-0400
TZNAME:EDT
DTSTART:20290311T070000
END:DAYLIGHT
BEGIN:STANDARD
TZOFFSETFROM:-0400
TZOFFSETTO:-0500
TZNAME:EST
DTSTART:20291104T060000
END:STANDARD
BEGIN:DAYLIGHT
TZOFFSETFROM:-0500
TZOFFSETTO:-0400
TZNAME:EDT
DTSTART:20300310T070000
END:DAYLIGHT
BEGIN:STANDARD
TZOFFSETFROM:-0400
TZOFFSETTO:-0500
TZNAME:EST
DTSTART:20301103T060000
END:STANDARD
END:VTIMEZONE
BEGIN:VEVENT
DTSTART;TZID=America/New_York:20290802T191500
DTEND;TZID=America/New_York:20290802T203000
DTSTAMP:20260423T061215
CREATED:20250829T170500Z
LAST-MODIFIED:20250829T170713Z
UID:10021194-1880392500-1880397000@uucv.org
SUMMARY:Soul Matters Small Group Open to ALL
DESCRIPTION:
URL:https://uucv.org/event/soul-matters-small-group/2029-08-02/
LOCATION:ZOOM https://zoom.us/my/uucvpa
END:VEVENT
BEGIN:VEVENT
DTSTART;TZID=America/New_York:20290803T180000
DTEND;TZID=America/New_York:20290803T200000
DTSTAMP:20260423T061215
CREATED:20251031T160512Z
LAST-MODIFIED:20251031T160512Z
UID:10021448-1880474400-1880481600@uucv.org
SUMMARY:First Fridays Community Night
DESCRIPTION:
URL:https://uucv.org/event/first-fridays-community-night/2029-08-03/
LOCATION:Dining Room
END:VEVENT
BEGIN:VEVENT
DTSTART;TZID=America/New_York:20290805T090000
DTEND;TZID=America/New_York:20290805T100000
DTSTAMP:20260423T061215
CREATED:20251120T181840Z
LAST-MODIFIED:20251120T181840Z
UID:10021743-1880614800-1880618400@uucv.org
SUMMARY:Roots & Wings Community Meet-Up
DESCRIPTION:
URL:https://uucv.org/event/roots-wings-community-meet-up-2/2029-08-05/
LOCATION:Dining Hall
END:VEVENT
BEGIN:VEVENT
DTSTART;TZID=America/New_York:20290805T104500
DTEND;TZID=America/New_York:20290805T114500
DTSTAMP:20260423T061216
CREATED:20250508T170216Z
LAST-MODIFIED:20250508T170216Z
UID:10018658-1880621100-1880624700@uucv.org
SUMMARY:Religious Education K-12
DESCRIPTION:
URL:https://uucv.org/event/religious-education-k-12-2-2-2/2029-08-05/
LOCATION:Religious Education Classrooms\, 2 Forge Road\, Boiling Springs\, PA\, 17007\, United States
END:VEVENT
BEGIN:VEVENT
DTSTART;TZID=America/New_York:20290807T194500
DTEND;TZID=America/New_York:20290807T210000
DTSTAMP:20260423T061216
CREATED:20250827T165850Z
LAST-MODIFIED:20250827T165850Z
UID:10021134-1880826300-1880830800@uucv.org
SUMMARY:Worship Leadership Team
DESCRIPTION:
URL:https://uucv.org/event/worship-leadership-team/2029-08-07/
LOCATION:Rev. Phoenix ZOOM
END:VEVENT
BEGIN:VEVENT
DTSTART;TZID=America/New_York:20290808T103000
DTEND;TZID=America/New_York:20290808T120000
DTSTAMP:20260423T061216
CREATED:20250625T180818Z
LAST-MODIFIED:20250625T180818Z
UID:10020589-1880879400-1880884800@uucv.org
SUMMARY:Staff Meeting
DESCRIPTION:
URL:https://uucv.org/event/staff-meeting-2/2029-08-08/
LOCATION:Rev. Phoenix Office
END:VEVENT
BEGIN:VEVENT
DTSTART;TZID=America/New_York:20290808T163000
DTEND;TZID=America/New_York:20290808T170000
DTSTAMP:20260423T061216
CREATED:20241224T152618Z
LAST-MODIFIED:20241224T152619Z
UID:10018303-1880901000-1880902800@uucv.org
SUMMARY:Worship Tech Meeting
DESCRIPTION:
URL:https://uucv.org/event/worship-tech-meeting-2-2-2/2029-08-08/
LOCATION:Board and ZOOM https://zoom.us/my/meetingsuucv 572/887-2212
END:VEVENT
BEGIN:VEVENT
DTSTART;TZID=America/New_York:20290809T184500
DTEND;TZID=America/New_York:20290809T204500
DTSTAMP:20260423T061216
CREATED:20250122T160647Z
LAST-MODIFIED:20250122T160648Z
UID:10019002-1880995500-1881002700@uucv.org
SUMMARY:UUCV Music Small Group
DESCRIPTION:
URL:https://uucv.org/event/uucv-music-small-group-2-2/2029-08-09/
LOCATION:Mary and Matts
END:VEVENT
BEGIN:VEVENT
DTSTART;TZID=America/New_York:20290810T120000
DTEND;TZID=America/New_York:20290810T140000
DTSTAMP:20260423T061216
CREATED:20251125T191056Z
LAST-MODIFIED:20251125T191057Z
UID:10021822-1881057600-1881064800@uucv.org
SUMMARY:Soup Matters for All
DESCRIPTION:
URL:https://uucv.org/event/soup-matters-for-all-2/2029-08-10/
LOCATION:Dining Room
END:VEVENT
BEGIN:VEVENT
DTSTART;TZID=America/New_York:20290811T090000
DTEND;TZID=America/New_York:20290811T110000
DTSTAMP:20260423T061216
CREATED:20250910T142406Z
LAST-MODIFIED:20250910T172931Z
UID:10021316-1881133200-1881140400@uucv.org
SUMMARY:Caregivers Circle
DESCRIPTION:
URL:https://uucv.org/event/caregivers-circle-8/2029-08-11/
LOCATION:Youuth Room
END:VEVENT
BEGIN:VEVENT
DTSTART;TZID=America/New_York:20290812T083000
DTEND;TZID=America/New_York:20290812T100000
DTSTAMP:20260423T061216
CREATED:20250827T133907Z
LAST-MODIFIED:20250827T133908Z
UID:10021047-1881217800-1881223200@uucv.org
SUMMARY:Word Weavers Small Group
DESCRIPTION:
URL:https://uucv.org/event/word-weavers-small-group-2/2029-08-12/
LOCATION:Board Room
END:VEVENT
BEGIN:VEVENT
DTSTART;TZID=America/New_York:20290813T193000
DTEND;TZID=America/New_York:20290813T210000
DTSTAMP:20260423T061216
CREATED:20250827T133745Z
LAST-MODIFIED:20250827T133746Z
UID:10020988-1881343800-1881349200@uucv.org
SUMMARY:Finance
DESCRIPTION:
URL:https://uucv.org/event/finance-3-2-2-2/2029-08-13/
LOCATION:Offsite ZOOM
END:VEVENT
BEGIN:VEVENT
DTSTART;TZID=America/New_York:20290815T183000
DTEND;TZID=America/New_York:20290815T200000
DTSTAMP:20260423T061216
CREATED:20250115T174735Z
LAST-MODIFIED:20250626T160726Z
UID:10020810-1881513000-1881518400@uucv.org
SUMMARY:Social Justice Meeting
DESCRIPTION:
URL:https://uucv.org/event/social-justice-meeting-2/2029-08-15/
LOCATION:Board Room and ZOOM https://zoom.us/my/uucvpa
END:VEVENT
BEGIN:VEVENT
DTSTART;TZID=America/New_York:20290815T190000
DTEND;TZID=America/New_York:20290815T210000
DTSTAMP:20260423T061216
CREATED:20250318T175301Z
LAST-MODIFIED:20250318T175301Z
UID:10019766-1881514800-1881522000@uucv.org
SUMMARY:Men's Group
DESCRIPTION:
URL:https://uucv.org/event/mens-group/2029-08-15/
LOCATION:Area Homes
END:VEVENT
BEGIN:VEVENT
DTSTART;TZID=America/New_York:20290816T133000
DTEND;TZID=America/New_York:20290816T150000
DTSTAMP:20260423T061216
CREATED:20250626T161019Z
LAST-MODIFIED:20250626T161019Z
UID:10020868-1881581400-1881586800@uucv.org
SUMMARY:Daytimers
DESCRIPTION:
URL:https://uucv.org/event/daytimers/2029-08-16/
LOCATION:Meeting Room
END:VEVENT
BEGIN:VEVENT
DTSTART;TZID=America/New_York:20290816T140000
DTEND;TZID=America/New_York:20290816T160000
DTSTAMP:20260423T061216
CREATED:20250115T181345Z
LAST-MODIFIED:20250115T181345Z
UID:10018754-1881583200-1881590400@uucv.org
SUMMARY:The Divers Small Group
DESCRIPTION:
URL:https://uucv.org/event/gail-mike-small-group-2/2029-08-16/
LOCATION:Youuth Room
END:VEVENT
BEGIN:VEVENT
DTSTART;TZID=America/New_York:20290816T191500
DTEND;TZID=America/New_York:20290816T203000
DTSTAMP:20260423T061216
CREATED:20250829T170618Z
LAST-MODIFIED:20250829T170618Z
UID:10021254-1881602100-1881606600@uucv.org
SUMMARY:Soul Matters Small Group Open to ALL
DESCRIPTION:
URL:https://uucv.org/event/soul-matters-small-group-open-to-all/2029-08-16/
LOCATION:https://zoom.us/my/uucvpa
END:VEVENT
BEGIN:VEVENT
DTSTART;TZID=America/New_York:20290817T163000
DTEND;TZID=America/New_York:20290817T180000
DTSTAMP:20260423T061216
CREATED:20250318T175806Z
LAST-MODIFIED:20250625T181544Z
UID:10020744-1881678600-1881684000@uucv.org
SUMMARY:Namely Women's Group - Area Homes
DESCRIPTION:
URL:https://uucv.org/event/namely-womens-group-backyards-2/2029-08-17/
LOCATION:Area Homes\, PA
CATEGORIES:SGM
END:VEVENT
BEGIN:VEVENT
DTSTART;TZID=America/New_York:20290819T120000
DTEND;TZID=America/New_York:20290819T130000
DTSTAMP:20260423T061216
CREATED:20251031T161626Z
LAST-MODIFIED:20251031T161626Z
UID:10021630-1881835200-1881838800@uucv.org
SUMMARY:Outreach and Membership Meeting
DESCRIPTION:
URL:https://uucv.org/event/outreach-and-membership-meeting/2029-08-19/
LOCATION:Welcome Center
END:VEVENT
BEGIN:VEVENT
DTSTART;TZID=America/New_York:20290819T133000
DTEND;TZID=America/New_York:20290819T133000
DTSTAMP:20260423T061216
CREATED:20250318T175647Z
LAST-MODIFIED:20250318T175647Z
UID:10019842-1881840600-1881840600@uucv.org
SUMMARY:Kumquats - Joan's House
DESCRIPTION:
URL:https://uucv.org/event/kumquats-joans-house-2/2029-08-19/
LOCATION:Area Homes
END:VEVENT
BEGIN:VEVENT
DTSTART;TZID=America/New_York:20290821T183000
DTEND;TZID=America/New_York:20290821T203000
DTSTAMP:20260423T061216
CREATED:20250926T182036Z
LAST-MODIFIED:20250926T182037Z
UID:10021382-1882031400-1882038600@uucv.org
SUMMARY:Board of Trustees
DESCRIPTION:
URL:https://uucv.org/event/board-of-trustees-2/2029-08-21/
LOCATION:Board Room and ZOOM https://zoom.us/my/uucvpa
END:VEVENT
BEGIN:VEVENT
DTSTART;TZID=America/New_York:20290826T183000
DTEND;TZID=America/New_York:20290826T203000
DTSTAMP:20260423T061216
CREATED:20250115T181530Z
LAST-MODIFIED:20250115T181546Z
UID:10018814-1882463400-1882470600@uucv.org
SUMMARY:UUCV Book Group
DESCRIPTION:
URL:https://uucv.org/event/uucv-book-group-5/2029-08-26/
LOCATION:ZOOM https://zoom.us/my/uucvpa
END:VEVENT
BEGIN:VEVENT
DTSTART;TZID=America/New_York:20290828T180000
DTEND;TZID=America/New_York:20290828T200000
DTSTAMP:20260423T061216
CREATED:20251031T160914Z
LAST-MODIFIED:20251031T160914Z
UID:10021569-1882634400-1882641600@uucv.org
SUMMARY:COM
DESCRIPTION:
URL:https://uucv.org/event/com/2029-08-28/
LOCATION:Welcome Center
END:VEVENT
END:VCALENDAR