BEGIN:VCALENDAR
VERSION:2.0
PRODID:-//Unitarian Universalists of the Cumberland Valley - ECPv6.15.20//NONSGML v1.0//EN
CALSCALE:GREGORIAN
METHOD:PUBLISH
X-ORIGINAL-URL:https://uucv.org
X-WR-CALDESC:Events for Unitarian Universalists of the Cumberland Valley
REFRESH-INTERVAL;VALUE=DURATION:PT1H
X-Robots-Tag:noindex
X-PUBLISHED-TTL:PT1H
BEGIN:VTIMEZONE
TZID:America/New_York
BEGIN:DAYLIGHT
TZOFFSETFROM:-0500
TZOFFSETTO:-0400
TZNAME:EDT
DTSTART:20280312T070000
END:DAYLIGHT
BEGIN:STANDARD
TZOFFSETFROM:-0400
TZOFFSETTO:-0500
TZNAME:EST
DTSTART:20281105T060000
END:STANDARD
BEGIN:DAYLIGHT
TZOFFSETFROM:-0500
TZOFFSETTO:-0400
TZNAME:EDT
DTSTART:20290311T070000
END:DAYLIGHT
BEGIN:STANDARD
TZOFFSETFROM:-0400
TZOFFSETTO:-0500
TZNAME:EST
DTSTART:20291104T060000
END:STANDARD
BEGIN:DAYLIGHT
TZOFFSETFROM:-0500
TZOFFSETTO:-0400
TZNAME:EDT
DTSTART:20300310T070000
END:DAYLIGHT
BEGIN:STANDARD
TZOFFSETFROM:-0400
TZOFFSETTO:-0500
TZNAME:EST
DTSTART:20301103T060000
END:STANDARD
END:VTIMEZONE
BEGIN:VEVENT
DTSTART;TZID=America/New_York:20290404T103000
DTEND;TZID=America/New_York:20290404T120000
DTSTAMP:20260422T215501
CREATED:20250625T180818Z
LAST-MODIFIED:20250625T180818Z
UID:10020571-1869993000-1869998400@uucv.org
SUMMARY:Staff Meeting
DESCRIPTION:
URL:https://uucv.org/event/staff-meeting-2/2029-04-04/
LOCATION:Rev. Phoenix Office
END:VEVENT
BEGIN:VEVENT
DTSTART;TZID=America/New_York:20290404T163000
DTEND;TZID=America/New_York:20290404T170000
DTSTAMP:20260422T215501
CREATED:20241224T152618Z
LAST-MODIFIED:20241224T152619Z
UID:10018285-1870014600-1870016400@uucv.org
SUMMARY:Worship Tech Meeting
DESCRIPTION:
URL:https://uucv.org/event/worship-tech-meeting-2-2-2/2029-04-04/
LOCATION:Board and ZOOM https://zoom.us/my/meetingsuucv 572/887-2212
END:VEVENT
BEGIN:VEVENT
DTSTART;TZID=America/New_York:20290405T184500
DTEND;TZID=America/New_York:20290405T204500
DTSTAMP:20260422T215501
CREATED:20250122T160647Z
LAST-MODIFIED:20250122T160648Z
UID:10018993-1870109100-1870116300@uucv.org
SUMMARY:UUCV Music Small Group
DESCRIPTION:
URL:https://uucv.org/event/uucv-music-small-group-2-2/2029-04-05/
LOCATION:Mary and Matts
END:VEVENT
BEGIN:VEVENT
DTSTART;TZID=America/New_York:20290405T191500
DTEND;TZID=America/New_York:20290405T203000
DTSTAMP:20260422T215501
CREATED:20250829T170500Z
LAST-MODIFIED:20250829T170713Z
UID:10021190-1870110900-1870115400@uucv.org
SUMMARY:Soul Matters Small Group Open to ALL
DESCRIPTION:
URL:https://uucv.org/event/soul-matters-small-group/2029-04-05/
LOCATION:ZOOM https://zoom.us/my/uucvpa
END:VEVENT
BEGIN:VEVENT
DTSTART;TZID=America/New_York:20290406T180000
DTEND;TZID=America/New_York:20290406T200000
DTSTAMP:20260422T215501
CREATED:20251031T160512Z
LAST-MODIFIED:20251031T160512Z
UID:10021444-1870192800-1870200000@uucv.org
SUMMARY:First Fridays Community Night
DESCRIPTION:
URL:https://uucv.org/event/first-fridays-community-night/2029-04-06/
LOCATION:Dining Room
END:VEVENT
BEGIN:VEVENT
DTSTART;TZID=America/New_York:20290408T083000
DTEND;TZID=America/New_York:20290408T100000
DTSTAMP:20260422T215501
CREATED:20250827T133907Z
LAST-MODIFIED:20250827T133908Z
UID:10021043-1870331400-1870336800@uucv.org
SUMMARY:Word Weavers Small Group
DESCRIPTION:
URL:https://uucv.org/event/word-weavers-small-group-2/2029-04-08/
LOCATION:Board Room
END:VEVENT
BEGIN:VEVENT
DTSTART;TZID=America/New_York:20290408T104500
DTEND;TZID=America/New_York:20290408T114500
DTSTAMP:20260422T215501
CREATED:20250508T170216Z
LAST-MODIFIED:20250508T170216Z
UID:10018641-1870339500-1870343100@uucv.org
SUMMARY:Religious Education K-12
DESCRIPTION:
URL:https://uucv.org/event/religious-education-k-12-2-2-2/2029-04-08/
LOCATION:Religious Education Classrooms\, 2 Forge Road\, Boiling Springs\, PA\, 17007\, United States
END:VEVENT
BEGIN:VEVENT
DTSTART;TZID=America/New_York:20290409T193000
DTEND;TZID=America/New_York:20290409T210000
DTSTAMP:20260422T215501
CREATED:20250827T133745Z
LAST-MODIFIED:20250827T133746Z
UID:10020984-1870457400-1870462800@uucv.org
SUMMARY:Finance
DESCRIPTION:
URL:https://uucv.org/event/finance-3-2-2-2/2029-04-09/
LOCATION:Offsite ZOOM
END:VEVENT
BEGIN:VEVENT
DTSTART;TZID=America/New_York:20290413T120000
DTEND;TZID=America/New_York:20290413T140000
DTSTAMP:20260422T215501
CREATED:20251125T191056Z
LAST-MODIFIED:20251125T191057Z
UID:10021818-1870776000-1870783200@uucv.org
SUMMARY:Soup Matters for All
DESCRIPTION:
URL:https://uucv.org/event/soup-matters-for-all-2/2029-04-13/
LOCATION:Dining Room
END:VEVENT
BEGIN:VEVENT
DTSTART;TZID=America/New_York:20290414T090000
DTEND;TZID=America/New_York:20290414T110000
DTSTAMP:20260422T215501
CREATED:20250910T142406Z
LAST-MODIFIED:20250910T172931Z
UID:10021312-1870851600-1870858800@uucv.org
SUMMARY:Caregivers Circle
DESCRIPTION:
URL:https://uucv.org/event/caregivers-circle-8/2029-04-14/
LOCATION:Youuth Room
END:VEVENT
BEGIN:VEVENT
DTSTART;TZID=America/New_York:20290415T090000
DTEND;TZID=America/New_York:20290415T100000
DTSTAMP:20260422T215501
CREATED:20251120T181840Z
LAST-MODIFIED:20251120T181840Z
UID:10021735-1870938000-1870941600@uucv.org
SUMMARY:Roots & Wings Community Meet-Up
DESCRIPTION:
URL:https://uucv.org/event/roots-wings-community-meet-up-2/2029-04-15/
LOCATION:Dining Hall
END:VEVENT
BEGIN:VEVENT
DTSTART;TZID=America/New_York:20290415T120000
DTEND;TZID=America/New_York:20290415T130000
DTSTAMP:20260422T215501
CREATED:20251031T161626Z
LAST-MODIFIED:20251031T161626Z
UID:10021626-1870948800-1870952400@uucv.org
SUMMARY:Outreach and Membership Meeting
DESCRIPTION:
URL:https://uucv.org/event/outreach-and-membership-meeting/2029-04-15/
LOCATION:Welcome Center
END:VEVENT
BEGIN:VEVENT
DTSTART;TZID=America/New_York:20290415T133000
DTEND;TZID=America/New_York:20290415T133000
DTSTAMP:20260422T215501
CREATED:20250318T175647Z
LAST-MODIFIED:20250318T175647Z
UID:10019838-1870954200-1870954200@uucv.org
SUMMARY:Kumquats - Joan's House
DESCRIPTION:
URL:https://uucv.org/event/kumquats-joans-house-2/2029-04-15/
LOCATION:Area Homes
END:VEVENT
BEGIN:VEVENT
DTSTART;TZID=America/New_York:20290417T183000
DTEND;TZID=America/New_York:20290417T203000
DTSTAMP:20260422T215501
CREATED:20250926T182036Z
LAST-MODIFIED:20250926T182037Z
UID:10021378-1871145000-1871152200@uucv.org
SUMMARY:Board of Trustees
DESCRIPTION:
URL:https://uucv.org/event/board-of-trustees-2/2029-04-17/
LOCATION:Board Room and ZOOM https://zoom.us/my/uucvpa
END:VEVENT
BEGIN:VEVENT
DTSTART;TZID=America/New_York:20290418T183000
DTEND;TZID=America/New_York:20290418T200000
DTSTAMP:20260422T215501
CREATED:20250115T174735Z
LAST-MODIFIED:20250626T160726Z
UID:10020806-1871231400-1871236800@uucv.org
SUMMARY:Social Justice Meeting
DESCRIPTION:
URL:https://uucv.org/event/social-justice-meeting-2/2029-04-18/
LOCATION:Board Room and ZOOM https://zoom.us/my/uucvpa
END:VEVENT
BEGIN:VEVENT
DTSTART;TZID=America/New_York:20290418T190000
DTEND;TZID=America/New_York:20290418T210000
DTSTAMP:20260422T215501
CREATED:20250318T175301Z
LAST-MODIFIED:20250318T175301Z
UID:10019762-1871233200-1871240400@uucv.org
SUMMARY:Men's Group
DESCRIPTION:
URL:https://uucv.org/event/mens-group/2029-04-18/
LOCATION:Area Homes
END:VEVENT
BEGIN:VEVENT
DTSTART;TZID=America/New_York:20290419T133000
DTEND;TZID=America/New_York:20290419T150000
DTSTAMP:20260422T215501
CREATED:20250626T161019Z
LAST-MODIFIED:20250626T161019Z
UID:10020864-1871299800-1871305200@uucv.org
SUMMARY:Daytimers
DESCRIPTION:
URL:https://uucv.org/event/daytimers/2029-04-19/
LOCATION:Meeting Room
END:VEVENT
BEGIN:VEVENT
DTSTART;TZID=America/New_York:20290419T140000
DTEND;TZID=America/New_York:20290419T160000
DTSTAMP:20260422T215501
CREATED:20250115T181345Z
LAST-MODIFIED:20250115T181345Z
UID:10018750-1871301600-1871308800@uucv.org
SUMMARY:The Divers Small Group
DESCRIPTION:
URL:https://uucv.org/event/gail-mike-small-group-2/2029-04-19/
LOCATION:Youuth Room
END:VEVENT
BEGIN:VEVENT
DTSTART;TZID=America/New_York:20290419T191500
DTEND;TZID=America/New_York:20290419T203000
DTSTAMP:20260422T215501
CREATED:20250829T170618Z
LAST-MODIFIED:20250829T170618Z
UID:10021250-1871320500-1871325000@uucv.org
SUMMARY:Soul Matters Small Group Open to ALL
DESCRIPTION:
URL:https://uucv.org/event/soul-matters-small-group-open-to-all/2029-04-19/
LOCATION:https://zoom.us/my/uucvpa
END:VEVENT
BEGIN:VEVENT
DTSTART;TZID=America/New_York:20290420T163000
DTEND;TZID=America/New_York:20290420T180000
DTSTAMP:20260422T215501
CREATED:20250318T175806Z
LAST-MODIFIED:20250625T181544Z
UID:10020740-1871397000-1871402400@uucv.org
SUMMARY:Namely Women's Group - Area Homes
DESCRIPTION:
URL:https://uucv.org/event/namely-womens-group-backyards-2/2029-04-20/
LOCATION:Area Homes\, PA
CATEGORIES:SGM
END:VEVENT
BEGIN:VEVENT
DTSTART;TZID=America/New_York:20290422T183000
DTEND;TZID=America/New_York:20290422T203000
DTSTAMP:20260422T215501
CREATED:20250115T181530Z
LAST-MODIFIED:20250115T181546Z
UID:10018810-1871577000-1871584200@uucv.org
SUMMARY:UUCV Book Group
DESCRIPTION:
URL:https://uucv.org/event/uucv-book-group-5/2029-04-22/
LOCATION:ZOOM https://zoom.us/my/uucvpa
END:VEVENT
BEGIN:VEVENT
DTSTART;TZID=America/New_York:20290424T180000
DTEND;TZID=America/New_York:20290424T200000
DTSTAMP:20260422T215501
CREATED:20251031T160914Z
LAST-MODIFIED:20251031T160914Z
UID:10021565-1871748000-1871755200@uucv.org
SUMMARY:COM
DESCRIPTION:
URL:https://uucv.org/event/com/2029-04-24/
LOCATION:Welcome Center
END:VEVENT
BEGIN:VEVENT
DTSTART;TZID=America/New_York:20290501T194500
DTEND;TZID=America/New_York:20290501T210000
DTSTAMP:20260422T215501
CREATED:20250827T165850Z
LAST-MODIFIED:20250827T165850Z
UID:10021131-1872359100-1872363600@uucv.org
SUMMARY:Worship Leadership Team
DESCRIPTION:
URL:https://uucv.org/event/worship-leadership-team/2029-05-01/
LOCATION:Rev. Phoenix ZOOM
END:VEVENT
END:VCALENDAR