BEGIN:VCALENDAR
VERSION:2.0
PRODID:-//Unitarian Universalists of the Cumberland Valley - ECPv6.15.20//NONSGML v1.0//EN
CALSCALE:GREGORIAN
METHOD:PUBLISH
X-ORIGINAL-URL:https://uucv.org
X-WR-CALDESC:Events for Unitarian Universalists of the Cumberland Valley
REFRESH-INTERVAL;VALUE=DURATION:PT1H
X-Robots-Tag:noindex
X-PUBLISHED-TTL:PT1H
BEGIN:VTIMEZONE
TZID:America/New_York
BEGIN:DAYLIGHT
TZOFFSETFROM:-0500
TZOFFSETTO:-0400
TZNAME:EDT
DTSTART:20280312T070000
END:DAYLIGHT
BEGIN:STANDARD
TZOFFSETFROM:-0400
TZOFFSETTO:-0500
TZNAME:EST
DTSTART:20281105T060000
END:STANDARD
BEGIN:DAYLIGHT
TZOFFSETFROM:-0500
TZOFFSETTO:-0400
TZNAME:EDT
DTSTART:20290311T070000
END:DAYLIGHT
BEGIN:STANDARD
TZOFFSETFROM:-0400
TZOFFSETTO:-0500
TZNAME:EST
DTSTART:20291104T060000
END:STANDARD
BEGIN:DAYLIGHT
TZOFFSETFROM:-0500
TZOFFSETTO:-0400
TZNAME:EDT
DTSTART:20300310T070000
END:DAYLIGHT
BEGIN:STANDARD
TZOFFSETFROM:-0400
TZOFFSETTO:-0500
TZNAME:EST
DTSTART:20301103T060000
END:STANDARD
END:VTIMEZONE
BEGIN:VEVENT
DTSTART;TZID=America/New_York:20290315T133000
DTEND;TZID=America/New_York:20290315T150000
DTSTAMP:20260422T181942
CREATED:20250626T161019Z
LAST-MODIFIED:20250626T161019Z
UID:10020863-1868275800-1868281200@uucv.org
SUMMARY:Daytimers
DESCRIPTION:
URL:https://uucv.org/event/daytimers/2029-03-15/
LOCATION:Meeting Room
END:VEVENT
BEGIN:VEVENT
DTSTART;TZID=America/New_York:20290315T140000
DTEND;TZID=America/New_York:20290315T160000
DTSTAMP:20260422T181942
CREATED:20250115T181345Z
LAST-MODIFIED:20250115T181345Z
UID:10018749-1868277600-1868284800@uucv.org
SUMMARY:The Divers Small Group
DESCRIPTION:
URL:https://uucv.org/event/gail-mike-small-group-2/2029-03-15/
LOCATION:Youuth Room
END:VEVENT
BEGIN:VEVENT
DTSTART;TZID=America/New_York:20290315T191500
DTEND;TZID=America/New_York:20290315T203000
DTSTAMP:20260422T181942
CREATED:20250829T170618Z
LAST-MODIFIED:20250829T170618Z
UID:10021249-1868296500-1868301000@uucv.org
SUMMARY:Soul Matters Small Group Open to ALL
DESCRIPTION:
URL:https://uucv.org/event/soul-matters-small-group-open-to-all/2029-03-15/
LOCATION:https://zoom.us/my/uucvpa
END:VEVENT
BEGIN:VEVENT
DTSTART;TZID=America/New_York:20290316T163000
DTEND;TZID=America/New_York:20290316T180000
DTSTAMP:20260422T181942
CREATED:20250318T175806Z
LAST-MODIFIED:20250625T181544Z
UID:10020739-1868373000-1868378400@uucv.org
SUMMARY:Namely Women's Group - Area Homes
DESCRIPTION:
URL:https://uucv.org/event/namely-womens-group-backyards-2/2029-03-16/
LOCATION:Area Homes\, PA
CATEGORIES:SGM
END:VEVENT
BEGIN:VEVENT
DTSTART;TZID=America/New_York:20290318T090000
DTEND;TZID=America/New_York:20290318T100000
DTSTAMP:20260422T181942
CREATED:20251120T181840Z
LAST-MODIFIED:20251120T181840Z
UID:10021733-1868518800-1868522400@uucv.org
SUMMARY:Roots & Wings Community Meet-Up
DESCRIPTION:
URL:https://uucv.org/event/roots-wings-community-meet-up-2/2029-03-18/
LOCATION:Dining Hall
END:VEVENT
BEGIN:VEVENT
DTSTART;TZID=America/New_York:20290318T104500
DTEND;TZID=America/New_York:20290318T114500
DTSTAMP:20260422T181942
CREATED:20250508T170216Z
LAST-MODIFIED:20250508T170216Z
UID:10018638-1868525100-1868528700@uucv.org
SUMMARY:Religious Education K-12
DESCRIPTION:
URL:https://uucv.org/event/religious-education-k-12-2-2-2/2029-03-18/
LOCATION:Religious Education Classrooms\, 2 Forge Road\, Boiling Springs\, PA\, 17007\, United States
END:VEVENT
BEGIN:VEVENT
DTSTART;TZID=America/New_York:20290318T120000
DTEND;TZID=America/New_York:20290318T130000
DTSTAMP:20260422T181942
CREATED:20251031T161626Z
LAST-MODIFIED:20251031T161626Z
UID:10021625-1868529600-1868533200@uucv.org
SUMMARY:Outreach and Membership Meeting
DESCRIPTION:
URL:https://uucv.org/event/outreach-and-membership-meeting/2029-03-18/
LOCATION:Welcome Center
END:VEVENT
BEGIN:VEVENT
DTSTART;TZID=America/New_York:20290318T120000
DTEND;TZID=America/New_York:20290318T133000
DTSTAMP:20260422T181942
CREATED:20240328T143311Z
LAST-MODIFIED:20240328T143312Z
UID:10017405-1868529600-1868535000@uucv.org
SUMMARY:Worship Associates
DESCRIPTION:
URL:https://uucv.org/event/worship-associates-2/2029-03-18/
LOCATION:Social Hall\, PA\, United States
END:VEVENT
BEGIN:VEVENT
DTSTART;TZID=America/New_York:20290318T133000
DTEND;TZID=America/New_York:20290318T133000
DTSTAMP:20260422T181942
CREATED:20250318T175647Z
LAST-MODIFIED:20250318T175647Z
UID:10019837-1868535000-1868535000@uucv.org
SUMMARY:Kumquats - Joan's House
DESCRIPTION:
URL:https://uucv.org/event/kumquats-joans-house-2/2029-03-18/
LOCATION:Area Homes
END:VEVENT
BEGIN:VEVENT
DTSTART;TZID=America/New_York:20290320T183000
DTEND;TZID=America/New_York:20290320T203000
DTSTAMP:20260422T181942
CREATED:20250926T182036Z
LAST-MODIFIED:20250926T182037Z
UID:10021377-1868725800-1868733000@uucv.org
SUMMARY:Board of Trustees
DESCRIPTION:
URL:https://uucv.org/event/board-of-trustees-2/2029-03-20/
LOCATION:Board Room and ZOOM https://zoom.us/my/uucvpa
END:VEVENT
BEGIN:VEVENT
DTSTART;TZID=America/New_York:20290321T103000
DTEND;TZID=America/New_York:20290321T120000
DTSTAMP:20260422T181942
CREATED:20250625T180818Z
LAST-MODIFIED:20250625T180818Z
UID:10020569-1868783400-1868788800@uucv.org
SUMMARY:Staff Meeting
DESCRIPTION:
URL:https://uucv.org/event/staff-meeting-2/2029-03-21/
LOCATION:Rev. Phoenix Office
END:VEVENT
BEGIN:VEVENT
DTSTART;TZID=America/New_York:20290321T163000
DTEND;TZID=America/New_York:20290321T170000
DTSTAMP:20260422T181942
CREATED:20241224T152618Z
LAST-MODIFIED:20241224T152619Z
UID:10018283-1868805000-1868806800@uucv.org
SUMMARY:Worship Tech Meeting
DESCRIPTION:
URL:https://uucv.org/event/worship-tech-meeting-2-2-2/2029-03-21/
LOCATION:Board and ZOOM https://zoom.us/my/meetingsuucv 572/887-2212
END:VEVENT
BEGIN:VEVENT
DTSTART;TZID=America/New_York:20290321T183000
DTEND;TZID=America/New_York:20290321T200000
DTSTAMP:20260422T181942
CREATED:20250115T174735Z
LAST-MODIFIED:20250626T160726Z
UID:10020805-1868812200-1868817600@uucv.org
SUMMARY:Social Justice Meeting
DESCRIPTION:
URL:https://uucv.org/event/social-justice-meeting-2/2029-03-21/
LOCATION:Board Room and ZOOM https://zoom.us/my/uucvpa
END:VEVENT
BEGIN:VEVENT
DTSTART;TZID=America/New_York:20290321T190000
DTEND;TZID=America/New_York:20290321T210000
DTSTAMP:20260422T181942
CREATED:20250318T175301Z
LAST-MODIFIED:20250318T175301Z
UID:10019761-1868814000-1868821200@uucv.org
SUMMARY:Men's Group
DESCRIPTION:
URL:https://uucv.org/event/mens-group/2029-03-21/
LOCATION:Area Homes
END:VEVENT
BEGIN:VEVENT
DTSTART;TZID=America/New_York:20290322T184500
DTEND;TZID=America/New_York:20290322T204500
DTSTAMP:20260422T181942
CREATED:20250122T160647Z
LAST-MODIFIED:20250122T160648Z
UID:10018992-1868899500-1868906700@uucv.org
SUMMARY:UUCV Music Small Group
DESCRIPTION:
URL:https://uucv.org/event/uucv-music-small-group-2-2/2029-03-22/
LOCATION:Mary and Matts
END:VEVENT
BEGIN:VEVENT
DTSTART;TZID=America/New_York:20290325T183000
DTEND;TZID=America/New_York:20290325T203000
DTSTAMP:20260422T181942
CREATED:20250115T181530Z
LAST-MODIFIED:20250115T181546Z
UID:10018809-1869157800-1869165000@uucv.org
SUMMARY:UUCV Book Group
DESCRIPTION:
URL:https://uucv.org/event/uucv-book-group-5/2029-03-25/
LOCATION:ZOOM https://zoom.us/my/uucvpa
END:VEVENT
BEGIN:VEVENT
DTSTART;TZID=America/New_York:20290327T180000
DTEND;TZID=America/New_York:20290327T200000
DTSTAMP:20260422T181942
CREATED:20251031T160914Z
LAST-MODIFIED:20251031T160914Z
UID:10021564-1869328800-1869336000@uucv.org
SUMMARY:COM
DESCRIPTION:
URL:https://uucv.org/event/com/2029-03-27/
LOCATION:Welcome Center
END:VEVENT
BEGIN:VEVENT
DTSTART;TZID=America/New_York:20290403T194500
DTEND;TZID=America/New_York:20290403T210000
DTSTAMP:20260422T181942
CREATED:20250827T165850Z
LAST-MODIFIED:20250827T165850Z
UID:10021130-1869939900-1869944400@uucv.org
SUMMARY:Worship Leadership Team
DESCRIPTION:
URL:https://uucv.org/event/worship-leadership-team/2029-04-03/
LOCATION:Rev. Phoenix ZOOM
END:VEVENT
BEGIN:VEVENT
DTSTART;TZID=America/New_York:20290405T191500
DTEND;TZID=America/New_York:20290405T203000
DTSTAMP:20260422T181942
CREATED:20250829T170500Z
LAST-MODIFIED:20250829T170713Z
UID:10021190-1870110900-1870115400@uucv.org
SUMMARY:Soul Matters Small Group Open to ALL
DESCRIPTION:
URL:https://uucv.org/event/soul-matters-small-group/2029-04-05/
LOCATION:ZOOM https://zoom.us/my/uucvpa
END:VEVENT
BEGIN:VEVENT
DTSTART;TZID=America/New_York:20290406T180000
DTEND;TZID=America/New_York:20290406T200000
DTSTAMP:20260422T181942
CREATED:20251031T160512Z
LAST-MODIFIED:20251031T160512Z
UID:10021444-1870192800-1870200000@uucv.org
SUMMARY:First Fridays Community Night
DESCRIPTION:
URL:https://uucv.org/event/first-fridays-community-night/2029-04-06/
LOCATION:Dining Room
END:VEVENT
BEGIN:VEVENT
DTSTART;TZID=America/New_York:20290408T083000
DTEND;TZID=America/New_York:20290408T100000
DTSTAMP:20260422T181942
CREATED:20250827T133907Z
LAST-MODIFIED:20250827T133908Z
UID:10021043-1870331400-1870336800@uucv.org
SUMMARY:Word Weavers Small Group
DESCRIPTION:
URL:https://uucv.org/event/word-weavers-small-group-2/2029-04-08/
LOCATION:Board Room
END:VEVENT
BEGIN:VEVENT
DTSTART;TZID=America/New_York:20290409T193000
DTEND;TZID=America/New_York:20290409T210000
DTSTAMP:20260422T181942
CREATED:20250827T133745Z
LAST-MODIFIED:20250827T133746Z
UID:10020984-1870457400-1870462800@uucv.org
SUMMARY:Finance
DESCRIPTION:
URL:https://uucv.org/event/finance-3-2-2-2/2029-04-09/
LOCATION:Offsite ZOOM
END:VEVENT
BEGIN:VEVENT
DTSTART;TZID=America/New_York:20290413T120000
DTEND;TZID=America/New_York:20290413T140000
DTSTAMP:20260422T181942
CREATED:20251125T191056Z
LAST-MODIFIED:20251125T191057Z
UID:10021818-1870776000-1870783200@uucv.org
SUMMARY:Soup Matters for All
DESCRIPTION:
URL:https://uucv.org/event/soup-matters-for-all-2/2029-04-13/
LOCATION:Dining Room
END:VEVENT
BEGIN:VEVENT
DTSTART;TZID=America/New_York:20290414T090000
DTEND;TZID=America/New_York:20290414T110000
DTSTAMP:20260422T181942
CREATED:20250910T142406Z
LAST-MODIFIED:20250910T172931Z
UID:10021312-1870851600-1870858800@uucv.org
SUMMARY:Caregivers Circle
DESCRIPTION:
URL:https://uucv.org/event/caregivers-circle-8/2029-04-14/
LOCATION:Youuth Room
END:VEVENT
END:VCALENDAR