BEGIN:VCALENDAR
VERSION:2.0
PRODID:-//Unitarian Universalists of the Cumberland Valley - ECPv6.15.20//NONSGML v1.0//EN
CALSCALE:GREGORIAN
METHOD:PUBLISH
X-ORIGINAL-URL:https://uucv.org
X-WR-CALDESC:Events for Unitarian Universalists of the Cumberland Valley
REFRESH-INTERVAL;VALUE=DURATION:PT1H
X-Robots-Tag:noindex
X-PUBLISHED-TTL:PT1H
BEGIN:VTIMEZONE
TZID:America/New_York
BEGIN:DAYLIGHT
TZOFFSETFROM:-0500
TZOFFSETTO:-0400
TZNAME:EDT
DTSTART:20270314T070000
END:DAYLIGHT
BEGIN:STANDARD
TZOFFSETFROM:-0400
TZOFFSETTO:-0500
TZNAME:EST
DTSTART:20271107T060000
END:STANDARD
BEGIN:DAYLIGHT
TZOFFSETFROM:-0500
TZOFFSETTO:-0400
TZNAME:EDT
DTSTART:20280312T070000
END:DAYLIGHT
BEGIN:STANDARD
TZOFFSETFROM:-0400
TZOFFSETTO:-0500
TZNAME:EST
DTSTART:20281105T060000
END:STANDARD
BEGIN:DAYLIGHT
TZOFFSETFROM:-0500
TZOFFSETTO:-0400
TZNAME:EDT
DTSTART:20290311T070000
END:DAYLIGHT
BEGIN:STANDARD
TZOFFSETFROM:-0400
TZOFFSETTO:-0500
TZNAME:EST
DTSTART:20291104T060000
END:STANDARD
END:VTIMEZONE
BEGIN:VEVENT
DTSTART;TZID=America/New_York:20280409T083000
DTEND;TZID=America/New_York:20280409T100000
DTSTAMP:20260421T002711
CREATED:20250827T133907Z
LAST-MODIFIED:20250827T133908Z
UID:10021031-1838881800-1838887200@uucv.org
SUMMARY:Word Weavers Small Group
DESCRIPTION:
URL:https://uucv.org/event/word-weavers-small-group-2/2028-04-09/
LOCATION:Board Room
END:VEVENT
BEGIN:VEVENT
DTSTART;TZID=America/New_York:20280409T103000
DTEND;TZID=America/New_York:20280409T113000
DTSTAMP:20260421T002711
CREATED:20230811T162352Z
LAST-MODIFIED:20230811T170330Z
UID:10015645-1838889000-1838892600@uucv.org
SUMMARY:Worship In-Person or ZOOM https://zoom.us/my/uucvpa
DESCRIPTION:
URL:https://uucv.org/event/worship-zoom-only-https-zoom-us-my-uucvpa-2/2028-04-09/
LOCATION:Social Hall\, PA\, United States
END:VEVENT
BEGIN:VEVENT
DTSTART;TZID=America/New_York:20280409T104500
DTEND;TZID=America/New_York:20280409T114500
DTSTAMP:20260421T002711
CREATED:20250508T170216Z
LAST-MODIFIED:20250508T170216Z
UID:10014249-1838889900-1838893500@uucv.org
SUMMARY:Religious Education K-12
DESCRIPTION:
URL:https://uucv.org/event/religious-education-k-12-2-2-2/2028-04-09/
LOCATION:Religious Education Classrooms\, 2 Forge Road\, Boiling Springs\, PA\, 17007\, United States
END:VEVENT
BEGIN:VEVENT
DTSTART;TZID=America/New_York:20280410T193000
DTEND;TZID=America/New_York:20280410T210000
DTSTAMP:20260421T002711
CREATED:20250827T133745Z
LAST-MODIFIED:20250827T133746Z
UID:10020972-1839007800-1839013200@uucv.org
SUMMARY:Finance
DESCRIPTION:
URL:https://uucv.org/event/finance-3-2-2-2/2028-04-10/
LOCATION:Offsite ZOOM
END:VEVENT
BEGIN:VEVENT
DTSTART;TZID=America/New_York:20280412T103000
DTEND;TZID=America/New_York:20280412T120000
DTSTAMP:20260421T002711
CREATED:20250625T180818Z
LAST-MODIFIED:20250625T180818Z
UID:10020520-1839148200-1839153600@uucv.org
SUMMARY:Staff Meeting
DESCRIPTION:
URL:https://uucv.org/event/staff-meeting-2/2028-04-12/
LOCATION:Rev. Phoenix Office
END:VEVENT
BEGIN:VEVENT
DTSTART;TZID=America/New_York:20280412T163000
DTEND;TZID=America/New_York:20280412T170000
DTSTAMP:20260421T002711
CREATED:20241224T152618Z
LAST-MODIFIED:20241224T152619Z
UID:10018234-1839169800-1839171600@uucv.org
SUMMARY:Worship Tech Meeting
DESCRIPTION:
URL:https://uucv.org/event/worship-tech-meeting-2-2-2/2028-04-12/
LOCATION:Board and ZOOM https://zoom.us/my/meetingsuucv 572/887-2212
END:VEVENT
BEGIN:VEVENT
DTSTART;TZID=America/New_York:20280414T120000
DTEND;TZID=America/New_York:20280414T140000
DTSTAMP:20260421T002711
CREATED:20251125T191056Z
LAST-MODIFIED:20251125T191057Z
UID:10021806-1839326400-1839333600@uucv.org
SUMMARY:Soup Matters for All
DESCRIPTION:
URL:https://uucv.org/event/soup-matters-for-all-2/2028-04-14/
LOCATION:Dining Room
END:VEVENT
BEGIN:VEVENT
DTSTART;TZID=America/New_York:20280416T090000
DTEND;TZID=America/New_York:20280416T100000
DTSTAMP:20260421T002711
CREATED:20251120T181840Z
LAST-MODIFIED:20251120T181840Z
UID:10021709-1839488400-1839492000@uucv.org
SUMMARY:Roots & Wings Community Meet-Up
DESCRIPTION:
URL:https://uucv.org/event/roots-wings-community-meet-up-2/2028-04-16/
LOCATION:Dining Hall
END:VEVENT
BEGIN:VEVENT
DTSTART;TZID=America/New_York:20280416T120000
DTEND;TZID=America/New_York:20280416T130000
DTSTAMP:20260421T002711
CREATED:20251031T161626Z
LAST-MODIFIED:20251031T161626Z
UID:10021614-1839499200-1839502800@uucv.org
SUMMARY:Outreach and Membership Meeting
DESCRIPTION:
URL:https://uucv.org/event/outreach-and-membership-meeting/2028-04-16/
LOCATION:Welcome Center
END:VEVENT
BEGIN:VEVENT
DTSTART;TZID=America/New_York:20280416T120000
DTEND;TZID=America/New_York:20280416T133000
DTSTAMP:20260421T002711
CREATED:20240328T143311Z
LAST-MODIFIED:20240328T143312Z
UID:10017394-1839499200-1839504600@uucv.org
SUMMARY:Worship Associates
DESCRIPTION:
URL:https://uucv.org/event/worship-associates-2/2028-04-16/
LOCATION:Social Hall\, PA\, United States
END:VEVENT
BEGIN:VEVENT
DTSTART;TZID=America/New_York:20280416T133000
DTEND;TZID=America/New_York:20280416T133000
DTSTAMP:20260421T002711
CREATED:20250318T175647Z
LAST-MODIFIED:20250318T175647Z
UID:10016349-1839504600-1839504600@uucv.org
SUMMARY:Kumquats - Joan's House
DESCRIPTION:
URL:https://uucv.org/event/kumquats-joans-house-2/2028-04-16/
LOCATION:Area Homes
END:VEVENT
BEGIN:VEVENT
DTSTART;TZID=America/New_York:20280418T183000
DTEND;TZID=America/New_York:20280418T203000
DTSTAMP:20260421T002711
CREATED:20250926T182036Z
LAST-MODIFIED:20250926T182037Z
UID:10021366-1839695400-1839702600@uucv.org
SUMMARY:Board of Trustees
DESCRIPTION:
URL:https://uucv.org/event/board-of-trustees-2/2028-04-18/
LOCATION:Board Room and ZOOM https://zoom.us/my/uucvpa
END:VEVENT
BEGIN:VEVENT
DTSTART;TZID=America/New_York:20280419T183000
DTEND;TZID=America/New_York:20280419T200000
DTSTAMP:20260421T002711
CREATED:20250115T174735Z
LAST-MODIFIED:20250626T160726Z
UID:10020794-1839781800-1839787200@uucv.org
SUMMARY:Social Justice Meeting
DESCRIPTION:
URL:https://uucv.org/event/social-justice-meeting-2/2028-04-19/
LOCATION:Board Room and ZOOM https://zoom.us/my/uucvpa
END:VEVENT
BEGIN:VEVENT
DTSTART;TZID=America/New_York:20280419T190000
DTEND;TZID=America/New_York:20280419T210000
DTSTAMP:20260421T002711
CREATED:20250318T175301Z
LAST-MODIFIED:20250318T175301Z
UID:10019750-1839783600-1839790800@uucv.org
SUMMARY:Men's Group
DESCRIPTION:
URL:https://uucv.org/event/mens-group/2028-04-19/
LOCATION:Area Homes
END:VEVENT
BEGIN:VEVENT
DTSTART;TZID=America/New_York:20280420T133000
DTEND;TZID=America/New_York:20280420T150000
DTSTAMP:20260421T002711
CREATED:20250626T161019Z
LAST-MODIFIED:20250626T161019Z
UID:10020852-1839850200-1839855600@uucv.org
SUMMARY:Daytimers
DESCRIPTION:
URL:https://uucv.org/event/daytimers/2028-04-20/
LOCATION:Meeting Room
END:VEVENT
BEGIN:VEVENT
DTSTART;TZID=America/New_York:20280420T140000
DTEND;TZID=America/New_York:20280420T160000
DTSTAMP:20260421T002711
CREATED:20250115T181345Z
LAST-MODIFIED:20250115T181345Z
UID:10018738-1839852000-1839859200@uucv.org
SUMMARY:The Divers Small Group
DESCRIPTION:
URL:https://uucv.org/event/gail-mike-small-group-2/2028-04-20/
LOCATION:Youuth Room
END:VEVENT
BEGIN:VEVENT
DTSTART;TZID=America/New_York:20280420T184500
DTEND;TZID=America/New_York:20280420T204500
DTSTAMP:20260421T002711
CREATED:20250122T160647Z
LAST-MODIFIED:20250122T160648Z
UID:10018968-1839869100-1839876300@uucv.org
SUMMARY:UUCV Music Small Group
DESCRIPTION:
URL:https://uucv.org/event/uucv-music-small-group-2-2/2028-04-20/
LOCATION:Mary and Matts
END:VEVENT
BEGIN:VEVENT
DTSTART;TZID=America/New_York:20280420T191500
DTEND;TZID=America/New_York:20280420T203000
DTSTAMP:20260421T002711
CREATED:20250829T170618Z
LAST-MODIFIED:20250829T170618Z
UID:10021238-1839870900-1839875400@uucv.org
SUMMARY:Soul Matters Small Group Open to ALL
DESCRIPTION:
URL:https://uucv.org/event/soul-matters-small-group-open-to-all/2028-04-20/
LOCATION:https://zoom.us/my/uucvpa
END:VEVENT
BEGIN:VEVENT
DTSTART;TZID=America/New_York:20280421T163000
DTEND;TZID=America/New_York:20280421T180000
DTSTAMP:20260421T002711
CREATED:20250318T175806Z
LAST-MODIFIED:20250625T181544Z
UID:10020728-1839947400-1839952800@uucv.org
SUMMARY:Namely Women's Group - Area Homes
DESCRIPTION:
URL:https://uucv.org/event/namely-womens-group-backyards-2/2028-04-21/
LOCATION:Area Homes\, PA
CATEGORIES:SGM
END:VEVENT
BEGIN:VEVENT
DTSTART;TZID=America/New_York:20280423T183000
DTEND;TZID=America/New_York:20280423T203000
DTSTAMP:20260421T002711
CREATED:20250115T181530Z
LAST-MODIFIED:20250115T181546Z
UID:10018798-1840127400-1840134600@uucv.org
SUMMARY:UUCV Book Group
DESCRIPTION:
URL:https://uucv.org/event/uucv-book-group-5/2028-04-23/
LOCATION:ZOOM https://zoom.us/my/uucvpa
END:VEVENT
BEGIN:VEVENT
DTSTART;TZID=America/New_York:20280425T180000
DTEND;TZID=America/New_York:20280425T200000
DTSTAMP:20260421T002711
CREATED:20251031T160914Z
LAST-MODIFIED:20251031T160914Z
UID:10021553-1840298400-1840305600@uucv.org
SUMMARY:COM
DESCRIPTION:
URL:https://uucv.org/event/com/2028-04-25/
LOCATION:Welcome Center
END:VEVENT
BEGIN:VEVENT
DTSTART;TZID=America/New_York:20280502T194500
DTEND;TZID=America/New_York:20280502T210000
DTSTAMP:20260421T002711
CREATED:20250827T165850Z
LAST-MODIFIED:20250827T165850Z
UID:10021119-1840909500-1840914000@uucv.org
SUMMARY:Worship Leadership Team
DESCRIPTION:
URL:https://uucv.org/event/worship-leadership-team/2028-05-02/
LOCATION:Rev. Phoenix ZOOM
END:VEVENT
BEGIN:VEVENT
DTSTART;TZID=America/New_York:20280504T191500
DTEND;TZID=America/New_York:20280504T203000
DTSTAMP:20260421T002711
CREATED:20250829T170500Z
LAST-MODIFIED:20250829T170713Z
UID:10021179-1841080500-1841085000@uucv.org
SUMMARY:Soul Matters Small Group Open to ALL
DESCRIPTION:
URL:https://uucv.org/event/soul-matters-small-group/2028-05-04/
LOCATION:ZOOM https://zoom.us/my/uucvpa
END:VEVENT
BEGIN:VEVENT
DTSTART;TZID=America/New_York:20280505T180000
DTEND;TZID=America/New_York:20280505T200000
DTSTAMP:20260421T002711
CREATED:20251031T160512Z
LAST-MODIFIED:20251031T160512Z
UID:10021433-1841162400-1841169600@uucv.org
SUMMARY:First Fridays Community Night
DESCRIPTION:
URL:https://uucv.org/event/first-fridays-community-night/2028-05-05/
LOCATION:Dining Room
END:VEVENT
BEGIN:VEVENT
DTSTART;TZID=America/New_York:20280513T090000
DTEND;TZID=America/New_York:20280513T110000
DTSTAMP:20260421T002711
CREATED:20250910T142406Z
LAST-MODIFIED:20250910T172931Z
UID:10021301-1841821200-1841828400@uucv.org
SUMMARY:Caregivers Circle
DESCRIPTION:
URL:https://uucv.org/event/caregivers-circle-8/2028-05-13/
LOCATION:Youuth Room
END:VEVENT
END:VCALENDAR