BEGIN:VCALENDAR
VERSION:2.0
PRODID:-//Unitarian Universalists of the Cumberland Valley - ECPv6.15.20//NONSGML v1.0//EN
CALSCALE:GREGORIAN
METHOD:PUBLISH
X-ORIGINAL-URL:https://uucv.org
X-WR-CALDESC:Events for Unitarian Universalists of the Cumberland Valley
REFRESH-INTERVAL;VALUE=DURATION:PT1H
X-Robots-Tag:noindex
X-PUBLISHED-TTL:PT1H
BEGIN:VTIMEZONE
TZID:America/New_York
BEGIN:DAYLIGHT
TZOFFSETFROM:-0500
TZOFFSETTO:-0400
TZNAME:EDT
DTSTART:20260308T070000
END:DAYLIGHT
BEGIN:STANDARD
TZOFFSETFROM:-0400
TZOFFSETTO:-0500
TZNAME:EST
DTSTART:20261101T060000
END:STANDARD
BEGIN:DAYLIGHT
TZOFFSETFROM:-0500
TZOFFSETTO:-0400
TZNAME:EDT
DTSTART:20270314T070000
END:DAYLIGHT
BEGIN:STANDARD
TZOFFSETFROM:-0400
TZOFFSETTO:-0500
TZNAME:EST
DTSTART:20271107T060000
END:STANDARD
BEGIN:DAYLIGHT
TZOFFSETFROM:-0500
TZOFFSETTO:-0400
TZNAME:EDT
DTSTART:20280312T070000
END:DAYLIGHT
BEGIN:STANDARD
TZOFFSETFROM:-0400
TZOFFSETTO:-0500
TZNAME:EST
DTSTART:20281105T060000
END:STANDARD
END:VTIMEZONE
BEGIN:VEVENT
DTSTART;TZID=America/New_York:20270216T183000
DTEND;TZID=America/New_York:20270216T203000
DTSTAMP:20260419T162303
CREATED:20250926T182036Z
LAST-MODIFIED:20250926T182037Z
UID:10021352-1802802600-1802809800@uucv.org
SUMMARY:Board of Trustees
DESCRIPTION:
URL:https://uucv.org/event/board-of-trustees-2/2027-02-16/
LOCATION:Board Room and ZOOM https://zoom.us/my/uucvpa
END:VEVENT
BEGIN:VEVENT
DTSTART;TZID=America/New_York:20270217T103000
DTEND;TZID=America/New_York:20270217T120000
DTSTAMP:20260419T162303
CREATED:20250625T180818Z
LAST-MODIFIED:20250625T180818Z
UID:10020460-1802860200-1802865600@uucv.org
SUMMARY:Staff Meeting
DESCRIPTION:
URL:https://uucv.org/event/staff-meeting-2/2027-02-17/
LOCATION:Rev. Phoenix Office
END:VEVENT
BEGIN:VEVENT
DTSTART;TZID=America/New_York:20270217T163000
DTEND;TZID=America/New_York:20270217T170000
DTSTAMP:20260419T162303
CREATED:20241224T152618Z
LAST-MODIFIED:20241224T152619Z
UID:10018174-1802881800-1802883600@uucv.org
SUMMARY:Worship Tech Meeting
DESCRIPTION:
URL:https://uucv.org/event/worship-tech-meeting-2-2-2/2027-02-17/
LOCATION:Board and ZOOM https://zoom.us/my/meetingsuucv 572/887-2212
END:VEVENT
BEGIN:VEVENT
DTSTART;TZID=America/New_York:20270217T183000
DTEND;TZID=America/New_York:20270217T200000
DTSTAMP:20260419T162303
CREATED:20250115T174735Z
LAST-MODIFIED:20250626T160726Z
UID:10020780-1802889000-1802894400@uucv.org
SUMMARY:Social Justice Meeting
DESCRIPTION:
URL:https://uucv.org/event/social-justice-meeting-2/2027-02-17/
LOCATION:Board Room and ZOOM https://zoom.us/my/uucvpa
END:VEVENT
BEGIN:VEVENT
DTSTART;TZID=America/New_York:20270217T190000
DTEND;TZID=America/New_York:20270217T210000
DTSTAMP:20260419T162303
CREATED:20250318T175301Z
LAST-MODIFIED:20250318T175301Z
UID:10019736-1802890800-1802898000@uucv.org
SUMMARY:Men's Group
DESCRIPTION:
URL:https://uucv.org/event/mens-group/2027-02-17/
LOCATION:Area Homes
END:VEVENT
BEGIN:VEVENT
DTSTART;TZID=America/New_York:20270218T133000
DTEND;TZID=America/New_York:20270218T150000
DTSTAMP:20260419T162303
CREATED:20250626T161019Z
LAST-MODIFIED:20250626T161019Z
UID:10020838-1802957400-1802962800@uucv.org
SUMMARY:Daytimers
DESCRIPTION:
URL:https://uucv.org/event/daytimers/2027-02-18/
LOCATION:Meeting Room
END:VEVENT
BEGIN:VEVENT
DTSTART;TZID=America/New_York:20270218T140000
DTEND;TZID=America/New_York:20270218T160000
DTSTAMP:20260419T162303
CREATED:20250115T181345Z
LAST-MODIFIED:20250115T181345Z
UID:10018724-1802959200-1802966400@uucv.org
SUMMARY:The Divers Small Group
DESCRIPTION:
URL:https://uucv.org/event/gail-mike-small-group-2/2027-02-18/
LOCATION:Youuth Room
END:VEVENT
BEGIN:VEVENT
DTSTART;TZID=America/New_York:20270218T191500
DTEND;TZID=America/New_York:20270218T203000
DTSTAMP:20260419T162303
CREATED:20250829T170618Z
LAST-MODIFIED:20250829T170618Z
UID:10021224-1802978100-1802982600@uucv.org
SUMMARY:Soul Matters Small Group Open to ALL
DESCRIPTION:
URL:https://uucv.org/event/soul-matters-small-group-open-to-all/2027-02-18/
LOCATION:https://zoom.us/my/uucvpa
END:VEVENT
BEGIN:VEVENT
DTSTART;TZID=America/New_York:20270219T163000
DTEND;TZID=America/New_York:20270219T180000
DTSTAMP:20260419T162303
CREATED:20250318T175806Z
LAST-MODIFIED:20250625T181544Z
UID:10020714-1803054600-1803060000@uucv.org
SUMMARY:Namely Women's Group - Area Homes
DESCRIPTION:
URL:https://uucv.org/event/namely-womens-group-backyards-2/2027-02-19/
LOCATION:Area Homes\, PA
CATEGORIES:SGM
END:VEVENT
BEGIN:VEVENT
DTSTART;TZID=America/New_York:20270221T090000
DTEND;TZID=America/New_York:20270221T100000
DTSTAMP:20260419T162303
CREATED:20251120T181840Z
LAST-MODIFIED:20251120T181840Z
UID:10021679-1803200400-1803204000@uucv.org
SUMMARY:Roots & Wings Community Meet-Up
DESCRIPTION:
URL:https://uucv.org/event/roots-wings-community-meet-up-2/2027-02-21/
LOCATION:Dining Hall
END:VEVENT
BEGIN:VEVENT
DTSTART;TZID=America/New_York:20270221T103000
DTEND;TZID=America/New_York:20270221T113000
DTSTAMP:20260419T162303
CREATED:20230811T162352Z
LAST-MODIFIED:20230811T170330Z
UID:10015586-1803205800-1803209400@uucv.org
SUMMARY:Worship In-Person or ZOOM https://zoom.us/my/uucvpa
DESCRIPTION:
URL:https://uucv.org/event/worship-zoom-only-https-zoom-us-my-uucvpa-2/2027-02-21/
LOCATION:Social Hall\, PA\, United States
END:VEVENT
BEGIN:VEVENT
DTSTART;TZID=America/New_York:20270221T104500
DTEND;TZID=America/New_York:20270221T114500
DTSTAMP:20260419T162303
CREATED:20250508T170216Z
LAST-MODIFIED:20250508T170216Z
UID:10014190-1803206700-1803210300@uucv.org
SUMMARY:Religious Education K-12
DESCRIPTION:
URL:https://uucv.org/event/religious-education-k-12-2-2-2/2027-02-21/
LOCATION:Religious Education Classrooms\, 2 Forge Road\, Boiling Springs\, PA\, 17007\, United States
END:VEVENT
BEGIN:VEVENT
DTSTART;TZID=America/New_York:20270221T120000
DTEND;TZID=America/New_York:20270221T130000
DTSTAMP:20260419T162303
CREATED:20251031T161626Z
LAST-MODIFIED:20251031T161626Z
UID:10021600-1803211200-1803214800@uucv.org
SUMMARY:Outreach and Membership Meeting
DESCRIPTION:
URL:https://uucv.org/event/outreach-and-membership-meeting/2027-02-21/
LOCATION:Welcome Center
END:VEVENT
BEGIN:VEVENT
DTSTART;TZID=America/New_York:20270221T120000
DTEND;TZID=America/New_York:20270221T133000
DTSTAMP:20260419T162303
CREATED:20240328T143311Z
LAST-MODIFIED:20240328T143312Z
UID:10017380-1803211200-1803216600@uucv.org
SUMMARY:Worship Associates
DESCRIPTION:
URL:https://uucv.org/event/worship-associates-2/2027-02-21/
LOCATION:Social Hall\, PA\, United States
END:VEVENT
BEGIN:VEVENT
DTSTART;TZID=America/New_York:20270221T133000
DTEND;TZID=America/New_York:20270221T133000
DTSTAMP:20260419T162303
CREATED:20250318T175647Z
LAST-MODIFIED:20250318T175647Z
UID:10016335-1803216600-1803216600@uucv.org
SUMMARY:Kumquats - Joan's House
DESCRIPTION:
URL:https://uucv.org/event/kumquats-joans-house-2/2027-02-21/
LOCATION:Area Homes
END:VEVENT
BEGIN:VEVENT
DTSTART;TZID=America/New_York:20270223T180000
DTEND;TZID=America/New_York:20270223T200000
DTSTAMP:20260419T162303
CREATED:20251031T160914Z
LAST-MODIFIED:20251031T160914Z
UID:10021539-1803405600-1803412800@uucv.org
SUMMARY:COM
DESCRIPTION:
URL:https://uucv.org/event/com/2027-02-23/
LOCATION:Welcome Center
END:VEVENT
BEGIN:VEVENT
DTSTART;TZID=America/New_York:20270225T184500
DTEND;TZID=America/New_York:20270225T204500
DTSTAMP:20260419T162303
CREATED:20250122T160647Z
LAST-MODIFIED:20250122T160648Z
UID:10018938-1803581100-1803588300@uucv.org
SUMMARY:UUCV Music Small Group
DESCRIPTION:
URL:https://uucv.org/event/uucv-music-small-group-2-2/2027-02-25/
LOCATION:Mary and Matts
END:VEVENT
BEGIN:VEVENT
DTSTART;TZID=America/New_York:20270228T183000
DTEND;TZID=America/New_York:20270228T203000
DTSTAMP:20260419T162303
CREATED:20250115T181530Z
LAST-MODIFIED:20250115T181546Z
UID:10018784-1803839400-1803846600@uucv.org
SUMMARY:UUCV Book Group
DESCRIPTION:
URL:https://uucv.org/event/uucv-book-group-5/2027-02-28/
LOCATION:ZOOM https://zoom.us/my/uucvpa
END:VEVENT
BEGIN:VEVENT
DTSTART;TZID=America/New_York:20270302T194500
DTEND;TZID=America/New_York:20270302T210000
DTSTAMP:20260419T162303
CREATED:20250827T165850Z
LAST-MODIFIED:20250827T165850Z
UID:10021105-1804016700-1804021200@uucv.org
SUMMARY:Worship Leadership Team
DESCRIPTION:
URL:https://uucv.org/event/worship-leadership-team/2027-03-02/
LOCATION:Rev. Phoenix ZOOM
END:VEVENT
BEGIN:VEVENT
DTSTART;TZID=America/New_York:20270304T191500
DTEND;TZID=America/New_York:20270304T203000
DTSTAMP:20260419T162303
CREATED:20250829T170500Z
LAST-MODIFIED:20250829T170713Z
UID:10021165-1804187700-1804192200@uucv.org
SUMMARY:Soul Matters Small Group Open to ALL
DESCRIPTION:
URL:https://uucv.org/event/soul-matters-small-group/2027-03-04/
LOCATION:ZOOM https://zoom.us/my/uucvpa
END:VEVENT
BEGIN:VEVENT
DTSTART;TZID=America/New_York:20270305T180000
DTEND;TZID=America/New_York:20270305T200000
DTSTAMP:20260419T162303
CREATED:20251031T160512Z
LAST-MODIFIED:20251031T160512Z
UID:10021419-1804269600-1804276800@uucv.org
SUMMARY:First Fridays Community Night
DESCRIPTION:
URL:https://uucv.org/event/first-fridays-community-night/2027-03-05/
LOCATION:Dining Room
END:VEVENT
BEGIN:VEVENT
DTSTART;TZID=America/New_York:20270308T193000
DTEND;TZID=America/New_York:20270308T210000
DTSTAMP:20260419T162303
CREATED:20250827T133745Z
LAST-MODIFIED:20250827T133746Z
UID:10020959-1804534200-1804539600@uucv.org
SUMMARY:Finance
DESCRIPTION:
URL:https://uucv.org/event/finance-3-2-2-2/2027-03-08/
LOCATION:Offsite ZOOM
END:VEVENT
BEGIN:VEVENT
DTSTART;TZID=America/New_York:20270312T120000
DTEND;TZID=America/New_York:20270312T140000
DTSTAMP:20260419T162303
CREATED:20251125T191056Z
LAST-MODIFIED:20251125T191057Z
UID:10021793-1804852800-1804860000@uucv.org
SUMMARY:Soup Matters for All
DESCRIPTION:
URL:https://uucv.org/event/soup-matters-for-all-2/2027-03-12/
LOCATION:Dining Room
END:VEVENT
BEGIN:VEVENT
DTSTART;TZID=America/New_York:20270313T090000
DTEND;TZID=America/New_York:20270313T110000
DTSTAMP:20260419T162303
CREATED:20250910T142406Z
LAST-MODIFIED:20250910T172931Z
UID:10021287-1804928400-1804935600@uucv.org
SUMMARY:Caregivers Circle
DESCRIPTION:
URL:https://uucv.org/event/caregivers-circle-8/2027-03-13/
LOCATION:Youuth Room
END:VEVENT
BEGIN:VEVENT
DTSTART;TZID=America/New_York:20270314T083000
DTEND;TZID=America/New_York:20270314T100000
DTSTAMP:20260419T162303
CREATED:20250827T133907Z
LAST-MODIFIED:20250827T133908Z
UID:10021018-1805013000-1805018400@uucv.org
SUMMARY:Word Weavers Small Group
DESCRIPTION:
URL:https://uucv.org/event/word-weavers-small-group-2/2027-03-14/
LOCATION:Board Room
END:VEVENT
END:VCALENDAR