BEGIN:VCALENDAR
VERSION:2.0
PRODID:-//Unitarian Universalists of the Cumberland Valley - ECPv6.15.20//NONSGML v1.0//EN
CALSCALE:GREGORIAN
METHOD:PUBLISH
X-ORIGINAL-URL:https://uucv.org
X-WR-CALDESC:Events for Unitarian Universalists of the Cumberland Valley
REFRESH-INTERVAL;VALUE=DURATION:PT1H
X-Robots-Tag:noindex
X-PUBLISHED-TTL:PT1H
BEGIN:VTIMEZONE
TZID:America/New_York
BEGIN:DAYLIGHT
TZOFFSETFROM:-0500
TZOFFSETTO:-0400
TZNAME:EDT
DTSTART:20250309T070000
END:DAYLIGHT
BEGIN:STANDARD
TZOFFSETFROM:-0400
TZOFFSETTO:-0500
TZNAME:EST
DTSTART:20251102T060000
END:STANDARD
BEGIN:DAYLIGHT
TZOFFSETFROM:-0500
TZOFFSETTO:-0400
TZNAME:EDT
DTSTART:20260308T070000
END:DAYLIGHT
BEGIN:STANDARD
TZOFFSETFROM:-0400
TZOFFSETTO:-0500
TZNAME:EST
DTSTART:20261101T060000
END:STANDARD
BEGIN:DAYLIGHT
TZOFFSETFROM:-0500
TZOFFSETTO:-0400
TZNAME:EDT
DTSTART:20270314T070000
END:DAYLIGHT
BEGIN:STANDARD
TZOFFSETFROM:-0400
TZOFFSETTO:-0500
TZNAME:EST
DTSTART:20271107T060000
END:STANDARD
END:VTIMEZONE
BEGIN:VEVENT
DTSTART;TZID=America/New_York:20261104T103000
DTEND;TZID=America/New_York:20261104T120000
DTSTAMP:20260419T120237
CREATED:20250625T180818Z
LAST-MODIFIED:20250625T180818Z
UID:10020445-1793788200-1793793600@uucv.org
SUMMARY:Staff Meeting
DESCRIPTION:
URL:https://uucv.org/event/staff-meeting-2/2026-11-04/
LOCATION:Rev. Phoenix Office
END:VEVENT
BEGIN:VEVENT
DTSTART;TZID=America/New_York:20261104T163000
DTEND;TZID=America/New_York:20261104T170000
DTSTAMP:20260419T120237
CREATED:20241224T152618Z
LAST-MODIFIED:20241224T152619Z
UID:10018159-1793809800-1793811600@uucv.org
SUMMARY:Worship Tech Meeting
DESCRIPTION:
URL:https://uucv.org/event/worship-tech-meeting-2-2-2/2026-11-04/
LOCATION:Board and ZOOM https://zoom.us/my/meetingsuucv 572/887-2212
END:VEVENT
BEGIN:VEVENT
DTSTART;TZID=America/New_York:20261105T184500
DTEND;TZID=America/New_York:20261105T204500
DTSTAMP:20260419T120237
CREATED:20250122T160647Z
LAST-MODIFIED:20250122T160648Z
UID:10018930-1793904300-1793911500@uucv.org
SUMMARY:UUCV Music Small Group
DESCRIPTION:
URL:https://uucv.org/event/uucv-music-small-group-2-2/2026-11-05/
LOCATION:Mary and Matts
END:VEVENT
BEGIN:VEVENT
DTSTART;TZID=America/New_York:20261105T191500
DTEND;TZID=America/New_York:20261105T203000
DTSTAMP:20260419T120237
CREATED:20250829T170500Z
LAST-MODIFIED:20250829T170713Z
UID:10021161-1793906100-1793910600@uucv.org
SUMMARY:Soul Matters Small Group Open to ALL
DESCRIPTION:
URL:https://uucv.org/event/soul-matters-small-group/2026-11-05/
LOCATION:ZOOM https://zoom.us/my/uucvpa
END:VEVENT
BEGIN:VEVENT
DTSTART;TZID=America/New_York:20261106T180000
DTEND;TZID=America/New_York:20261106T200000
DTSTAMP:20260419T120238
CREATED:20251031T160512Z
LAST-MODIFIED:20251031T160512Z
UID:10021415-1793988000-1793995200@uucv.org
SUMMARY:First Fridays Community Night
DESCRIPTION:
URL:https://uucv.org/event/first-fridays-community-night/2026-11-06/
LOCATION:Dining Room
END:VEVENT
BEGIN:VEVENT
DTSTART;TZID=America/New_York:20261108T083000
DTEND;TZID=America/New_York:20261108T100000
DTSTAMP:20260419T120238
CREATED:20250827T133907Z
LAST-MODIFIED:20250827T133908Z
UID:10021014-1794126600-1794132000@uucv.org
SUMMARY:Word Weavers Small Group
DESCRIPTION:
URL:https://uucv.org/event/word-weavers-small-group-2/2026-11-08/
LOCATION:Board Room
END:VEVENT
BEGIN:VEVENT
DTSTART;TZID=America/New_York:20261108T103000
DTEND;TZID=America/New_York:20261108T113000
DTSTAMP:20260419T120238
CREATED:20230811T162352Z
LAST-MODIFIED:20230811T170330Z
UID:10015571-1794133800-1794137400@uucv.org
SUMMARY:Worship In-Person or ZOOM https://zoom.us/my/uucvpa
DESCRIPTION:
URL:https://uucv.org/event/worship-zoom-only-https-zoom-us-my-uucvpa-2/2026-11-08/
LOCATION:Social Hall\, PA\, United States
END:VEVENT
BEGIN:VEVENT
DTSTART;TZID=America/New_York:20261108T104500
DTEND;TZID=America/New_York:20261108T114500
DTSTAMP:20260419T120238
CREATED:20250508T170216Z
LAST-MODIFIED:20250508T170216Z
UID:10014175-1794134700-1794138300@uucv.org
SUMMARY:Religious Education K-12
DESCRIPTION:
URL:https://uucv.org/event/religious-education-k-12-2-2-2/2026-11-08/
LOCATION:Religious Education Classrooms\, 2 Forge Road\, Boiling Springs\, PA\, 17007\, United States
END:VEVENT
BEGIN:VEVENT
DTSTART;TZID=America/New_York:20261109T193000
DTEND;TZID=America/New_York:20261109T210000
DTSTAMP:20260419T120238
CREATED:20250827T133745Z
LAST-MODIFIED:20250827T133746Z
UID:10020955-1794252600-1794258000@uucv.org
SUMMARY:Finance
DESCRIPTION:
URL:https://uucv.org/event/finance-3-2-2-2/2026-11-09/
LOCATION:Offsite ZOOM
END:VEVENT
BEGIN:VEVENT
DTSTART;TZID=America/New_York:20261113T120000
DTEND;TZID=America/New_York:20261113T140000
DTSTAMP:20260419T120238
CREATED:20251125T191056Z
LAST-MODIFIED:20251125T191057Z
UID:10021789-1794571200-1794578400@uucv.org
SUMMARY:Soup Matters for All
DESCRIPTION:
URL:https://uucv.org/event/soup-matters-for-all-2/2026-11-13/
LOCATION:Dining Room
END:VEVENT
BEGIN:VEVENT
DTSTART;TZID=America/New_York:20261114T090000
DTEND;TZID=America/New_York:20261114T110000
DTSTAMP:20260419T120238
CREATED:20250910T142406Z
LAST-MODIFIED:20250910T172931Z
UID:10021283-1794646800-1794654000@uucv.org
SUMMARY:Caregivers Circle
DESCRIPTION:
URL:https://uucv.org/event/caregivers-circle-8/2026-11-14/
LOCATION:Youuth Room
END:VEVENT
BEGIN:VEVENT
DTSTART;TZID=America/New_York:20261115T090000
DTEND;TZID=America/New_York:20261115T100000
DTSTAMP:20260419T120238
CREATED:20251120T181840Z
LAST-MODIFIED:20251120T181840Z
UID:10021672-1794733200-1794736800@uucv.org
SUMMARY:Roots & Wings Community Meet-Up
DESCRIPTION:
URL:https://uucv.org/event/roots-wings-community-meet-up-2/2026-11-15/
LOCATION:Dining Hall
END:VEVENT
BEGIN:VEVENT
DTSTART;TZID=America/New_York:20261115T120000
DTEND;TZID=America/New_York:20261115T130000
DTSTAMP:20260419T120238
CREATED:20251031T161626Z
LAST-MODIFIED:20251031T161626Z
UID:10021597-1794744000-1794747600@uucv.org
SUMMARY:Outreach and Membership Meeting
DESCRIPTION:
URL:https://uucv.org/event/outreach-and-membership-meeting/2026-11-15/
LOCATION:Welcome Center
END:VEVENT
BEGIN:VEVENT
DTSTART;TZID=America/New_York:20261115T120000
DTEND;TZID=America/New_York:20261115T133000
DTSTAMP:20260419T120238
CREATED:20240328T143311Z
LAST-MODIFIED:20240328T143312Z
UID:10017377-1794744000-1794749400@uucv.org
SUMMARY:Worship Associates
DESCRIPTION:
URL:https://uucv.org/event/worship-associates-2/2026-11-15/
LOCATION:Social Hall\, PA\, United States
END:VEVENT
BEGIN:VEVENT
DTSTART;TZID=America/New_York:20261115T133000
DTEND;TZID=America/New_York:20261115T133000
DTSTAMP:20260419T120238
CREATED:20250318T175647Z
LAST-MODIFIED:20250318T175647Z
UID:10016332-1794749400-1794749400@uucv.org
SUMMARY:Kumquats - Joan's House
DESCRIPTION:
URL:https://uucv.org/event/kumquats-joans-house-2/2026-11-15/
LOCATION:Area Homes
END:VEVENT
BEGIN:VEVENT
DTSTART;TZID=America/New_York:20261117T183000
DTEND;TZID=America/New_York:20261117T203000
DTSTAMP:20260419T120238
CREATED:20250926T182036Z
LAST-MODIFIED:20250926T182037Z
UID:10021349-1794940200-1794947400@uucv.org
SUMMARY:Board of Trustees
DESCRIPTION:
URL:https://uucv.org/event/board-of-trustees-2/2026-11-17/
LOCATION:Board Room and ZOOM https://zoom.us/my/uucvpa
END:VEVENT
BEGIN:VEVENT
DTSTART;TZID=America/New_York:20261118T183000
DTEND;TZID=America/New_York:20261118T200000
DTSTAMP:20260419T120238
CREATED:20250115T174735Z
LAST-MODIFIED:20250626T160726Z
UID:10020777-1795026600-1795032000@uucv.org
SUMMARY:Social Justice Meeting
DESCRIPTION:
URL:https://uucv.org/event/social-justice-meeting-2/2026-11-18/
LOCATION:Board Room and ZOOM https://zoom.us/my/uucvpa
END:VEVENT
BEGIN:VEVENT
DTSTART;TZID=America/New_York:20261118T190000
DTEND;TZID=America/New_York:20261118T210000
DTSTAMP:20260419T120238
CREATED:20250318T175301Z
LAST-MODIFIED:20250318T175301Z
UID:10019733-1795028400-1795035600@uucv.org
SUMMARY:Men's Group
DESCRIPTION:
URL:https://uucv.org/event/mens-group/2026-11-18/
LOCATION:Area Homes
END:VEVENT
BEGIN:VEVENT
DTSTART;TZID=America/New_York:20261119T133000
DTEND;TZID=America/New_York:20261119T150000
DTSTAMP:20260419T120238
CREATED:20250626T161019Z
LAST-MODIFIED:20250626T161019Z
UID:10020835-1795095000-1795100400@uucv.org
SUMMARY:Daytimers
DESCRIPTION:
URL:https://uucv.org/event/daytimers/2026-11-19/
LOCATION:Meeting Room
END:VEVENT
BEGIN:VEVENT
DTSTART;TZID=America/New_York:20261119T140000
DTEND;TZID=America/New_York:20261119T160000
DTSTAMP:20260419T120238
CREATED:20250115T181345Z
LAST-MODIFIED:20250115T181345Z
UID:10018721-1795096800-1795104000@uucv.org
SUMMARY:The Divers Small Group
DESCRIPTION:
URL:https://uucv.org/event/gail-mike-small-group-2/2026-11-19/
LOCATION:Youuth Room
END:VEVENT
BEGIN:VEVENT
DTSTART;TZID=America/New_York:20261119T191500
DTEND;TZID=America/New_York:20261119T203000
DTSTAMP:20260419T120238
CREATED:20250829T170618Z
LAST-MODIFIED:20250829T170618Z
UID:10021221-1795115700-1795120200@uucv.org
SUMMARY:Soul Matters Small Group Open to ALL
DESCRIPTION:
URL:https://uucv.org/event/soul-matters-small-group-open-to-all/2026-11-19/
LOCATION:https://zoom.us/my/uucvpa
END:VEVENT
BEGIN:VEVENT
DTSTART;TZID=America/New_York:20261120T163000
DTEND;TZID=America/New_York:20261120T180000
DTSTAMP:20260419T120238
CREATED:20250318T175806Z
LAST-MODIFIED:20250625T181544Z
UID:10020711-1795192200-1795197600@uucv.org
SUMMARY:Namely Women's Group - Area Homes
DESCRIPTION:
URL:https://uucv.org/event/namely-womens-group-backyards-2/2026-11-20/
LOCATION:Area Homes\, PA
CATEGORIES:SGM
END:VEVENT
BEGIN:VEVENT
DTSTART;TZID=America/New_York:20261122T183000
DTEND;TZID=America/New_York:20261122T203000
DTSTAMP:20260419T120238
CREATED:20250115T181530Z
LAST-MODIFIED:20250115T181546Z
UID:10018781-1795372200-1795379400@uucv.org
SUMMARY:UUCV Book Group
DESCRIPTION:
URL:https://uucv.org/event/uucv-book-group-5/2026-11-22/
LOCATION:ZOOM https://zoom.us/my/uucvpa
END:VEVENT
BEGIN:VEVENT
DTSTART;TZID=America/New_York:20261124T180000
DTEND;TZID=America/New_York:20261124T200000
DTSTAMP:20260419T120238
CREATED:20251031T160914Z
LAST-MODIFIED:20251031T160914Z
UID:10021536-1795543200-1795550400@uucv.org
SUMMARY:COM
DESCRIPTION:
URL:https://uucv.org/event/com/2026-11-24/
LOCATION:Welcome Center
END:VEVENT
BEGIN:VEVENT
DTSTART;TZID=America/New_York:20261201T194500
DTEND;TZID=America/New_York:20261201T210000
DTSTAMP:20260419T120238
CREATED:20250827T165850Z
LAST-MODIFIED:20250827T165850Z
UID:10021102-1796154300-1796158800@uucv.org
SUMMARY:Worship Leadership Team
DESCRIPTION:
URL:https://uucv.org/event/worship-leadership-team/2026-12-01/
LOCATION:Rev. Phoenix ZOOM
END:VEVENT
END:VCALENDAR