BEGIN:VCALENDAR
VERSION:2.0
PRODID:-//Unitarian Universalists of the Cumberland Valley - ECPv6.15.20//NONSGML v1.0//EN
CALSCALE:GREGORIAN
METHOD:PUBLISH
X-WR-CALNAME:Unitarian Universalists of the Cumberland Valley
X-ORIGINAL-URL:https://uucv.org
X-WR-CALDESC:Events for Unitarian Universalists of the Cumberland Valley
REFRESH-INTERVAL;VALUE=DURATION:PT1H
X-Robots-Tag:noindex
X-PUBLISHED-TTL:PT1H
BEGIN:VTIMEZONE
TZID:America/New_York
BEGIN:DAYLIGHT
TZOFFSETFROM:-0500
TZOFFSETTO:-0400
TZNAME:EDT
DTSTART:20290311T070000
END:DAYLIGHT
BEGIN:STANDARD
TZOFFSETFROM:-0400
TZOFFSETTO:-0500
TZNAME:EST
DTSTART:20291104T060000
END:STANDARD
BEGIN:DAYLIGHT
TZOFFSETFROM:-0500
TZOFFSETTO:-0400
TZNAME:EDT
DTSTART:20300310T070000
END:DAYLIGHT
BEGIN:STANDARD
TZOFFSETFROM:-0400
TZOFFSETTO:-0500
TZNAME:EST
DTSTART:20301103T060000
END:STANDARD
BEGIN:DAYLIGHT
TZOFFSETFROM:-0500
TZOFFSETTO:-0400
TZNAME:EDT
DTSTART:20310309T070000
END:DAYLIGHT
BEGIN:STANDARD
TZOFFSETFROM:-0400
TZOFFSETTO:-0500
TZNAME:EST
DTSTART:20311102T060000
END:STANDARD
END:VTIMEZONE
BEGIN:VEVENT
DTSTART;TZID=America/New_York:20300820T183000
DTEND;TZID=America/New_York:20300820T203000
DTSTAMP:20260424T225627
CREATED:20250926T182036Z
LAST-MODIFIED:20250926T182037Z
UID:10021394-1913481000-1913488200@uucv.org
SUMMARY:Board of Trustees
DESCRIPTION:
URL:https://uucv.org/event/board-of-trustees-2/2030-08-20/
LOCATION:Board Room and ZOOM https://zoom.us/my/uucvpa
END:VEVENT
BEGIN:VEVENT
DTSTART;TZID=America/New_York:20300827T180000
DTEND;TZID=America/New_York:20300827T200000
DTSTAMP:20260424T225627
CREATED:20251031T160914Z
LAST-MODIFIED:20251031T160914Z
UID:10021581-1914084000-1914091200@uucv.org
SUMMARY:COM
DESCRIPTION:
URL:https://uucv.org/event/com/2030-08-27/
LOCATION:Welcome Center
END:VEVENT
BEGIN:VEVENT
DTSTART;TZID=America/New_York:20300901T090000
DTEND;TZID=America/New_York:20300901T100000
DTSTAMP:20260424T225627
CREATED:20251120T181840Z
LAST-MODIFIED:20251120T181840Z
UID:10021771-1914483600-1914487200@uucv.org
SUMMARY:Roots & Wings Community Meet-Up
DESCRIPTION:
URL:https://uucv.org/event/roots-wings-community-meet-up-2/2030-09-01/
LOCATION:Dining Hall
END:VEVENT
BEGIN:VEVENT
DTSTART;TZID=America/New_York:20300906T180000
DTEND;TZID=America/New_York:20300906T200000
DTSTAMP:20260424T225627
CREATED:20251031T160512Z
LAST-MODIFIED:20251031T160512Z
UID:10021461-1914948000-1914955200@uucv.org
SUMMARY:First Fridays Community Night
DESCRIPTION:
URL:https://uucv.org/event/first-fridays-community-night/2030-09-06/
LOCATION:Dining Room
END:VEVENT
BEGIN:VEVENT
DTSTART;TZID=America/New_York:20300913T120000
DTEND;TZID=America/New_York:20300913T140000
DTSTAMP:20260424T225627
CREATED:20251125T191056Z
LAST-MODIFIED:20251125T191057Z
UID:10021835-1915531200-1915538400@uucv.org
SUMMARY:Soup Matters for All
DESCRIPTION:
URL:https://uucv.org/event/soup-matters-for-all-2/2030-09-13/
LOCATION:Dining Room
END:VEVENT
BEGIN:VEVENT
DTSTART;TZID=America/New_York:20300915T120000
DTEND;TZID=America/New_York:20300915T130000
DTSTAMP:20260424T225627
CREATED:20251031T161626Z
LAST-MODIFIED:20251031T161626Z
UID:10021643-1915704000-1915707600@uucv.org
SUMMARY:Outreach and Membership Meeting
DESCRIPTION:
URL:https://uucv.org/event/outreach-and-membership-meeting/2030-09-15/
LOCATION:Welcome Center
END:VEVENT
END:VCALENDAR