BEGIN:VCALENDAR
VERSION:2.0
PRODID:-//Unitarian Universalists of the Cumberland Valley - ECPv6.15.20//NONSGML v1.0//EN
CALSCALE:GREGORIAN
METHOD:PUBLISH
X-WR-CALNAME:Unitarian Universalists of the Cumberland Valley
X-ORIGINAL-URL:https://uucv.org
X-WR-CALDESC:Events for Unitarian Universalists of the Cumberland Valley
REFRESH-INTERVAL;VALUE=DURATION:PT1H
X-Robots-Tag:noindex
X-PUBLISHED-TTL:PT1H
BEGIN:VTIMEZONE
TZID:America/New_York
BEGIN:DAYLIGHT
TZOFFSETFROM:-0500
TZOFFSETTO:-0400
TZNAME:EDT
DTSTART:20280312T070000
END:DAYLIGHT
BEGIN:STANDARD
TZOFFSETFROM:-0400
TZOFFSETTO:-0500
TZNAME:EST
DTSTART:20281105T060000
END:STANDARD
BEGIN:DAYLIGHT
TZOFFSETFROM:-0500
TZOFFSETTO:-0400
TZNAME:EDT
DTSTART:20290311T070000
END:DAYLIGHT
BEGIN:STANDARD
TZOFFSETFROM:-0400
TZOFFSETTO:-0500
TZNAME:EST
DTSTART:20291104T060000
END:STANDARD
BEGIN:DAYLIGHT
TZOFFSETFROM:-0500
TZOFFSETTO:-0400
TZNAME:EDT
DTSTART:20300310T070000
END:DAYLIGHT
BEGIN:STANDARD
TZOFFSETFROM:-0400
TZOFFSETTO:-0500
TZNAME:EST
DTSTART:20301103T060000
END:STANDARD
BEGIN:DAYLIGHT
TZOFFSETFROM:-0500
TZOFFSETTO:-0400
TZNAME:EDT
DTSTART:20310309T070000
END:DAYLIGHT
BEGIN:STANDARD
TZOFFSETFROM:-0400
TZOFFSETTO:-0500
TZNAME:EST
DTSTART:20311102T060000
END:STANDARD
END:VTIMEZONE
BEGIN:VEVENT
DTSTART;TZID=America/New_York:20291207T180000
DTEND;TZID=America/New_York:20291207T200000
DTSTAMP:20260424T032739
CREATED:20251031T160512Z
LAST-MODIFIED:20251031T160512Z
UID:10021452-1891360800-1891368000@uucv.org
SUMMARY:First Fridays Community Night
DESCRIPTION:
URL:https://uucv.org/event/first-fridays-community-night/2029-12-07/
LOCATION:Dining Room
END:VEVENT
BEGIN:VEVENT
DTSTART;TZID=America/New_York:20291208T090000
DTEND;TZID=America/New_York:20291208T110000
DTSTAMP:20260424T032739
CREATED:20250910T142406Z
LAST-MODIFIED:20250910T172931Z
UID:10021320-1891414800-1891422000@uucv.org
SUMMARY:Caregivers Circle
DESCRIPTION:
URL:https://uucv.org/event/caregivers-circle-8/2029-12-08/
LOCATION:Youuth Room
END:VEVENT
BEGIN:VEVENT
DTSTART;TZID=America/New_York:20291209T083000
DTEND;TZID=America/New_York:20291209T100000
DTSTAMP:20260424T032739
CREATED:20250827T133907Z
LAST-MODIFIED:20250827T133908Z
UID:10021051-1891499400-1891504800@uucv.org
SUMMARY:Word Weavers Small Group
DESCRIPTION:
URL:https://uucv.org/event/word-weavers-small-group-2/2029-12-09/
LOCATION:Board Room
END:VEVENT
BEGIN:VEVENT
DTSTART;TZID=America/New_York:20291209T090000
DTEND;TZID=America/New_York:20291209T100000
DTSTAMP:20260424T032739
CREATED:20251120T181840Z
LAST-MODIFIED:20251120T181840Z
UID:10021752-1891501200-1891504800@uucv.org
SUMMARY:Roots & Wings Community Meet-Up
DESCRIPTION:
URL:https://uucv.org/event/roots-wings-community-meet-up-2/2029-12-09/
LOCATION:Dining Hall
END:VEVENT
BEGIN:VEVENT
DTSTART;TZID=America/New_York:20291209T104500
DTEND;TZID=America/New_York:20291209T114500
DTSTAMP:20260424T032739
CREATED:20250508T170216Z
LAST-MODIFIED:20250508T170216Z
UID:10018676-1891507500-1891511100@uucv.org
SUMMARY:Religious Education K-12
DESCRIPTION:
URL:https://uucv.org/event/religious-education-k-12-2-2-2/2029-12-09/
LOCATION:Religious Education Classrooms\, 2 Forge Road\, Boiling Springs\, PA\, 17007\, United States
END:VEVENT
BEGIN:VEVENT
DTSTART;TZID=America/New_York:20291210T193000
DTEND;TZID=America/New_York:20291210T210000
DTSTAMP:20260424T032739
CREATED:20250827T133745Z
LAST-MODIFIED:20250827T133746Z
UID:10020992-1891625400-1891630800@uucv.org
SUMMARY:Finance
DESCRIPTION:
URL:https://uucv.org/event/finance-3-2-2-2/2029-12-10/
LOCATION:Offsite ZOOM
END:VEVENT
BEGIN:VEVENT
DTSTART;TZID=America/New_York:20291212T103000
DTEND;TZID=America/New_York:20291212T120000
DTSTAMP:20260424T032739
CREATED:20250625T180818Z
LAST-MODIFIED:20250625T180818Z
UID:10020607-1891765800-1891771200@uucv.org
SUMMARY:Staff Meeting
DESCRIPTION:
URL:https://uucv.org/event/staff-meeting-2/2029-12-12/
LOCATION:Rev. Phoenix Office
END:VEVENT
BEGIN:VEVENT
DTSTART;TZID=America/New_York:20291212T163000
DTEND;TZID=America/New_York:20291212T170000
DTSTAMP:20260424T032739
CREATED:20241224T152618Z
LAST-MODIFIED:20241224T152619Z
UID:10018693-1891787400-1891789200@uucv.org
SUMMARY:Worship Tech Meeting
DESCRIPTION:
URL:https://uucv.org/event/worship-tech-meeting-2-2-2/2029-12-12/
LOCATION:Board and ZOOM https://zoom.us/my/meetingsuucv 572/887-2212
END:VEVENT
BEGIN:VEVENT
DTSTART;TZID=America/New_York:20291213T184500
DTEND;TZID=America/New_York:20291213T204500
DTSTAMP:20260424T032739
CREATED:20250122T160647Z
LAST-MODIFIED:20250122T160648Z
UID:10019011-1891881900-1891889100@uucv.org
SUMMARY:UUCV Music Small Group
DESCRIPTION:
URL:https://uucv.org/event/uucv-music-small-group-2-2/2029-12-13/
LOCATION:Mary and Matts
END:VEVENT
BEGIN:VEVENT
DTSTART;TZID=America/New_York:20291214T120000
DTEND;TZID=America/New_York:20291214T140000
DTSTAMP:20260424T032739
CREATED:20251125T191056Z
LAST-MODIFIED:20251125T191057Z
UID:10021826-1891944000-1891951200@uucv.org
SUMMARY:Soup Matters for All
DESCRIPTION:
URL:https://uucv.org/event/soup-matters-for-all-2/2029-12-14/
LOCATION:Dining Room
END:VEVENT
BEGIN:VEVENT
DTSTART;TZID=America/New_York:20291216T120000
DTEND;TZID=America/New_York:20291216T130000
DTSTAMP:20260424T032739
CREATED:20251031T161626Z
LAST-MODIFIED:20251031T161626Z
UID:10021634-1892116800-1892120400@uucv.org
SUMMARY:Outreach and Membership Meeting
DESCRIPTION:
URL:https://uucv.org/event/outreach-and-membership-meeting/2029-12-16/
LOCATION:Welcome Center
END:VEVENT
BEGIN:VEVENT
DTSTART;TZID=America/New_York:20291216T133000
DTEND;TZID=America/New_York:20291216T133000
DTSTAMP:20260424T032739
CREATED:20250318T175647Z
LAST-MODIFIED:20250318T175647Z
UID:10019846-1892122200-1892122200@uucv.org
SUMMARY:Kumquats - Joan's House
DESCRIPTION:
URL:https://uucv.org/event/kumquats-joans-house-2/2029-12-16/
LOCATION:Area Homes
END:VEVENT
BEGIN:VEVENT
DTSTART;TZID=America/New_York:20291218T183000
DTEND;TZID=America/New_York:20291218T203000
DTSTAMP:20260424T032739
CREATED:20250926T182036Z
LAST-MODIFIED:20250926T182037Z
UID:10021386-1892313000-1892320200@uucv.org
SUMMARY:Board of Trustees
DESCRIPTION:
URL:https://uucv.org/event/board-of-trustees-2/2029-12-18/
LOCATION:Board Room and ZOOM https://zoom.us/my/uucvpa
END:VEVENT
BEGIN:VEVENT
DTSTART;TZID=America/New_York:20291219T183000
DTEND;TZID=America/New_York:20291219T200000
DTSTAMP:20260424T032739
CREATED:20250115T174735Z
LAST-MODIFIED:20250626T160726Z
UID:10020814-1892399400-1892404800@uucv.org
SUMMARY:Social Justice Meeting
DESCRIPTION:
URL:https://uucv.org/event/social-justice-meeting-2/2029-12-19/
LOCATION:Board Room and ZOOM https://zoom.us/my/uucvpa
END:VEVENT
BEGIN:VEVENT
DTSTART;TZID=America/New_York:20291219T190000
DTEND;TZID=America/New_York:20291219T210000
DTSTAMP:20260424T032739
CREATED:20250318T175301Z
LAST-MODIFIED:20250318T175301Z
UID:10019770-1892401200-1892408400@uucv.org
SUMMARY:Men's Group
DESCRIPTION:
URL:https://uucv.org/event/mens-group/2029-12-19/
LOCATION:Area Homes
END:VEVENT
BEGIN:VEVENT
DTSTART;TZID=America/New_York:20291220T133000
DTEND;TZID=America/New_York:20291220T150000
DTSTAMP:20260424T032739
CREATED:20250626T161019Z
LAST-MODIFIED:20250626T161019Z
UID:10020872-1892467800-1892473200@uucv.org
SUMMARY:Daytimers
DESCRIPTION:
URL:https://uucv.org/event/daytimers/2029-12-20/
LOCATION:Meeting Room
END:VEVENT
BEGIN:VEVENT
DTSTART;TZID=America/New_York:20291220T140000
DTEND;TZID=America/New_York:20291220T160000
DTSTAMP:20260424T032740
CREATED:20250115T181345Z
LAST-MODIFIED:20250115T181345Z
UID:10018758-1892469600-1892476800@uucv.org
SUMMARY:The Divers Small Group
DESCRIPTION:
URL:https://uucv.org/event/gail-mike-small-group-2/2029-12-20/
LOCATION:Youuth Room
END:VEVENT
BEGIN:VEVENT
DTSTART;TZID=America/New_York:20291220T191500
DTEND;TZID=America/New_York:20291220T203000
DTSTAMP:20260424T032740
CREATED:20250829T170618Z
LAST-MODIFIED:20250829T170618Z
UID:10021258-1892488500-1892493000@uucv.org
SUMMARY:Soul Matters Small Group Open to ALL
DESCRIPTION:
URL:https://uucv.org/event/soul-matters-small-group-open-to-all/2029-12-20/
LOCATION:https://zoom.us/my/uucvpa
END:VEVENT
BEGIN:VEVENT
DTSTART;TZID=America/New_York:20291221T163000
DTEND;TZID=America/New_York:20291221T180000
DTSTAMP:20260424T032740
CREATED:20250318T175806Z
LAST-MODIFIED:20250625T181544Z
UID:10020748-1892565000-1892570400@uucv.org
SUMMARY:Namely Women's Group - Area Homes
DESCRIPTION:
URL:https://uucv.org/event/namely-womens-group-backyards-2/2029-12-21/
LOCATION:Area Homes\, PA
CATEGORIES:SGM
END:VEVENT
BEGIN:VEVENT
DTSTART;TZID=America/New_York:20291223T183000
DTEND;TZID=America/New_York:20291223T203000
DTSTAMP:20260424T032740
CREATED:20250115T181530Z
LAST-MODIFIED:20250115T181546Z
UID:10018818-1892745000-1892752200@uucv.org
SUMMARY:UUCV Book Group
DESCRIPTION:
URL:https://uucv.org/event/uucv-book-group-5/2029-12-23/
LOCATION:ZOOM https://zoom.us/my/uucvpa
END:VEVENT
BEGIN:VEVENT
DTSTART;TZID=America/New_York:20291225T180000
DTEND;TZID=America/New_York:20291225T200000
DTSTAMP:20260424T032740
CREATED:20251031T160914Z
LAST-MODIFIED:20251031T160914Z
UID:10021573-1892916000-1892923200@uucv.org
SUMMARY:COM
DESCRIPTION:
URL:https://uucv.org/event/com/2029-12-25/
LOCATION:Welcome Center
END:VEVENT
BEGIN:VEVENT
DTSTART;TZID=America/New_York:20300101T194500
DTEND;TZID=America/New_York:20300101T210000
DTSTAMP:20260424T032740
CREATED:20250827T165850Z
LAST-MODIFIED:20250827T165850Z
UID:10021139-1893527100-1893531600@uucv.org
SUMMARY:Worship Leadership Team
DESCRIPTION:
URL:https://uucv.org/event/worship-leadership-team/2030-01-01/
LOCATION:Rev. Phoenix ZOOM
END:VEVENT
BEGIN:VEVENT
DTSTART;TZID=America/New_York:20300103T191500
DTEND;TZID=America/New_York:20300103T203000
DTSTAMP:20260424T032740
CREATED:20250829T170500Z
LAST-MODIFIED:20250829T170713Z
UID:10021199-1893698100-1893702600@uucv.org
SUMMARY:Soul Matters Small Group Open to ALL
DESCRIPTION:
URL:https://uucv.org/event/soul-matters-small-group/2030-01-03/
LOCATION:ZOOM https://zoom.us/my/uucvpa
END:VEVENT
END:VCALENDAR