BEGIN:VCALENDAR
VERSION:2.0
PRODID:-//Unitarian Universalists of the Cumberland Valley - ECPv6.15.20//NONSGML v1.0//EN
CALSCALE:GREGORIAN
METHOD:PUBLISH
X-WR-CALNAME:Unitarian Universalists of the Cumberland Valley
X-ORIGINAL-URL:https://uucv.org
X-WR-CALDESC:Events for Unitarian Universalists of the Cumberland Valley
REFRESH-INTERVAL;VALUE=DURATION:PT1H
X-Robots-Tag:noindex
X-PUBLISHED-TTL:PT1H
BEGIN:VTIMEZONE
TZID:America/New_York
BEGIN:DAYLIGHT
TZOFFSETFROM:-0500
TZOFFSETTO:-0400
TZNAME:EDT
DTSTART:20270314T070000
END:DAYLIGHT
BEGIN:STANDARD
TZOFFSETFROM:-0400
TZOFFSETTO:-0500
TZNAME:EST
DTSTART:20271107T060000
END:STANDARD
BEGIN:DAYLIGHT
TZOFFSETFROM:-0500
TZOFFSETTO:-0400
TZNAME:EDT
DTSTART:20280312T070000
END:DAYLIGHT
BEGIN:STANDARD
TZOFFSETFROM:-0400
TZOFFSETTO:-0500
TZNAME:EST
DTSTART:20281105T060000
END:STANDARD
BEGIN:DAYLIGHT
TZOFFSETFROM:-0500
TZOFFSETTO:-0400
TZNAME:EDT
DTSTART:20290311T070000
END:DAYLIGHT
BEGIN:STANDARD
TZOFFSETFROM:-0400
TZOFFSETTO:-0500
TZNAME:EST
DTSTART:20291104T060000
END:STANDARD
BEGIN:DAYLIGHT
TZOFFSETFROM:-0500
TZOFFSETTO:-0400
TZNAME:EDT
DTSTART:20300310T070000
END:DAYLIGHT
BEGIN:STANDARD
TZOFFSETFROM:-0400
TZOFFSETTO:-0500
TZNAME:EST
DTSTART:20301103T060000
END:STANDARD
END:VTIMEZONE
BEGIN:VEVENT
DTSTART;TZID=America/New_York:20281211T193000
DTEND;TZID=America/New_York:20281211T210000
DTSTAMP:20260422T023843
CREATED:20250827T133745Z
LAST-MODIFIED:20250827T133746Z
UID:10020980-1860175800-1860181200@uucv.org
SUMMARY:Finance
DESCRIPTION:
URL:https://uucv.org/event/finance-3-2-2-2/2028-12-11/
LOCATION:Offsite ZOOM
END:VEVENT
BEGIN:VEVENT
DTSTART;TZID=America/New_York:20281213T103000
DTEND;TZID=America/New_York:20281213T120000
DTSTAMP:20260422T023843
CREATED:20250625T180818Z
LAST-MODIFIED:20250625T180818Z
UID:10020555-1860316200-1860321600@uucv.org
SUMMARY:Staff Meeting
DESCRIPTION:
URL:https://uucv.org/event/staff-meeting-2/2028-12-13/
LOCATION:Rev. Phoenix Office
END:VEVENT
BEGIN:VEVENT
DTSTART;TZID=America/New_York:20281213T163000
DTEND;TZID=America/New_York:20281213T170000
DTSTAMP:20260422T023843
CREATED:20241224T152618Z
LAST-MODIFIED:20241224T152619Z
UID:10018269-1860337800-1860339600@uucv.org
SUMMARY:Worship Tech Meeting
DESCRIPTION:
URL:https://uucv.org/event/worship-tech-meeting-2-2-2/2028-12-13/
LOCATION:Board and ZOOM https://zoom.us/my/meetingsuucv 572/887-2212
END:VEVENT
BEGIN:VEVENT
DTSTART;TZID=America/New_York:20281214T184500
DTEND;TZID=America/New_York:20281214T204500
DTSTAMP:20260422T023843
CREATED:20250122T160647Z
LAST-MODIFIED:20250122T160648Z
UID:10018985-1860432300-1860439500@uucv.org
SUMMARY:UUCV Music Small Group
DESCRIPTION:
URL:https://uucv.org/event/uucv-music-small-group-2-2/2028-12-14/
LOCATION:Mary and Matts
END:VEVENT
BEGIN:VEVENT
DTSTART;TZID=America/New_York:20281215T163000
DTEND;TZID=America/New_York:20281215T180000
DTSTAMP:20260422T023843
CREATED:20250318T175806Z
LAST-MODIFIED:20250625T181544Z
UID:10020736-1860510600-1860516000@uucv.org
SUMMARY:Namely Women's Group - Area Homes
DESCRIPTION:
URL:https://uucv.org/event/namely-womens-group-backyards-2/2028-12-15/
LOCATION:Area Homes\, PA
CATEGORIES:SGM
END:VEVENT
BEGIN:VEVENT
DTSTART;TZID=America/New_York:20281217T104500
DTEND;TZID=America/New_York:20281217T114500
DTSTAMP:20260422T023843
CREATED:20250508T170216Z
LAST-MODIFIED:20250508T170216Z
UID:10016952-1860662700-1860666300@uucv.org
SUMMARY:Religious Education K-12
DESCRIPTION:
URL:https://uucv.org/event/religious-education-k-12-2-2-2/2028-12-17/
LOCATION:Religious Education Classrooms\, 2 Forge Road\, Boiling Springs\, PA\, 17007\, United States
END:VEVENT
BEGIN:VEVENT
DTSTART;TZID=America/New_York:20281217T120000
DTEND;TZID=America/New_York:20281217T130000
DTSTAMP:20260422T023843
CREATED:20251031T161626Z
LAST-MODIFIED:20251031T161626Z
UID:10021622-1860667200-1860670800@uucv.org
SUMMARY:Outreach and Membership Meeting
DESCRIPTION:
URL:https://uucv.org/event/outreach-and-membership-meeting/2028-12-17/
LOCATION:Welcome Center
END:VEVENT
BEGIN:VEVENT
DTSTART;TZID=America/New_York:20281217T120000
DTEND;TZID=America/New_York:20281217T133000
DTSTAMP:20260422T023843
CREATED:20240328T143311Z
LAST-MODIFIED:20240328T143312Z
UID:10017402-1860667200-1860672600@uucv.org
SUMMARY:Worship Associates
DESCRIPTION:
URL:https://uucv.org/event/worship-associates-2/2028-12-17/
LOCATION:Social Hall\, PA\, United States
END:VEVENT
BEGIN:VEVENT
DTSTART;TZID=America/New_York:20281217T133000
DTEND;TZID=America/New_York:20281217T133000
DTSTAMP:20260422T023843
CREATED:20250318T175647Z
LAST-MODIFIED:20250318T175647Z
UID:10019834-1860672600-1860672600@uucv.org
SUMMARY:Kumquats - Joan's House
DESCRIPTION:
URL:https://uucv.org/event/kumquats-joans-house-2/2028-12-17/
LOCATION:Area Homes
END:VEVENT
BEGIN:VEVENT
DTSTART;TZID=America/New_York:20281219T183000
DTEND;TZID=America/New_York:20281219T203000
DTSTAMP:20260422T023843
CREATED:20250926T182036Z
LAST-MODIFIED:20250926T182037Z
UID:10021374-1860863400-1860870600@uucv.org
SUMMARY:Board of Trustees
DESCRIPTION:
URL:https://uucv.org/event/board-of-trustees-2/2028-12-19/
LOCATION:Board Room and ZOOM https://zoom.us/my/uucvpa
END:VEVENT
BEGIN:VEVENT
DTSTART;TZID=America/New_York:20281220T183000
DTEND;TZID=America/New_York:20281220T200000
DTSTAMP:20260422T023843
CREATED:20250115T174735Z
LAST-MODIFIED:20250626T160726Z
UID:10020802-1860949800-1860955200@uucv.org
SUMMARY:Social Justice Meeting
DESCRIPTION:
URL:https://uucv.org/event/social-justice-meeting-2/2028-12-20/
LOCATION:Board Room and ZOOM https://zoom.us/my/uucvpa
END:VEVENT
BEGIN:VEVENT
DTSTART;TZID=America/New_York:20281220T190000
DTEND;TZID=America/New_York:20281220T210000
DTSTAMP:20260422T023843
CREATED:20250318T175301Z
LAST-MODIFIED:20250318T175301Z
UID:10019758-1860951600-1860958800@uucv.org
SUMMARY:Men's Group
DESCRIPTION:
URL:https://uucv.org/event/mens-group/2028-12-20/
LOCATION:Area Homes
END:VEVENT
BEGIN:VEVENT
DTSTART;TZID=America/New_York:20281221T133000
DTEND;TZID=America/New_York:20281221T150000
DTSTAMP:20260422T023843
CREATED:20250626T161019Z
LAST-MODIFIED:20250626T161019Z
UID:10020860-1861018200-1861023600@uucv.org
SUMMARY:Daytimers
DESCRIPTION:
URL:https://uucv.org/event/daytimers/2028-12-21/
LOCATION:Meeting Room
END:VEVENT
BEGIN:VEVENT
DTSTART;TZID=America/New_York:20281221T140000
DTEND;TZID=America/New_York:20281221T160000
DTSTAMP:20260422T023843
CREATED:20250115T181345Z
LAST-MODIFIED:20250115T181345Z
UID:10018746-1861020000-1861027200@uucv.org
SUMMARY:The Divers Small Group
DESCRIPTION:
URL:https://uucv.org/event/gail-mike-small-group-2/2028-12-21/
LOCATION:Youuth Room
END:VEVENT
BEGIN:VEVENT
DTSTART;TZID=America/New_York:20281221T191500
DTEND;TZID=America/New_York:20281221T203000
DTSTAMP:20260422T023843
CREATED:20250829T170618Z
LAST-MODIFIED:20250829T170618Z
UID:10021246-1861038900-1861043400@uucv.org
SUMMARY:Soul Matters Small Group Open to ALL
DESCRIPTION:
URL:https://uucv.org/event/soul-matters-small-group-open-to-all/2028-12-21/
LOCATION:https://zoom.us/my/uucvpa
END:VEVENT
BEGIN:VEVENT
DTSTART;TZID=America/New_York:20281224T090000
DTEND;TZID=America/New_York:20281224T100000
DTSTAMP:20260422T023843
CREATED:20251120T181840Z
LAST-MODIFIED:20251120T181840Z
UID:10021727-1861261200-1861264800@uucv.org
SUMMARY:Roots & Wings Community Meet-Up
DESCRIPTION:
URL:https://uucv.org/event/roots-wings-community-meet-up-2/2028-12-24/
LOCATION:Dining Hall
END:VEVENT
BEGIN:VEVENT
DTSTART;TZID=America/New_York:20281224T183000
DTEND;TZID=America/New_York:20281224T203000
DTSTAMP:20260422T023843
CREATED:20250115T181530Z
LAST-MODIFIED:20250115T181546Z
UID:10018806-1861295400-1861302600@uucv.org
SUMMARY:UUCV Book Group
DESCRIPTION:
URL:https://uucv.org/event/uucv-book-group-5/2028-12-24/
LOCATION:ZOOM https://zoom.us/my/uucvpa
END:VEVENT
BEGIN:VEVENT
DTSTART;TZID=America/New_York:20281226T180000
DTEND;TZID=America/New_York:20281226T200000
DTSTAMP:20260422T023843
CREATED:20251031T160914Z
LAST-MODIFIED:20251031T160914Z
UID:10021561-1861466400-1861473600@uucv.org
SUMMARY:COM
DESCRIPTION:
URL:https://uucv.org/event/com/2028-12-26/
LOCATION:Welcome Center
END:VEVENT
BEGIN:VEVENT
DTSTART;TZID=America/New_York:20290102T194500
DTEND;TZID=America/New_York:20290102T210000
DTSTAMP:20260422T023843
CREATED:20250827T165850Z
LAST-MODIFIED:20250827T165850Z
UID:10021127-1862077500-1862082000@uucv.org
SUMMARY:Worship Leadership Team
DESCRIPTION:
URL:https://uucv.org/event/worship-leadership-team/2029-01-02/
LOCATION:Rev. Phoenix ZOOM
END:VEVENT
BEGIN:VEVENT
DTSTART;TZID=America/New_York:20290104T191500
DTEND;TZID=America/New_York:20290104T203000
DTSTAMP:20260422T023843
CREATED:20250829T170500Z
LAST-MODIFIED:20250829T170713Z
UID:10021187-1862248500-1862253000@uucv.org
SUMMARY:Soul Matters Small Group Open to ALL
DESCRIPTION:
URL:https://uucv.org/event/soul-matters-small-group/2029-01-04/
LOCATION:ZOOM https://zoom.us/my/uucvpa
END:VEVENT
BEGIN:VEVENT
DTSTART;TZID=America/New_York:20290105T180000
DTEND;TZID=America/New_York:20290105T200000
DTSTAMP:20260422T023843
CREATED:20251031T160512Z
LAST-MODIFIED:20251031T160512Z
UID:10021441-1862330400-1862337600@uucv.org
SUMMARY:First Fridays Community Night
DESCRIPTION:
URL:https://uucv.org/event/first-fridays-community-night/2029-01-05/
LOCATION:Dining Room
END:VEVENT
BEGIN:VEVENT
DTSTART;TZID=America/New_York:20290112T120000
DTEND;TZID=America/New_York:20290112T140000
DTSTAMP:20260422T023843
CREATED:20251125T191056Z
LAST-MODIFIED:20251125T191057Z
UID:10021815-1862913600-1862920800@uucv.org
SUMMARY:Soup Matters for All
DESCRIPTION:
URL:https://uucv.org/event/soup-matters-for-all-2/2029-01-12/
LOCATION:Dining Room
END:VEVENT
BEGIN:VEVENT
DTSTART;TZID=America/New_York:20290113T090000
DTEND;TZID=America/New_York:20290113T110000
DTSTAMP:20260422T023843
CREATED:20250910T142406Z
LAST-MODIFIED:20250910T172931Z
UID:10021309-1862989200-1862996400@uucv.org
SUMMARY:Caregivers Circle
DESCRIPTION:
URL:https://uucv.org/event/caregivers-circle-8/2029-01-13/
LOCATION:Youuth Room
END:VEVENT
BEGIN:VEVENT
DTSTART;TZID=America/New_York:20290114T083000
DTEND;TZID=America/New_York:20290114T100000
DTSTAMP:20260422T023843
CREATED:20250827T133907Z
LAST-MODIFIED:20250827T133908Z
UID:10021040-1863073800-1863079200@uucv.org
SUMMARY:Word Weavers Small Group
DESCRIPTION:
URL:https://uucv.org/event/word-weavers-small-group-2/2029-01-14/
LOCATION:Board Room
END:VEVENT
END:VCALENDAR