BEGIN:VCALENDAR
VERSION:2.0
PRODID:-//Unitarian Universalists of the Cumberland Valley - ECPv6.15.20//NONSGML v1.0//EN
CALSCALE:GREGORIAN
METHOD:PUBLISH
X-WR-CALNAME:Unitarian Universalists of the Cumberland Valley
X-ORIGINAL-URL:https://uucv.org
X-WR-CALDESC:Events for Unitarian Universalists of the Cumberland Valley
REFRESH-INTERVAL;VALUE=DURATION:PT1H
X-Robots-Tag:noindex
X-PUBLISHED-TTL:PT1H
BEGIN:VTIMEZONE
TZID:America/New_York
BEGIN:DAYLIGHT
TZOFFSETFROM:-0500
TZOFFSETTO:-0400
TZNAME:EDT
DTSTART:20270314T070000
END:DAYLIGHT
BEGIN:STANDARD
TZOFFSETFROM:-0400
TZOFFSETTO:-0500
TZNAME:EST
DTSTART:20271107T060000
END:STANDARD
BEGIN:DAYLIGHT
TZOFFSETFROM:-0500
TZOFFSETTO:-0400
TZNAME:EDT
DTSTART:20280312T070000
END:DAYLIGHT
BEGIN:STANDARD
TZOFFSETFROM:-0400
TZOFFSETTO:-0500
TZNAME:EST
DTSTART:20281105T060000
END:STANDARD
BEGIN:DAYLIGHT
TZOFFSETFROM:-0500
TZOFFSETTO:-0400
TZNAME:EDT
DTSTART:20290311T070000
END:DAYLIGHT
BEGIN:STANDARD
TZOFFSETFROM:-0400
TZOFFSETTO:-0500
TZNAME:EST
DTSTART:20291104T060000
END:STANDARD
END:VTIMEZONE
BEGIN:VEVENT
DTSTART;TZID=America/New_York:20281001T090000
DTEND;TZID=America/New_York:20281001T100000
DTSTAMP:20260421T180553
CREATED:20251120T181840Z
LAST-MODIFIED:20251120T181840Z
UID:10021721-1854003600-1854007200@uucv.org
SUMMARY:Roots & Wings Community Meet-Up
DESCRIPTION:
URL:https://uucv.org/event/roots-wings-community-meet-up-2/2028-10-01/
LOCATION:Dining Hall
END:VEVENT
BEGIN:VEVENT
DTSTART;TZID=America/New_York:20281001T104500
DTEND;TZID=America/New_York:20281001T114500
DTSTAMP:20260421T180553
CREATED:20250508T170216Z
LAST-MODIFIED:20250508T170216Z
UID:10016941-1854009900-1854013500@uucv.org
SUMMARY:Religious Education K-12
DESCRIPTION:
URL:https://uucv.org/event/religious-education-k-12-2-2-2/2028-10-01/
LOCATION:Religious Education Classrooms\, 2 Forge Road\, Boiling Springs\, PA\, 17007\, United States
END:VEVENT
BEGIN:VEVENT
DTSTART;TZID=America/New_York:20281003T194500
DTEND;TZID=America/New_York:20281003T210000
DTSTAMP:20260421T180553
CREATED:20250827T165850Z
LAST-MODIFIED:20250827T165850Z
UID:10021124-1854215100-1854219600@uucv.org
SUMMARY:Worship Leadership Team
DESCRIPTION:
URL:https://uucv.org/event/worship-leadership-team/2028-10-03/
LOCATION:Rev. Phoenix ZOOM
END:VEVENT
BEGIN:VEVENT
DTSTART;TZID=America/New_York:20281004T103000
DTEND;TZID=America/New_York:20281004T120000
DTSTAMP:20260421T180553
CREATED:20250625T180818Z
LAST-MODIFIED:20250625T180818Z
UID:10020545-1854268200-1854273600@uucv.org
SUMMARY:Staff Meeting
DESCRIPTION:
URL:https://uucv.org/event/staff-meeting-2/2028-10-04/
LOCATION:Rev. Phoenix Office
END:VEVENT
BEGIN:VEVENT
DTSTART;TZID=America/New_York:20281004T163000
DTEND;TZID=America/New_York:20281004T170000
DTSTAMP:20260421T180553
CREATED:20241224T152618Z
LAST-MODIFIED:20241224T152619Z
UID:10018259-1854289800-1854291600@uucv.org
SUMMARY:Worship Tech Meeting
DESCRIPTION:
URL:https://uucv.org/event/worship-tech-meeting-2-2-2/2028-10-04/
LOCATION:Board and ZOOM https://zoom.us/my/meetingsuucv 572/887-2212
END:VEVENT
BEGIN:VEVENT
DTSTART;TZID=America/New_York:20281005T184500
DTEND;TZID=America/New_York:20281005T204500
DTSTAMP:20260421T180553
CREATED:20250122T160647Z
LAST-MODIFIED:20250122T160648Z
UID:10018980-1854384300-1854391500@uucv.org
SUMMARY:UUCV Music Small Group
DESCRIPTION:
URL:https://uucv.org/event/uucv-music-small-group-2-2/2028-10-05/
LOCATION:Mary and Matts
END:VEVENT
BEGIN:VEVENT
DTSTART;TZID=America/New_York:20281005T191500
DTEND;TZID=America/New_York:20281005T203000
DTSTAMP:20260421T180553
CREATED:20250829T170500Z
LAST-MODIFIED:20250829T170713Z
UID:10021184-1854386100-1854390600@uucv.org
SUMMARY:Soul Matters Small Group Open to ALL
DESCRIPTION:
URL:https://uucv.org/event/soul-matters-small-group/2028-10-05/
LOCATION:ZOOM https://zoom.us/my/uucvpa
END:VEVENT
BEGIN:VEVENT
DTSTART;TZID=America/New_York:20281006T180000
DTEND;TZID=America/New_York:20281006T200000
DTSTAMP:20260421T180553
CREATED:20251031T160512Z
LAST-MODIFIED:20251031T160512Z
UID:10021438-1854468000-1854475200@uucv.org
SUMMARY:First Fridays Community Night
DESCRIPTION:
URL:https://uucv.org/event/first-fridays-community-night/2028-10-06/
LOCATION:Dining Room
END:VEVENT
BEGIN:VEVENT
DTSTART;TZID=America/New_York:20281008T083000
DTEND;TZID=America/New_York:20281008T100000
DTSTAMP:20260421T180553
CREATED:20250827T133907Z
LAST-MODIFIED:20250827T133908Z
UID:10021037-1854606600-1854612000@uucv.org
SUMMARY:Word Weavers Small Group
DESCRIPTION:
URL:https://uucv.org/event/word-weavers-small-group-2/2028-10-08/
LOCATION:Board Room
END:VEVENT
BEGIN:VEVENT
DTSTART;TZID=America/New_York:20281009T193000
DTEND;TZID=America/New_York:20281009T210000
DTSTAMP:20260421T180553
CREATED:20250827T133745Z
LAST-MODIFIED:20250827T133746Z
UID:10020978-1854732600-1854738000@uucv.org
SUMMARY:Finance
DESCRIPTION:
URL:https://uucv.org/event/finance-3-2-2-2/2028-10-09/
LOCATION:Offsite ZOOM
END:VEVENT
BEGIN:VEVENT
DTSTART;TZID=America/New_York:20281013T120000
DTEND;TZID=America/New_York:20281013T140000
DTSTAMP:20260421T180553
CREATED:20251125T191056Z
LAST-MODIFIED:20251125T191057Z
UID:10021812-1855051200-1855058400@uucv.org
SUMMARY:Soup Matters for All
DESCRIPTION:
URL:https://uucv.org/event/soup-matters-for-all-2/2028-10-13/
LOCATION:Dining Room
END:VEVENT
BEGIN:VEVENT
DTSTART;TZID=America/New_York:20281014T090000
DTEND;TZID=America/New_York:20281014T110000
DTSTAMP:20260421T180553
CREATED:20250910T142406Z
LAST-MODIFIED:20250910T172931Z
UID:10021306-1855126800-1855134000@uucv.org
SUMMARY:Caregivers Circle
DESCRIPTION:
URL:https://uucv.org/event/caregivers-circle-8/2028-10-14/
LOCATION:Youuth Room
END:VEVENT
BEGIN:VEVENT
DTSTART;TZID=America/New_York:20281015T120000
DTEND;TZID=America/New_York:20281015T130000
DTSTAMP:20260421T180553
CREATED:20251031T161626Z
LAST-MODIFIED:20251031T161626Z
UID:10021620-1855224000-1855227600@uucv.org
SUMMARY:Outreach and Membership Meeting
DESCRIPTION:
URL:https://uucv.org/event/outreach-and-membership-meeting/2028-10-15/
LOCATION:Welcome Center
END:VEVENT
BEGIN:VEVENT
DTSTART;TZID=America/New_York:20281015T120000
DTEND;TZID=America/New_York:20281015T133000
DTSTAMP:20260421T180553
CREATED:20240328T143311Z
LAST-MODIFIED:20240328T143312Z
UID:10017400-1855224000-1855229400@uucv.org
SUMMARY:Worship Associates
DESCRIPTION:
URL:https://uucv.org/event/worship-associates-2/2028-10-15/
LOCATION:Social Hall\, PA\, United States
END:VEVENT
BEGIN:VEVENT
DTSTART;TZID=America/New_York:20281015T133000
DTEND;TZID=America/New_York:20281015T133000
DTSTAMP:20260421T180553
CREATED:20250318T175647Z
LAST-MODIFIED:20250318T175647Z
UID:10016355-1855229400-1855229400@uucv.org
SUMMARY:Kumquats - Joan's House
DESCRIPTION:
URL:https://uucv.org/event/kumquats-joans-house-2/2028-10-15/
LOCATION:Area Homes
END:VEVENT
BEGIN:VEVENT
DTSTART;TZID=America/New_York:20281017T183000
DTEND;TZID=America/New_York:20281017T203000
DTSTAMP:20260421T180553
CREATED:20250926T182036Z
LAST-MODIFIED:20250926T182037Z
UID:10021372-1855420200-1855427400@uucv.org
SUMMARY:Board of Trustees
DESCRIPTION:
URL:https://uucv.org/event/board-of-trustees-2/2028-10-17/
LOCATION:Board Room and ZOOM https://zoom.us/my/uucvpa
END:VEVENT
BEGIN:VEVENT
DTSTART;TZID=America/New_York:20281018T183000
DTEND;TZID=America/New_York:20281018T200000
DTSTAMP:20260421T180553
CREATED:20250115T174735Z
LAST-MODIFIED:20250626T160726Z
UID:10020800-1855506600-1855512000@uucv.org
SUMMARY:Social Justice Meeting
DESCRIPTION:
URL:https://uucv.org/event/social-justice-meeting-2/2028-10-18/
LOCATION:Board Room and ZOOM https://zoom.us/my/uucvpa
END:VEVENT
BEGIN:VEVENT
DTSTART;TZID=America/New_York:20281018T190000
DTEND;TZID=America/New_York:20281018T210000
DTSTAMP:20260421T180553
CREATED:20250318T175301Z
LAST-MODIFIED:20250318T175301Z
UID:10019756-1855508400-1855515600@uucv.org
SUMMARY:Men's Group
DESCRIPTION:
URL:https://uucv.org/event/mens-group/2028-10-18/
LOCATION:Area Homes
END:VEVENT
BEGIN:VEVENT
DTSTART;TZID=America/New_York:20281019T133000
DTEND;TZID=America/New_York:20281019T150000
DTSTAMP:20260421T180553
CREATED:20250626T161019Z
LAST-MODIFIED:20250626T161019Z
UID:10020858-1855575000-1855580400@uucv.org
SUMMARY:Daytimers
DESCRIPTION:
URL:https://uucv.org/event/daytimers/2028-10-19/
LOCATION:Meeting Room
END:VEVENT
BEGIN:VEVENT
DTSTART;TZID=America/New_York:20281019T140000
DTEND;TZID=America/New_York:20281019T160000
DTSTAMP:20260421T180553
CREATED:20250115T181345Z
LAST-MODIFIED:20250115T181345Z
UID:10018744-1855576800-1855584000@uucv.org
SUMMARY:The Divers Small Group
DESCRIPTION:
URL:https://uucv.org/event/gail-mike-small-group-2/2028-10-19/
LOCATION:Youuth Room
END:VEVENT
BEGIN:VEVENT
DTSTART;TZID=America/New_York:20281019T191500
DTEND;TZID=America/New_York:20281019T203000
DTSTAMP:20260421T180553
CREATED:20250829T170618Z
LAST-MODIFIED:20250829T170618Z
UID:10021244-1855595700-1855600200@uucv.org
SUMMARY:Soul Matters Small Group Open to ALL
DESCRIPTION:
URL:https://uucv.org/event/soul-matters-small-group-open-to-all/2028-10-19/
LOCATION:https://zoom.us/my/uucvpa
END:VEVENT
BEGIN:VEVENT
DTSTART;TZID=America/New_York:20281020T163000
DTEND;TZID=America/New_York:20281020T180000
DTSTAMP:20260421T180553
CREATED:20250318T175806Z
LAST-MODIFIED:20250625T181544Z
UID:10020734-1855672200-1855677600@uucv.org
SUMMARY:Namely Women's Group - Area Homes
DESCRIPTION:
URL:https://uucv.org/event/namely-womens-group-backyards-2/2028-10-20/
LOCATION:Area Homes\, PA
CATEGORIES:SGM
END:VEVENT
BEGIN:VEVENT
DTSTART;TZID=America/New_York:20281022T183000
DTEND;TZID=America/New_York:20281022T203000
DTSTAMP:20260421T180553
CREATED:20250115T181530Z
LAST-MODIFIED:20250115T181546Z
UID:10018804-1855852200-1855859400@uucv.org
SUMMARY:UUCV Book Group
DESCRIPTION:
URL:https://uucv.org/event/uucv-book-group-5/2028-10-22/
LOCATION:ZOOM https://zoom.us/my/uucvpa
END:VEVENT
BEGIN:VEVENT
DTSTART;TZID=America/New_York:20281024T180000
DTEND;TZID=America/New_York:20281024T200000
DTSTAMP:20260421T180553
CREATED:20251031T160914Z
LAST-MODIFIED:20251031T160914Z
UID:10021559-1856023200-1856030400@uucv.org
SUMMARY:COM
DESCRIPTION:
URL:https://uucv.org/event/com/2028-10-24/
LOCATION:Welcome Center
END:VEVENT
END:VCALENDAR