BEGIN:VCALENDAR
VERSION:2.0
PRODID:-//Unitarian Universalists of the Cumberland Valley - ECPv6.15.20//NONSGML v1.0//EN
CALSCALE:GREGORIAN
METHOD:PUBLISH
X-WR-CALNAME:Unitarian Universalists of the Cumberland Valley
X-ORIGINAL-URL:https://uucv.org
X-WR-CALDESC:Events for Unitarian Universalists of the Cumberland Valley
REFRESH-INTERVAL;VALUE=DURATION:PT1H
X-Robots-Tag:noindex
X-PUBLISHED-TTL:PT1H
BEGIN:VTIMEZONE
TZID:America/New_York
BEGIN:DAYLIGHT
TZOFFSETFROM:-0500
TZOFFSETTO:-0400
TZNAME:EDT
DTSTART:20270314T070000
END:DAYLIGHT
BEGIN:STANDARD
TZOFFSETFROM:-0400
TZOFFSETTO:-0500
TZNAME:EST
DTSTART:20271107T060000
END:STANDARD
BEGIN:DAYLIGHT
TZOFFSETFROM:-0500
TZOFFSETTO:-0400
TZNAME:EDT
DTSTART:20280312T070000
END:DAYLIGHT
BEGIN:STANDARD
TZOFFSETFROM:-0400
TZOFFSETTO:-0500
TZNAME:EST
DTSTART:20281105T060000
END:STANDARD
BEGIN:DAYLIGHT
TZOFFSETFROM:-0500
TZOFFSETTO:-0400
TZNAME:EDT
DTSTART:20290311T070000
END:DAYLIGHT
BEGIN:STANDARD
TZOFFSETFROM:-0400
TZOFFSETTO:-0500
TZNAME:EST
DTSTART:20291104T060000
END:STANDARD
END:VTIMEZONE
BEGIN:VEVENT
DTSTART;TZID=America/New_York:20280301T103000
DTEND;TZID=America/New_York:20280301T120000
DTSTAMP:20260420T171151
CREATED:20250625T180818Z
LAST-MODIFIED:20250625T180818Z
UID:10020514-1835519400-1835524800@uucv.org
SUMMARY:Staff Meeting
DESCRIPTION:
URL:https://uucv.org/event/staff-meeting-2/2028-03-01/
LOCATION:Rev. Phoenix Office
END:VEVENT
BEGIN:VEVENT
DTSTART;TZID=America/New_York:20280301T163000
DTEND;TZID=America/New_York:20280301T170000
DTSTAMP:20260420T171151
CREATED:20241224T152618Z
LAST-MODIFIED:20241224T152619Z
UID:10018228-1835541000-1835542800@uucv.org
SUMMARY:Worship Tech Meeting
DESCRIPTION:
URL:https://uucv.org/event/worship-tech-meeting-2-2-2/2028-03-01/
LOCATION:Board and ZOOM https://zoom.us/my/meetingsuucv 572/887-2212
END:VEVENT
BEGIN:VEVENT
DTSTART;TZID=America/New_York:20280302T191500
DTEND;TZID=America/New_York:20280302T203000
DTSTAMP:20260420T171151
CREATED:20250829T170500Z
LAST-MODIFIED:20250829T170713Z
UID:10021177-1835637300-1835641800@uucv.org
SUMMARY:Soul Matters Small Group Open to ALL
DESCRIPTION:
URL:https://uucv.org/event/soul-matters-small-group/2028-03-02/
LOCATION:ZOOM https://zoom.us/my/uucvpa
END:VEVENT
BEGIN:VEVENT
DTSTART;TZID=America/New_York:20280303T180000
DTEND;TZID=America/New_York:20280303T200000
DTSTAMP:20260420T171151
CREATED:20251031T160512Z
LAST-MODIFIED:20251031T160512Z
UID:10021431-1835719200-1835726400@uucv.org
SUMMARY:First Fridays Community Night
DESCRIPTION:
URL:https://uucv.org/event/first-fridays-community-night/2028-03-03/
LOCATION:Dining Room
END:VEVENT
BEGIN:VEVENT
DTSTART;TZID=America/New_York:20280305T090000
DTEND;TZID=America/New_York:20280305T100000
DTSTAMP:20260420T171151
CREATED:20251120T181840Z
LAST-MODIFIED:20251120T181840Z
UID:10021706-1835859600-1835863200@uucv.org
SUMMARY:Roots & Wings Community Meet-Up
DESCRIPTION:
URL:https://uucv.org/event/roots-wings-community-meet-up-2/2028-03-05/
LOCATION:Dining Hall
END:VEVENT
BEGIN:VEVENT
DTSTART;TZID=America/New_York:20280305T103000
DTEND;TZID=America/New_York:20280305T113000
DTSTAMP:20260420T171151
CREATED:20230811T162352Z
LAST-MODIFIED:20230811T170330Z
UID:10015640-1835865000-1835868600@uucv.org
SUMMARY:Worship In-Person or ZOOM https://zoom.us/my/uucvpa
DESCRIPTION:
URL:https://uucv.org/event/worship-zoom-only-https-zoom-us-my-uucvpa-2/2028-03-05/
LOCATION:Social Hall\, PA\, United States
END:VEVENT
BEGIN:VEVENT
DTSTART;TZID=America/New_York:20280305T104500
DTEND;TZID=America/New_York:20280305T114500
DTSTAMP:20260420T171151
CREATED:20250508T170216Z
LAST-MODIFIED:20250508T170216Z
UID:10014244-1835865900-1835869500@uucv.org
SUMMARY:Religious Education K-12
DESCRIPTION:
URL:https://uucv.org/event/religious-education-k-12-2-2-2/2028-03-05/
LOCATION:Religious Education Classrooms\, 2 Forge Road\, Boiling Springs\, PA\, 17007\, United States
END:VEVENT
BEGIN:VEVENT
DTSTART;TZID=America/New_York:20280307T194500
DTEND;TZID=America/New_York:20280307T210000
DTSTAMP:20260420T171151
CREATED:20250827T165850Z
LAST-MODIFIED:20250827T165850Z
UID:10021117-1836071100-1836075600@uucv.org
SUMMARY:Worship Leadership Team
DESCRIPTION:
URL:https://uucv.org/event/worship-leadership-team/2028-03-07/
LOCATION:Rev. Phoenix ZOOM
END:VEVENT
BEGIN:VEVENT
DTSTART;TZID=America/New_York:20280309T184500
DTEND;TZID=America/New_York:20280309T204500
DTSTAMP:20260420T171151
CREATED:20250122T160647Z
LAST-MODIFIED:20250122T160648Z
UID:10018965-1836240300-1836247500@uucv.org
SUMMARY:UUCV Music Small Group
DESCRIPTION:
URL:https://uucv.org/event/uucv-music-small-group-2-2/2028-03-09/
LOCATION:Mary and Matts
END:VEVENT
BEGIN:VEVENT
DTSTART;TZID=America/New_York:20280310T120000
DTEND;TZID=America/New_York:20280310T140000
DTSTAMP:20260420T171151
CREATED:20251125T191056Z
LAST-MODIFIED:20251125T191057Z
UID:10021805-1836302400-1836309600@uucv.org
SUMMARY:Soup Matters for All
DESCRIPTION:
URL:https://uucv.org/event/soup-matters-for-all-2/2028-03-10/
LOCATION:Dining Room
END:VEVENT
BEGIN:VEVENT
DTSTART;TZID=America/New_York:20280311T090000
DTEND;TZID=America/New_York:20280311T110000
DTSTAMP:20260420T171151
CREATED:20250910T142406Z
LAST-MODIFIED:20250910T172931Z
UID:10021299-1836378000-1836385200@uucv.org
SUMMARY:Caregivers Circle
DESCRIPTION:
URL:https://uucv.org/event/caregivers-circle-8/2028-03-11/
LOCATION:Youuth Room
END:VEVENT
BEGIN:VEVENT
DTSTART;TZID=America/New_York:20280312T083000
DTEND;TZID=America/New_York:20280312T100000
DTSTAMP:20260420T171151
CREATED:20250827T133907Z
LAST-MODIFIED:20250827T133908Z
UID:10021030-1836462600-1836468000@uucv.org
SUMMARY:Word Weavers Small Group
DESCRIPTION:
URL:https://uucv.org/event/word-weavers-small-group-2/2028-03-12/
LOCATION:Board Room
END:VEVENT
BEGIN:VEVENT
DTSTART;TZID=America/New_York:20280313T193000
DTEND;TZID=America/New_York:20280313T210000
DTSTAMP:20260420T171151
CREATED:20250827T133745Z
LAST-MODIFIED:20250827T133746Z
UID:10020971-1836588600-1836594000@uucv.org
SUMMARY:Finance
DESCRIPTION:
URL:https://uucv.org/event/finance-3-2-2-2/2028-03-13/
LOCATION:Offsite ZOOM
END:VEVENT
BEGIN:VEVENT
DTSTART;TZID=America/New_York:20280315T183000
DTEND;TZID=America/New_York:20280315T200000
DTSTAMP:20260420T171151
CREATED:20250115T174735Z
LAST-MODIFIED:20250626T160726Z
UID:10020793-1836757800-1836763200@uucv.org
SUMMARY:Social Justice Meeting
DESCRIPTION:
URL:https://uucv.org/event/social-justice-meeting-2/2028-03-15/
LOCATION:Board Room and ZOOM https://zoom.us/my/uucvpa
END:VEVENT
BEGIN:VEVENT
DTSTART;TZID=America/New_York:20280315T190000
DTEND;TZID=America/New_York:20280315T210000
DTSTAMP:20260420T171151
CREATED:20250318T175301Z
LAST-MODIFIED:20250318T175301Z
UID:10019749-1836759600-1836766800@uucv.org
SUMMARY:Men's Group
DESCRIPTION:
URL:https://uucv.org/event/mens-group/2028-03-15/
LOCATION:Area Homes
END:VEVENT
BEGIN:VEVENT
DTSTART;TZID=America/New_York:20280316T133000
DTEND;TZID=America/New_York:20280316T150000
DTSTAMP:20260420T171151
CREATED:20250626T161019Z
LAST-MODIFIED:20250626T161019Z
UID:10020851-1836826200-1836831600@uucv.org
SUMMARY:Daytimers
DESCRIPTION:
URL:https://uucv.org/event/daytimers/2028-03-16/
LOCATION:Meeting Room
END:VEVENT
BEGIN:VEVENT
DTSTART;TZID=America/New_York:20280316T140000
DTEND;TZID=America/New_York:20280316T160000
DTSTAMP:20260420T171151
CREATED:20250115T181345Z
LAST-MODIFIED:20250115T181345Z
UID:10018737-1836828000-1836835200@uucv.org
SUMMARY:The Divers Small Group
DESCRIPTION:
URL:https://uucv.org/event/gail-mike-small-group-2/2028-03-16/
LOCATION:Youuth Room
END:VEVENT
BEGIN:VEVENT
DTSTART;TZID=America/New_York:20280316T191500
DTEND;TZID=America/New_York:20280316T203000
DTSTAMP:20260420T171151
CREATED:20250829T170618Z
LAST-MODIFIED:20250829T170618Z
UID:10021237-1836846900-1836851400@uucv.org
SUMMARY:Soul Matters Small Group Open to ALL
DESCRIPTION:
URL:https://uucv.org/event/soul-matters-small-group-open-to-all/2028-03-16/
LOCATION:https://zoom.us/my/uucvpa
END:VEVENT
BEGIN:VEVENT
DTSTART;TZID=America/New_York:20280317T163000
DTEND;TZID=America/New_York:20280317T180000
DTSTAMP:20260420T171151
CREATED:20250318T175806Z
LAST-MODIFIED:20250625T181544Z
UID:10020727-1836923400-1836928800@uucv.org
SUMMARY:Namely Women's Group - Area Homes
DESCRIPTION:
URL:https://uucv.org/event/namely-womens-group-backyards-2/2028-03-17/
LOCATION:Area Homes\, PA
CATEGORIES:SGM
END:VEVENT
BEGIN:VEVENT
DTSTART;TZID=America/New_York:20280319T120000
DTEND;TZID=America/New_York:20280319T130000
DTSTAMP:20260420T171151
CREATED:20251031T161626Z
LAST-MODIFIED:20251031T161626Z
UID:10021613-1837080000-1837083600@uucv.org
SUMMARY:Outreach and Membership Meeting
DESCRIPTION:
URL:https://uucv.org/event/outreach-and-membership-meeting/2028-03-19/
LOCATION:Welcome Center
END:VEVENT
BEGIN:VEVENT
DTSTART;TZID=America/New_York:20280319T120000
DTEND;TZID=America/New_York:20280319T133000
DTSTAMP:20260420T171151
CREATED:20240328T143311Z
LAST-MODIFIED:20240328T143312Z
UID:10017393-1837080000-1837085400@uucv.org
SUMMARY:Worship Associates
DESCRIPTION:
URL:https://uucv.org/event/worship-associates-2/2028-03-19/
LOCATION:Social Hall\, PA\, United States
END:VEVENT
BEGIN:VEVENT
DTSTART;TZID=America/New_York:20280319T133000
DTEND;TZID=America/New_York:20280319T133000
DTSTAMP:20260420T171151
CREATED:20250318T175647Z
LAST-MODIFIED:20250318T175647Z
UID:10016348-1837085400-1837085400@uucv.org
SUMMARY:Kumquats - Joan's House
DESCRIPTION:
URL:https://uucv.org/event/kumquats-joans-house-2/2028-03-19/
LOCATION:Area Homes
END:VEVENT
BEGIN:VEVENT
DTSTART;TZID=America/New_York:20280321T183000
DTEND;TZID=America/New_York:20280321T203000
DTSTAMP:20260420T171151
CREATED:20250926T182036Z
LAST-MODIFIED:20250926T182037Z
UID:10021365-1837276200-1837283400@uucv.org
SUMMARY:Board of Trustees
DESCRIPTION:
URL:https://uucv.org/event/board-of-trustees-2/2028-03-21/
LOCATION:Board Room and ZOOM https://zoom.us/my/uucvpa
END:VEVENT
BEGIN:VEVENT
DTSTART;TZID=America/New_York:20280326T183000
DTEND;TZID=America/New_York:20280326T203000
DTSTAMP:20260420T171151
CREATED:20250115T181530Z
LAST-MODIFIED:20250115T181546Z
UID:10018797-1837708200-1837715400@uucv.org
SUMMARY:UUCV Book Group
DESCRIPTION:
URL:https://uucv.org/event/uucv-book-group-5/2028-03-26/
LOCATION:ZOOM https://zoom.us/my/uucvpa
END:VEVENT
BEGIN:VEVENT
DTSTART;TZID=America/New_York:20280328T180000
DTEND;TZID=America/New_York:20280328T200000
DTSTAMP:20260420T171151
CREATED:20251031T160914Z
LAST-MODIFIED:20251031T160914Z
UID:10021552-1837879200-1837886400@uucv.org
SUMMARY:COM
DESCRIPTION:
URL:https://uucv.org/event/com/2028-03-28/
LOCATION:Welcome Center
END:VEVENT
END:VCALENDAR