BEGIN:VCALENDAR
VERSION:2.0
PRODID:-//Unitarian Universalists of the Cumberland Valley - ECPv6.15.20//NONSGML v1.0//EN
CALSCALE:GREGORIAN
METHOD:PUBLISH
X-WR-CALNAME:Unitarian Universalists of the Cumberland Valley
X-ORIGINAL-URL:https://uucv.org
X-WR-CALDESC:Events for Unitarian Universalists of the Cumberland Valley
REFRESH-INTERVAL;VALUE=DURATION:PT1H
X-Robots-Tag:noindex
X-PUBLISHED-TTL:PT1H
BEGIN:VTIMEZONE
TZID:America/New_York
BEGIN:DAYLIGHT
TZOFFSETFROM:-0500
TZOFFSETTO:-0400
TZNAME:EDT
DTSTART:20260308T070000
END:DAYLIGHT
BEGIN:STANDARD
TZOFFSETFROM:-0400
TZOFFSETTO:-0500
TZNAME:EST
DTSTART:20261101T060000
END:STANDARD
BEGIN:DAYLIGHT
TZOFFSETFROM:-0500
TZOFFSETTO:-0400
TZNAME:EDT
DTSTART:20270314T070000
END:DAYLIGHT
BEGIN:STANDARD
TZOFFSETFROM:-0400
TZOFFSETTO:-0500
TZNAME:EST
DTSTART:20271107T060000
END:STANDARD
BEGIN:DAYLIGHT
TZOFFSETFROM:-0500
TZOFFSETTO:-0400
TZNAME:EDT
DTSTART:20280312T070000
END:DAYLIGHT
BEGIN:STANDARD
TZOFFSETFROM:-0400
TZOFFSETTO:-0500
TZNAME:EST
DTSTART:20281105T060000
END:STANDARD
END:VTIMEZONE
BEGIN:VEVENT
DTSTART;TZID=America/New_York:20271128T090000
DTEND;TZID=America/New_York:20271128T100000
DTSTAMP:20260420T060517
CREATED:20251120T181840Z
LAST-MODIFIED:20251120T181840Z
UID:10021699-1827392400-1827396000@uucv.org
SUMMARY:Roots & Wings Community Meet-Up
DESCRIPTION:
URL:https://uucv.org/event/roots-wings-community-meet-up-2/2027-11-28/
LOCATION:Dining Hall
END:VEVENT
BEGIN:VEVENT
DTSTART;TZID=America/New_York:20271128T103000
DTEND;TZID=America/New_York:20271128T113000
DTSTAMP:20260420T060517
CREATED:20230811T162352Z
LAST-MODIFIED:20230811T170330Z
UID:10015626-1827397800-1827401400@uucv.org
SUMMARY:Worship In-Person or ZOOM https://zoom.us/my/uucvpa
DESCRIPTION:
URL:https://uucv.org/event/worship-zoom-only-https-zoom-us-my-uucvpa-2/2027-11-28/
LOCATION:Social Hall\, PA\, United States
END:VEVENT
BEGIN:VEVENT
DTSTART;TZID=America/New_York:20271128T104500
DTEND;TZID=America/New_York:20271128T114500
DTSTAMP:20260420T060517
CREATED:20250508T170216Z
LAST-MODIFIED:20250508T170216Z
UID:10014230-1827398700-1827402300@uucv.org
SUMMARY:Religious Education K-12
DESCRIPTION:
URL:https://uucv.org/event/religious-education-k-12-2-2-2/2027-11-28/
LOCATION:Religious Education Classrooms\, 2 Forge Road\, Boiling Springs\, PA\, 17007\, United States
END:VEVENT
BEGIN:VEVENT
DTSTART;TZID=America/New_York:20271128T183000
DTEND;TZID=America/New_York:20271128T203000
DTSTAMP:20260420T060517
CREATED:20250115T181530Z
LAST-MODIFIED:20250115T181546Z
UID:10018793-1827426600-1827433800@uucv.org
SUMMARY:UUCV Book Group
DESCRIPTION:
URL:https://uucv.org/event/uucv-book-group-5/2027-11-28/
LOCATION:ZOOM https://zoom.us/my/uucvpa
END:VEVENT
BEGIN:VEVENT
DTSTART;TZID=America/New_York:20271201T103000
DTEND;TZID=America/New_York:20271201T120000
DTSTAMP:20260420T060517
CREATED:20250625T180818Z
LAST-MODIFIED:20250625T180818Z
UID:10020501-1827657000-1827662400@uucv.org
SUMMARY:Staff Meeting
DESCRIPTION:
URL:https://uucv.org/event/staff-meeting-2/2027-12-01/
LOCATION:Rev. Phoenix Office
END:VEVENT
BEGIN:VEVENT
DTSTART;TZID=America/New_York:20271201T163000
DTEND;TZID=America/New_York:20271201T170000
DTSTAMP:20260420T060517
CREATED:20241224T152618Z
LAST-MODIFIED:20241224T152619Z
UID:10018215-1827678600-1827680400@uucv.org
SUMMARY:Worship Tech Meeting
DESCRIPTION:
URL:https://uucv.org/event/worship-tech-meeting-2-2-2/2027-12-01/
LOCATION:Board and ZOOM https://zoom.us/my/meetingsuucv 572/887-2212
END:VEVENT
BEGIN:VEVENT
DTSTART;TZID=America/New_York:20271202T184500
DTEND;TZID=America/New_York:20271202T204500
DTSTAMP:20260420T060517
CREATED:20250122T160647Z
LAST-MODIFIED:20250122T160648Z
UID:10018958-1827773100-1827780300@uucv.org
SUMMARY:UUCV Music Small Group
DESCRIPTION:
URL:https://uucv.org/event/uucv-music-small-group-2-2/2027-12-02/
LOCATION:Mary and Matts
END:VEVENT
BEGIN:VEVENT
DTSTART;TZID=America/New_York:20271202T191500
DTEND;TZID=America/New_York:20271202T203000
DTSTAMP:20260420T060517
CREATED:20250829T170500Z
LAST-MODIFIED:20250829T170713Z
UID:10021174-1827774900-1827779400@uucv.org
SUMMARY:Soul Matters Small Group Open to ALL
DESCRIPTION:
URL:https://uucv.org/event/soul-matters-small-group/2027-12-02/
LOCATION:ZOOM https://zoom.us/my/uucvpa
END:VEVENT
BEGIN:VEVENT
DTSTART;TZID=America/New_York:20271203T180000
DTEND;TZID=America/New_York:20271203T200000
DTSTAMP:20260420T060517
CREATED:20251031T160512Z
LAST-MODIFIED:20251031T160512Z
UID:10021428-1827856800-1827864000@uucv.org
SUMMARY:First Fridays Community Night
DESCRIPTION:
URL:https://uucv.org/event/first-fridays-community-night/2027-12-03/
LOCATION:Dining Room
END:VEVENT
BEGIN:VEVENT
DTSTART;TZID=America/New_York:20271207T194500
DTEND;TZID=America/New_York:20271207T210000
DTSTAMP:20260420T060517
CREATED:20250827T165850Z
LAST-MODIFIED:20250827T165850Z
UID:10021114-1828208700-1828213200@uucv.org
SUMMARY:Worship Leadership Team
DESCRIPTION:
URL:https://uucv.org/event/worship-leadership-team/2027-12-07/
LOCATION:Rev. Phoenix ZOOM
END:VEVENT
BEGIN:VEVENT
DTSTART;TZID=America/New_York:20271210T120000
DTEND;TZID=America/New_York:20271210T140000
DTSTAMP:20260420T060517
CREATED:20251125T191056Z
LAST-MODIFIED:20251125T191057Z
UID:10021802-1828440000-1828447200@uucv.org
SUMMARY:Soup Matters for All
DESCRIPTION:
URL:https://uucv.org/event/soup-matters-for-all-2/2027-12-10/
LOCATION:Dining Room
END:VEVENT
BEGIN:VEVENT
DTSTART;TZID=America/New_York:20271211T090000
DTEND;TZID=America/New_York:20271211T110000
DTSTAMP:20260420T060517
CREATED:20250910T142406Z
LAST-MODIFIED:20250910T172931Z
UID:10021296-1828515600-1828522800@uucv.org
SUMMARY:Caregivers Circle
DESCRIPTION:
URL:https://uucv.org/event/caregivers-circle-8/2027-12-11/
LOCATION:Youuth Room
END:VEVENT
BEGIN:VEVENT
DTSTART;TZID=America/New_York:20271212T083000
DTEND;TZID=America/New_York:20271212T100000
DTSTAMP:20260420T060517
CREATED:20250827T133907Z
LAST-MODIFIED:20250827T133908Z
UID:10021027-1828600200-1828605600@uucv.org
SUMMARY:Word Weavers Small Group
DESCRIPTION:
URL:https://uucv.org/event/word-weavers-small-group-2/2027-12-12/
LOCATION:Board Room
END:VEVENT
BEGIN:VEVENT
DTSTART;TZID=America/New_York:20271213T193000
DTEND;TZID=America/New_York:20271213T210000
DTSTAMP:20260420T060517
CREATED:20250827T133745Z
LAST-MODIFIED:20250827T133746Z
UID:10020968-1828726200-1828731600@uucv.org
SUMMARY:Finance
DESCRIPTION:
URL:https://uucv.org/event/finance-3-2-2-2/2027-12-13/
LOCATION:Offsite ZOOM
END:VEVENT
BEGIN:VEVENT
DTSTART;TZID=America/New_York:20271215T183000
DTEND;TZID=America/New_York:20271215T200000
DTSTAMP:20260420T060517
CREATED:20250115T174735Z
LAST-MODIFIED:20250626T160726Z
UID:10020790-1828895400-1828900800@uucv.org
SUMMARY:Social Justice Meeting
DESCRIPTION:
URL:https://uucv.org/event/social-justice-meeting-2/2027-12-15/
LOCATION:Board Room and ZOOM https://zoom.us/my/uucvpa
END:VEVENT
BEGIN:VEVENT
DTSTART;TZID=America/New_York:20271215T190000
DTEND;TZID=America/New_York:20271215T210000
DTSTAMP:20260420T060517
CREATED:20250318T175301Z
LAST-MODIFIED:20250318T175301Z
UID:10019746-1828897200-1828904400@uucv.org
SUMMARY:Men's Group
DESCRIPTION:
URL:https://uucv.org/event/mens-group/2027-12-15/
LOCATION:Area Homes
END:VEVENT
BEGIN:VEVENT
DTSTART;TZID=America/New_York:20271216T133000
DTEND;TZID=America/New_York:20271216T150000
DTSTAMP:20260420T060517
CREATED:20250626T161019Z
LAST-MODIFIED:20250626T161019Z
UID:10020848-1828963800-1828969200@uucv.org
SUMMARY:Daytimers
DESCRIPTION:
URL:https://uucv.org/event/daytimers/2027-12-16/
LOCATION:Meeting Room
END:VEVENT
BEGIN:VEVENT
DTSTART;TZID=America/New_York:20271216T140000
DTEND;TZID=America/New_York:20271216T160000
DTSTAMP:20260420T060517
CREATED:20250115T181345Z
LAST-MODIFIED:20250115T181345Z
UID:10018734-1828965600-1828972800@uucv.org
SUMMARY:The Divers Small Group
DESCRIPTION:
URL:https://uucv.org/event/gail-mike-small-group-2/2027-12-16/
LOCATION:Youuth Room
END:VEVENT
BEGIN:VEVENT
DTSTART;TZID=America/New_York:20271216T191500
DTEND;TZID=America/New_York:20271216T203000
DTSTAMP:20260420T060517
CREATED:20250829T170618Z
LAST-MODIFIED:20250829T170618Z
UID:10021234-1828984500-1828989000@uucv.org
SUMMARY:Soul Matters Small Group Open to ALL
DESCRIPTION:
URL:https://uucv.org/event/soul-matters-small-group-open-to-all/2027-12-16/
LOCATION:https://zoom.us/my/uucvpa
END:VEVENT
BEGIN:VEVENT
DTSTART;TZID=America/New_York:20271217T163000
DTEND;TZID=America/New_York:20271217T180000
DTSTAMP:20260420T060517
CREATED:20250318T175806Z
LAST-MODIFIED:20250625T181544Z
UID:10020724-1829061000-1829066400@uucv.org
SUMMARY:Namely Women's Group - Area Homes
DESCRIPTION:
URL:https://uucv.org/event/namely-womens-group-backyards-2/2027-12-17/
LOCATION:Area Homes\, PA
CATEGORIES:SGM
END:VEVENT
BEGIN:VEVENT
DTSTART;TZID=America/New_York:20271219T120000
DTEND;TZID=America/New_York:20271219T130000
DTSTAMP:20260420T060517
CREATED:20251031T161626Z
LAST-MODIFIED:20251031T161626Z
UID:10021610-1829217600-1829221200@uucv.org
SUMMARY:Outreach and Membership Meeting
DESCRIPTION:
URL:https://uucv.org/event/outreach-and-membership-meeting/2027-12-19/
LOCATION:Welcome Center
END:VEVENT
BEGIN:VEVENT
DTSTART;TZID=America/New_York:20271219T120000
DTEND;TZID=America/New_York:20271219T133000
DTSTAMP:20260420T060518
CREATED:20240328T143311Z
LAST-MODIFIED:20240328T143312Z
UID:10017390-1829217600-1829223000@uucv.org
SUMMARY:Worship Associates
DESCRIPTION:
URL:https://uucv.org/event/worship-associates-2/2027-12-19/
LOCATION:Social Hall\, PA\, United States
END:VEVENT
BEGIN:VEVENT
DTSTART;TZID=America/New_York:20271219T133000
DTEND;TZID=America/New_York:20271219T133000
DTSTAMP:20260420T060518
CREATED:20250318T175647Z
LAST-MODIFIED:20250318T175647Z
UID:10016345-1829223000-1829223000@uucv.org
SUMMARY:Kumquats - Joan's House
DESCRIPTION:
URL:https://uucv.org/event/kumquats-joans-house-2/2027-12-19/
LOCATION:Area Homes
END:VEVENT
BEGIN:VEVENT
DTSTART;TZID=America/New_York:20271221T183000
DTEND;TZID=America/New_York:20271221T203000
DTSTAMP:20260420T060518
CREATED:20250926T182036Z
LAST-MODIFIED:20250926T182037Z
UID:10021362-1829413800-1829421000@uucv.org
SUMMARY:Board of Trustees
DESCRIPTION:
URL:https://uucv.org/event/board-of-trustees-2/2027-12-21/
LOCATION:Board Room and ZOOM https://zoom.us/my/uucvpa
END:VEVENT
BEGIN:VEVENT
DTSTART;TZID=America/New_York:20271228T180000
DTEND;TZID=America/New_York:20271228T200000
DTSTAMP:20260420T060518
CREATED:20251031T160914Z
LAST-MODIFIED:20251031T160914Z
UID:10021549-1830016800-1830024000@uucv.org
SUMMARY:COM
DESCRIPTION:
URL:https://uucv.org/event/com/2027-12-28/
LOCATION:Welcome Center
END:VEVENT
END:VCALENDAR