BEGIN:VCALENDAR
VERSION:2.0
PRODID:-//Unitarian Universalists of the Cumberland Valley - ECPv6.15.20//NONSGML v1.0//EN
CALSCALE:GREGORIAN
METHOD:PUBLISH
X-WR-CALNAME:Unitarian Universalists of the Cumberland Valley
X-ORIGINAL-URL:https://uucv.org
X-WR-CALDESC:Events for Unitarian Universalists of the Cumberland Valley
REFRESH-INTERVAL;VALUE=DURATION:PT1H
X-Robots-Tag:noindex
X-PUBLISHED-TTL:PT1H
BEGIN:VTIMEZONE
TZID:America/New_York
BEGIN:DAYLIGHT
TZOFFSETFROM:-0500
TZOFFSETTO:-0400
TZNAME:EDT
DTSTART:20260308T070000
END:DAYLIGHT
BEGIN:STANDARD
TZOFFSETFROM:-0400
TZOFFSETTO:-0500
TZNAME:EST
DTSTART:20261101T060000
END:STANDARD
BEGIN:DAYLIGHT
TZOFFSETFROM:-0500
TZOFFSETTO:-0400
TZNAME:EDT
DTSTART:20270314T070000
END:DAYLIGHT
BEGIN:STANDARD
TZOFFSETFROM:-0400
TZOFFSETTO:-0500
TZNAME:EST
DTSTART:20271107T060000
END:STANDARD
BEGIN:DAYLIGHT
TZOFFSETFROM:-0500
TZOFFSETTO:-0400
TZNAME:EDT
DTSTART:20280312T070000
END:DAYLIGHT
BEGIN:STANDARD
TZOFFSETFROM:-0400
TZOFFSETTO:-0500
TZNAME:EST
DTSTART:20281105T060000
END:STANDARD
END:VTIMEZONE
BEGIN:VEVENT
DTSTART;TZID=America/New_York:20270926T103000
DTEND;TZID=America/New_York:20270926T113000
DTSTAMP:20260420T031844
CREATED:20230811T162352Z
LAST-MODIFIED:20230811T170330Z
UID:10015617-1821954600-1821958200@uucv.org
SUMMARY:Worship In-Person or ZOOM https://zoom.us/my/uucvpa
DESCRIPTION:
URL:https://uucv.org/event/worship-zoom-only-https-zoom-us-my-uucvpa-2/2027-09-26/
LOCATION:Social Hall\, PA\, United States
END:VEVENT
BEGIN:VEVENT
DTSTART;TZID=America/New_York:20270926T104500
DTEND;TZID=America/New_York:20270926T114500
DTSTAMP:20260420T031844
CREATED:20250508T170216Z
LAST-MODIFIED:20250508T170216Z
UID:10014221-1821955500-1821959100@uucv.org
SUMMARY:Religious Education K-12
DESCRIPTION:
URL:https://uucv.org/event/religious-education-k-12-2-2-2/2027-09-26/
LOCATION:Religious Education Classrooms\, 2 Forge Road\, Boiling Springs\, PA\, 17007\, United States
END:VEVENT
BEGIN:VEVENT
DTSTART;TZID=America/New_York:20270926T183000
DTEND;TZID=America/New_York:20270926T203000
DTSTAMP:20260420T031844
CREATED:20250115T181530Z
LAST-MODIFIED:20250115T181546Z
UID:10018791-1821983400-1821990600@uucv.org
SUMMARY:UUCV Book Group
DESCRIPTION:
URL:https://uucv.org/event/uucv-book-group-5/2027-09-26/
LOCATION:ZOOM https://zoom.us/my/uucvpa
END:VEVENT
BEGIN:VEVENT
DTSTART;TZID=America/New_York:20270928T180000
DTEND;TZID=America/New_York:20270928T200000
DTSTAMP:20260420T031844
CREATED:20251031T160914Z
LAST-MODIFIED:20251031T160914Z
UID:10021546-1822154400-1822161600@uucv.org
SUMMARY:COM
DESCRIPTION:
URL:https://uucv.org/event/com/2027-09-28/
LOCATION:Welcome Center
END:VEVENT
BEGIN:VEVENT
DTSTART;TZID=America/New_York:20270929T103000
DTEND;TZID=America/New_York:20270929T120000
DTSTAMP:20260420T031844
CREATED:20250625T180818Z
LAST-MODIFIED:20250625T180818Z
UID:10020492-1822213800-1822219200@uucv.org
SUMMARY:Staff Meeting
DESCRIPTION:
URL:https://uucv.org/event/staff-meeting-2/2027-09-29/
LOCATION:Rev. Phoenix Office
END:VEVENT
BEGIN:VEVENT
DTSTART;TZID=America/New_York:20270929T163000
DTEND;TZID=America/New_York:20270929T170000
DTSTAMP:20260420T031844
CREATED:20241224T152618Z
LAST-MODIFIED:20241224T152619Z
UID:10018206-1822235400-1822237200@uucv.org
SUMMARY:Worship Tech Meeting
DESCRIPTION:
URL:https://uucv.org/event/worship-tech-meeting-2-2-2/2027-09-29/
LOCATION:Board and ZOOM https://zoom.us/my/meetingsuucv 572/887-2212
END:VEVENT
BEGIN:VEVENT
DTSTART;TZID=America/New_York:20271001T180000
DTEND;TZID=America/New_York:20271001T200000
DTSTAMP:20260420T031844
CREATED:20251031T160512Z
LAST-MODIFIED:20251031T160512Z
UID:10021426-1822413600-1822420800@uucv.org
SUMMARY:First Fridays Community Night
DESCRIPTION:
URL:https://uucv.org/event/first-fridays-community-night/2027-10-01/
LOCATION:Dining Room
END:VEVENT
BEGIN:VEVENT
DTSTART;TZID=America/New_York:20271003T090000
DTEND;TZID=America/New_York:20271003T100000
DTSTAMP:20260420T031844
CREATED:20251120T181840Z
LAST-MODIFIED:20251120T181840Z
UID:10021695-1822554000-1822557600@uucv.org
SUMMARY:Roots & Wings Community Meet-Up
DESCRIPTION:
URL:https://uucv.org/event/roots-wings-community-meet-up-2/2027-10-03/
LOCATION:Dining Hall
END:VEVENT
BEGIN:VEVENT
DTSTART;TZID=America/New_York:20271005T194500
DTEND;TZID=America/New_York:20271005T210000
DTSTAMP:20260420T031844
CREATED:20250827T165850Z
LAST-MODIFIED:20250827T165850Z
UID:10021112-1822765500-1822770000@uucv.org
SUMMARY:Worship Leadership Team
DESCRIPTION:
URL:https://uucv.org/event/worship-leadership-team/2027-10-05/
LOCATION:Rev. Phoenix ZOOM
END:VEVENT
BEGIN:VEVENT
DTSTART;TZID=America/New_York:20271007T184500
DTEND;TZID=America/New_York:20271007T204500
DTSTAMP:20260420T031844
CREATED:20250122T160647Z
LAST-MODIFIED:20250122T160648Z
UID:10018954-1822934700-1822941900@uucv.org
SUMMARY:UUCV Music Small Group
DESCRIPTION:
URL:https://uucv.org/event/uucv-music-small-group-2-2/2027-10-07/
LOCATION:Mary and Matts
END:VEVENT
BEGIN:VEVENT
DTSTART;TZID=America/New_York:20271007T191500
DTEND;TZID=America/New_York:20271007T203000
DTSTAMP:20260420T031844
CREATED:20250829T170500Z
LAST-MODIFIED:20250829T170713Z
UID:10021172-1822936500-1822941000@uucv.org
SUMMARY:Soul Matters Small Group Open to ALL
DESCRIPTION:
URL:https://uucv.org/event/soul-matters-small-group/2027-10-07/
LOCATION:ZOOM https://zoom.us/my/uucvpa
END:VEVENT
BEGIN:VEVENT
DTSTART;TZID=America/New_York:20271008T120000
DTEND;TZID=America/New_York:20271008T140000
DTSTAMP:20260420T031844
CREATED:20251125T191056Z
LAST-MODIFIED:20251125T191057Z
UID:10021800-1822996800-1823004000@uucv.org
SUMMARY:Soup Matters for All
DESCRIPTION:
URL:https://uucv.org/event/soup-matters-for-all-2/2027-10-08/
LOCATION:Dining Room
END:VEVENT
BEGIN:VEVENT
DTSTART;TZID=America/New_York:20271009T090000
DTEND;TZID=America/New_York:20271009T110000
DTSTAMP:20260420T031844
CREATED:20250910T142406Z
LAST-MODIFIED:20250910T172931Z
UID:10021294-1823072400-1823079600@uucv.org
SUMMARY:Caregivers Circle
DESCRIPTION:
URL:https://uucv.org/event/caregivers-circle-8/2027-10-09/
LOCATION:Youuth Room
END:VEVENT
BEGIN:VEVENT
DTSTART;TZID=America/New_York:20271010T083000
DTEND;TZID=America/New_York:20271010T100000
DTSTAMP:20260420T031844
CREATED:20250827T133907Z
LAST-MODIFIED:20250827T133908Z
UID:10021025-1823157000-1823162400@uucv.org
SUMMARY:Word Weavers Small Group
DESCRIPTION:
URL:https://uucv.org/event/word-weavers-small-group-2/2027-10-10/
LOCATION:Board Room
END:VEVENT
BEGIN:VEVENT
DTSTART;TZID=America/New_York:20271011T193000
DTEND;TZID=America/New_York:20271011T210000
DTSTAMP:20260420T031844
CREATED:20250827T133745Z
LAST-MODIFIED:20250827T133746Z
UID:10020966-1823283000-1823288400@uucv.org
SUMMARY:Finance
DESCRIPTION:
URL:https://uucv.org/event/finance-3-2-2-2/2027-10-11/
LOCATION:Offsite ZOOM
END:VEVENT
BEGIN:VEVENT
DTSTART;TZID=America/New_York:20271015T163000
DTEND;TZID=America/New_York:20271015T180000
DTSTAMP:20260420T031844
CREATED:20250318T175806Z
LAST-MODIFIED:20250625T181544Z
UID:10020722-1823617800-1823623200@uucv.org
SUMMARY:Namely Women's Group - Area Homes
DESCRIPTION:
URL:https://uucv.org/event/namely-womens-group-backyards-2/2027-10-15/
LOCATION:Area Homes\, PA
CATEGORIES:SGM
END:VEVENT
BEGIN:VEVENT
DTSTART;TZID=America/New_York:20271017T120000
DTEND;TZID=America/New_York:20271017T130000
DTSTAMP:20260420T031844
CREATED:20251031T161626Z
LAST-MODIFIED:20251031T161626Z
UID:10021608-1823774400-1823778000@uucv.org
SUMMARY:Outreach and Membership Meeting
DESCRIPTION:
URL:https://uucv.org/event/outreach-and-membership-meeting/2027-10-17/
LOCATION:Welcome Center
END:VEVENT
BEGIN:VEVENT
DTSTART;TZID=America/New_York:20271017T120000
DTEND;TZID=America/New_York:20271017T133000
DTSTAMP:20260420T031844
CREATED:20240328T143311Z
LAST-MODIFIED:20240328T143312Z
UID:10017388-1823774400-1823779800@uucv.org
SUMMARY:Worship Associates
DESCRIPTION:
URL:https://uucv.org/event/worship-associates-2/2027-10-17/
LOCATION:Social Hall\, PA\, United States
END:VEVENT
BEGIN:VEVENT
DTSTART;TZID=America/New_York:20271017T133000
DTEND;TZID=America/New_York:20271017T133000
DTSTAMP:20260420T031844
CREATED:20250318T175647Z
LAST-MODIFIED:20250318T175647Z
UID:10016343-1823779800-1823779800@uucv.org
SUMMARY:Kumquats - Joan's House
DESCRIPTION:
URL:https://uucv.org/event/kumquats-joans-house-2/2027-10-17/
LOCATION:Area Homes
END:VEVENT
BEGIN:VEVENT
DTSTART;TZID=America/New_York:20271019T183000
DTEND;TZID=America/New_York:20271019T203000
DTSTAMP:20260420T031844
CREATED:20250926T182036Z
LAST-MODIFIED:20250926T182037Z
UID:10021360-1823970600-1823977800@uucv.org
SUMMARY:Board of Trustees
DESCRIPTION:
URL:https://uucv.org/event/board-of-trustees-2/2027-10-19/
LOCATION:Board Room and ZOOM https://zoom.us/my/uucvpa
END:VEVENT
BEGIN:VEVENT
DTSTART;TZID=America/New_York:20271020T183000
DTEND;TZID=America/New_York:20271020T200000
DTSTAMP:20260420T031844
CREATED:20250115T174735Z
LAST-MODIFIED:20250626T160726Z
UID:10020788-1824057000-1824062400@uucv.org
SUMMARY:Social Justice Meeting
DESCRIPTION:
URL:https://uucv.org/event/social-justice-meeting-2/2027-10-20/
LOCATION:Board Room and ZOOM https://zoom.us/my/uucvpa
END:VEVENT
BEGIN:VEVENT
DTSTART;TZID=America/New_York:20271020T190000
DTEND;TZID=America/New_York:20271020T210000
DTSTAMP:20260420T031844
CREATED:20250318T175301Z
LAST-MODIFIED:20250318T175301Z
UID:10019744-1824058800-1824066000@uucv.org
SUMMARY:Men's Group
DESCRIPTION:
URL:https://uucv.org/event/mens-group/2027-10-20/
LOCATION:Area Homes
END:VEVENT
BEGIN:VEVENT
DTSTART;TZID=America/New_York:20271021T133000
DTEND;TZID=America/New_York:20271021T150000
DTSTAMP:20260420T031844
CREATED:20250626T161019Z
LAST-MODIFIED:20250626T161019Z
UID:10020846-1824125400-1824130800@uucv.org
SUMMARY:Daytimers
DESCRIPTION:
URL:https://uucv.org/event/daytimers/2027-10-21/
LOCATION:Meeting Room
END:VEVENT
BEGIN:VEVENT
DTSTART;TZID=America/New_York:20271021T140000
DTEND;TZID=America/New_York:20271021T160000
DTSTAMP:20260420T031844
CREATED:20250115T181345Z
LAST-MODIFIED:20250115T181345Z
UID:10018732-1824127200-1824134400@uucv.org
SUMMARY:The Divers Small Group
DESCRIPTION:
URL:https://uucv.org/event/gail-mike-small-group-2/2027-10-21/
LOCATION:Youuth Room
END:VEVENT
BEGIN:VEVENT
DTSTART;TZID=America/New_York:20271021T191500
DTEND;TZID=America/New_York:20271021T203000
DTSTAMP:20260420T031844
CREATED:20250829T170618Z
LAST-MODIFIED:20250829T170618Z
UID:10021232-1824146100-1824150600@uucv.org
SUMMARY:Soul Matters Small Group Open to ALL
DESCRIPTION:
URL:https://uucv.org/event/soul-matters-small-group-open-to-all/2027-10-21/
LOCATION:https://zoom.us/my/uucvpa
END:VEVENT
END:VCALENDAR