BEGIN:VCALENDAR
VERSION:2.0
PRODID:-//Unitarian Universalists of the Cumberland Valley - ECPv6.15.20//NONSGML v1.0//EN
CALSCALE:GREGORIAN
METHOD:PUBLISH
X-WR-CALNAME:Unitarian Universalists of the Cumberland Valley
X-ORIGINAL-URL:https://uucv.org
X-WR-CALDESC:Events for Unitarian Universalists of the Cumberland Valley
REFRESH-INTERVAL;VALUE=DURATION:PT1H
X-Robots-Tag:noindex
X-PUBLISHED-TTL:PT1H
BEGIN:VTIMEZONE
TZID:America/New_York
BEGIN:DAYLIGHT
TZOFFSETFROM:-0500
TZOFFSETTO:-0400
TZNAME:EDT
DTSTART:20260308T070000
END:DAYLIGHT
BEGIN:STANDARD
TZOFFSETFROM:-0400
TZOFFSETTO:-0500
TZNAME:EST
DTSTART:20261101T060000
END:STANDARD
BEGIN:DAYLIGHT
TZOFFSETFROM:-0500
TZOFFSETTO:-0400
TZNAME:EDT
DTSTART:20270314T070000
END:DAYLIGHT
BEGIN:STANDARD
TZOFFSETFROM:-0400
TZOFFSETTO:-0500
TZNAME:EST
DTSTART:20271107T060000
END:STANDARD
BEGIN:DAYLIGHT
TZOFFSETFROM:-0500
TZOFFSETTO:-0400
TZNAME:EDT
DTSTART:20280312T070000
END:DAYLIGHT
BEGIN:STANDARD
TZOFFSETFROM:-0400
TZOFFSETTO:-0500
TZNAME:EST
DTSTART:20281105T060000
END:STANDARD
END:VTIMEZONE
BEGIN:VEVENT
DTSTART;TZID=America/New_York:20270618T163000
DTEND;TZID=America/New_York:20270618T180000
DTSTAMP:20260419T224030
CREATED:20250318T175806Z
LAST-MODIFIED:20250625T181544Z
UID:10020718-1813336200-1813341600@uucv.org
SUMMARY:Namely Women's Group - Area Homes
DESCRIPTION:
URL:https://uucv.org/event/namely-womens-group-backyards-2/2027-06-18/
LOCATION:Area Homes\, PA
CATEGORIES:SGM
END:VEVENT
BEGIN:VEVENT
DTSTART;TZID=America/New_York:20270620T103000
DTEND;TZID=America/New_York:20270620T113000
DTSTAMP:20260419T224030
CREATED:20230811T162352Z
LAST-MODIFIED:20230811T170330Z
UID:10015603-1813487400-1813491000@uucv.org
SUMMARY:Worship In-Person or ZOOM https://zoom.us/my/uucvpa
DESCRIPTION:
URL:https://uucv.org/event/worship-zoom-only-https-zoom-us-my-uucvpa-2/2027-06-20/
LOCATION:Social Hall\, PA\, United States
END:VEVENT
BEGIN:VEVENT
DTSTART;TZID=America/New_York:20270620T104500
DTEND;TZID=America/New_York:20270620T114500
DTSTAMP:20260419T224030
CREATED:20250508T170216Z
LAST-MODIFIED:20250508T170216Z
UID:10014207-1813488300-1813491900@uucv.org
SUMMARY:Religious Education K-12
DESCRIPTION:
URL:https://uucv.org/event/religious-education-k-12-2-2-2/2027-06-20/
LOCATION:Religious Education Classrooms\, 2 Forge Road\, Boiling Springs\, PA\, 17007\, United States
END:VEVENT
BEGIN:VEVENT
DTSTART;TZID=America/New_York:20270620T120000
DTEND;TZID=America/New_York:20270620T130000
DTSTAMP:20260419T224030
CREATED:20251031T161626Z
LAST-MODIFIED:20251031T161626Z
UID:10021604-1813492800-1813496400@uucv.org
SUMMARY:Outreach and Membership Meeting
DESCRIPTION:
URL:https://uucv.org/event/outreach-and-membership-meeting/2027-06-20/
LOCATION:Welcome Center
END:VEVENT
BEGIN:VEVENT
DTSTART;TZID=America/New_York:20270620T120000
DTEND;TZID=America/New_York:20270620T133000
DTSTAMP:20260419T224030
CREATED:20240328T143311Z
LAST-MODIFIED:20240328T143312Z
UID:10017384-1813492800-1813498200@uucv.org
SUMMARY:Worship Associates
DESCRIPTION:
URL:https://uucv.org/event/worship-associates-2/2027-06-20/
LOCATION:Social Hall\, PA\, United States
END:VEVENT
BEGIN:VEVENT
DTSTART;TZID=America/New_York:20270620T133000
DTEND;TZID=America/New_York:20270620T133000
DTSTAMP:20260419T224030
CREATED:20250318T175647Z
LAST-MODIFIED:20250318T175647Z
UID:10016339-1813498200-1813498200@uucv.org
SUMMARY:Kumquats - Joan's House
DESCRIPTION:
URL:https://uucv.org/event/kumquats-joans-house-2/2027-06-20/
LOCATION:Area Homes
END:VEVENT
BEGIN:VEVENT
DTSTART;TZID=America/New_York:20270622T180000
DTEND;TZID=America/New_York:20270622T200000
DTSTAMP:20260419T224030
CREATED:20251031T160914Z
LAST-MODIFIED:20251031T160914Z
UID:10021543-1813687200-1813694400@uucv.org
SUMMARY:COM
DESCRIPTION:
URL:https://uucv.org/event/com/2027-06-22/
LOCATION:Welcome Center
END:VEVENT
BEGIN:VEVENT
DTSTART;TZID=America/New_York:20270623T103000
DTEND;TZID=America/New_York:20270623T120000
DTSTAMP:20260419T224030
CREATED:20250625T180818Z
LAST-MODIFIED:20250625T180818Z
UID:10020478-1813746600-1813752000@uucv.org
SUMMARY:Staff Meeting
DESCRIPTION:
URL:https://uucv.org/event/staff-meeting-2/2027-06-23/
LOCATION:Rev. Phoenix Office
END:VEVENT
BEGIN:VEVENT
DTSTART;TZID=America/New_York:20270623T163000
DTEND;TZID=America/New_York:20270623T170000
DTSTAMP:20260419T224030
CREATED:20241224T152618Z
LAST-MODIFIED:20241224T152619Z
UID:10018192-1813768200-1813770000@uucv.org
SUMMARY:Worship Tech Meeting
DESCRIPTION:
URL:https://uucv.org/event/worship-tech-meeting-2-2-2/2027-06-23/
LOCATION:Board and ZOOM https://zoom.us/my/meetingsuucv 572/887-2212
END:VEVENT
BEGIN:VEVENT
DTSTART;TZID=America/New_York:20270627T090000
DTEND;TZID=America/New_York:20270627T100000
DTSTAMP:20260419T224030
CREATED:20251120T181840Z
LAST-MODIFIED:20251120T181840Z
UID:10021688-1814086800-1814090400@uucv.org
SUMMARY:Roots & Wings Community Meet-Up
DESCRIPTION:
URL:https://uucv.org/event/roots-wings-community-meet-up-2/2027-06-27/
LOCATION:Dining Hall
END:VEVENT
BEGIN:VEVENT
DTSTART;TZID=America/New_York:20270627T183000
DTEND;TZID=America/New_York:20270627T203000
DTSTAMP:20260419T224030
CREATED:20250115T181530Z
LAST-MODIFIED:20250115T181546Z
UID:10018788-1814121000-1814128200@uucv.org
SUMMARY:UUCV Book Group
DESCRIPTION:
URL:https://uucv.org/event/uucv-book-group-5/2027-06-27/
LOCATION:ZOOM https://zoom.us/my/uucvpa
END:VEVENT
BEGIN:VEVENT
DTSTART;TZID=America/New_York:20270701T184500
DTEND;TZID=America/New_York:20270701T204500
DTSTAMP:20260419T224030
CREATED:20250122T160647Z
LAST-MODIFIED:20250122T160648Z
UID:10018947-1814467500-1814474700@uucv.org
SUMMARY:UUCV Music Small Group
DESCRIPTION:
URL:https://uucv.org/event/uucv-music-small-group-2-2/2027-07-01/
LOCATION:Mary and Matts
END:VEVENT
BEGIN:VEVENT
DTSTART;TZID=America/New_York:20270701T191500
DTEND;TZID=America/New_York:20270701T203000
DTSTAMP:20260419T224030
CREATED:20250829T170500Z
LAST-MODIFIED:20250829T170713Z
UID:10021169-1814469300-1814473800@uucv.org
SUMMARY:Soul Matters Small Group Open to ALL
DESCRIPTION:
URL:https://uucv.org/event/soul-matters-small-group/2027-07-01/
LOCATION:ZOOM https://zoom.us/my/uucvpa
END:VEVENT
BEGIN:VEVENT
DTSTART;TZID=America/New_York:20270702T180000
DTEND;TZID=America/New_York:20270702T200000
DTSTAMP:20260419T224030
CREATED:20251031T160512Z
LAST-MODIFIED:20251031T160512Z
UID:10021423-1814551200-1814558400@uucv.org
SUMMARY:First Fridays Community Night
DESCRIPTION:
URL:https://uucv.org/event/first-fridays-community-night/2027-07-02/
LOCATION:Dining Room
END:VEVENT
BEGIN:VEVENT
DTSTART;TZID=America/New_York:20270706T194500
DTEND;TZID=America/New_York:20270706T210000
DTSTAMP:20260419T224030
CREATED:20250827T165850Z
LAST-MODIFIED:20250827T165850Z
UID:10021109-1814903100-1814907600@uucv.org
SUMMARY:Worship Leadership Team
DESCRIPTION:
URL:https://uucv.org/event/worship-leadership-team/2027-07-06/
LOCATION:Rev. Phoenix ZOOM
END:VEVENT
BEGIN:VEVENT
DTSTART;TZID=America/New_York:20270709T120000
DTEND;TZID=America/New_York:20270709T140000
DTSTAMP:20260419T224030
CREATED:20251125T191056Z
LAST-MODIFIED:20251125T191057Z
UID:10021797-1815134400-1815141600@uucv.org
SUMMARY:Soup Matters for All
DESCRIPTION:
URL:https://uucv.org/event/soup-matters-for-all-2/2027-07-09/
LOCATION:Dining Room
END:VEVENT
BEGIN:VEVENT
DTSTART;TZID=America/New_York:20270710T090000
DTEND;TZID=America/New_York:20270710T110000
DTSTAMP:20260419T224030
CREATED:20250910T142406Z
LAST-MODIFIED:20250910T172931Z
UID:10021291-1815210000-1815217200@uucv.org
SUMMARY:Caregivers Circle
DESCRIPTION:
URL:https://uucv.org/event/caregivers-circle-8/2027-07-10/
LOCATION:Youuth Room
END:VEVENT
BEGIN:VEVENT
DTSTART;TZID=America/New_York:20270711T083000
DTEND;TZID=America/New_York:20270711T100000
DTSTAMP:20260419T224030
CREATED:20250827T133907Z
LAST-MODIFIED:20250827T133908Z
UID:10021022-1815294600-1815300000@uucv.org
SUMMARY:Word Weavers Small Group
DESCRIPTION:
URL:https://uucv.org/event/word-weavers-small-group-2/2027-07-11/
LOCATION:Board Room
END:VEVENT
BEGIN:VEVENT
DTSTART;TZID=America/New_York:20270712T193000
DTEND;TZID=America/New_York:20270712T210000
DTSTAMP:20260419T224030
CREATED:20250827T133745Z
LAST-MODIFIED:20250827T133746Z
UID:10020963-1815420600-1815426000@uucv.org
SUMMARY:Finance
DESCRIPTION:
URL:https://uucv.org/event/finance-3-2-2-2/2027-07-12/
LOCATION:Offsite ZOOM
END:VEVENT
BEGIN:VEVENT
DTSTART;TZID=America/New_York:20270715T133000
DTEND;TZID=America/New_York:20270715T150000
DTSTAMP:20260419T224030
CREATED:20250626T161019Z
LAST-MODIFIED:20250626T161019Z
UID:10020843-1815658200-1815663600@uucv.org
SUMMARY:Daytimers
DESCRIPTION:
URL:https://uucv.org/event/daytimers/2027-07-15/
LOCATION:Meeting Room
END:VEVENT
BEGIN:VEVENT
DTSTART;TZID=America/New_York:20270715T140000
DTEND;TZID=America/New_York:20270715T160000
DTSTAMP:20260419T224030
CREATED:20250115T181345Z
LAST-MODIFIED:20250115T181345Z
UID:10018729-1815660000-1815667200@uucv.org
SUMMARY:The Divers Small Group
DESCRIPTION:
URL:https://uucv.org/event/gail-mike-small-group-2/2027-07-15/
LOCATION:Youuth Room
END:VEVENT
BEGIN:VEVENT
DTSTART;TZID=America/New_York:20270715T191500
DTEND;TZID=America/New_York:20270715T203000
DTSTAMP:20260419T224030
CREATED:20250829T170618Z
LAST-MODIFIED:20250829T170618Z
UID:10021229-1815678900-1815683400@uucv.org
SUMMARY:Soul Matters Small Group Open to ALL
DESCRIPTION:
URL:https://uucv.org/event/soul-matters-small-group-open-to-all/2027-07-15/
LOCATION:https://zoom.us/my/uucvpa
END:VEVENT
BEGIN:VEVENT
DTSTART;TZID=America/New_York:20270720T183000
DTEND;TZID=America/New_York:20270720T203000
DTSTAMP:20260419T224030
CREATED:20250926T182036Z
LAST-MODIFIED:20250926T182037Z
UID:10021357-1816108200-1816115400@uucv.org
SUMMARY:Board of Trustees
DESCRIPTION:
URL:https://uucv.org/event/board-of-trustees-2/2027-07-20/
LOCATION:Board Room and ZOOM https://zoom.us/my/uucvpa
END:VEVENT
BEGIN:VEVENT
DTSTART;TZID=America/New_York:20270721T183000
DTEND;TZID=America/New_York:20270721T200000
DTSTAMP:20260419T224030
CREATED:20250115T174735Z
LAST-MODIFIED:20250626T160726Z
UID:10020785-1816194600-1816200000@uucv.org
SUMMARY:Social Justice Meeting
DESCRIPTION:
URL:https://uucv.org/event/social-justice-meeting-2/2027-07-21/
LOCATION:Board Room and ZOOM https://zoom.us/my/uucvpa
END:VEVENT
BEGIN:VEVENT
DTSTART;TZID=America/New_York:20270721T190000
DTEND;TZID=America/New_York:20270721T210000
DTSTAMP:20260419T224030
CREATED:20250318T175301Z
LAST-MODIFIED:20250318T175301Z
UID:10019741-1816196400-1816203600@uucv.org
SUMMARY:Men's Group
DESCRIPTION:
URL:https://uucv.org/event/mens-group/2027-07-21/
LOCATION:Area Homes
END:VEVENT
END:VCALENDAR