BEGIN:VCALENDAR
VERSION:2.0
PRODID:-//Unitarian Universalists of the Cumberland Valley - ECPv6.15.20//NONSGML v1.0//EN
CALSCALE:GREGORIAN
METHOD:PUBLISH
X-ORIGINAL-URL:https://uucv.org
X-WR-CALDESC:Events for Unitarian Universalists of the Cumberland Valley
REFRESH-INTERVAL;VALUE=DURATION:PT1H
X-Robots-Tag:noindex
X-PUBLISHED-TTL:PT1H
BEGIN:VTIMEZONE
TZID:America/New_York
BEGIN:DAYLIGHT
TZOFFSETFROM:-0500
TZOFFSETTO:-0400
TZNAME:EDT
DTSTART:20150308T070000
END:DAYLIGHT
BEGIN:STANDARD
TZOFFSETFROM:-0400
TZOFFSETTO:-0500
TZNAME:EST
DTSTART:20151101T060000
END:STANDARD
BEGIN:DAYLIGHT
TZOFFSETFROM:-0500
TZOFFSETTO:-0400
TZNAME:EDT
DTSTART:20160313T070000
END:DAYLIGHT
BEGIN:STANDARD
TZOFFSETFROM:-0400
TZOFFSETTO:-0500
TZNAME:EST
DTSTART:20161106T060000
END:STANDARD
BEGIN:DAYLIGHT
TZOFFSETFROM:-0500
TZOFFSETTO:-0400
TZNAME:EDT
DTSTART:20170312T070000
END:DAYLIGHT
BEGIN:STANDARD
TZOFFSETFROM:-0400
TZOFFSETTO:-0500
TZNAME:EST
DTSTART:20171105T060000
END:STANDARD
BEGIN:DAYLIGHT
TZOFFSETFROM:-0500
TZOFFSETTO:-0400
TZNAME:EDT
DTSTART:20180311T070000
END:DAYLIGHT
BEGIN:STANDARD
TZOFFSETFROM:-0400
TZOFFSETTO:-0500
TZNAME:EST
DTSTART:20181104T060000
END:STANDARD
END:VTIMEZONE
BEGIN:VEVENT
DTSTART;TZID=America/New_York:20170625T103000
DTEND;TZID=America/New_York:20170625T113000
DTSTAMP:20260420T012916
CREATED:20170517T160228Z
LAST-MODIFIED:20170620T132434Z
UID:10011322-1498386600-1498390200@uucv.org
SUMMARY:Worship: “Who Else Is Family: In Ever Widening Circles”
DESCRIPTION: Even the best families cannot be everything to their children. There is always the larger family\, outside of the nuclear family and even outside of relatives altogether. Who has been part of your larger family?  Gisela Roethke is service leader with worship associate Cheryl Parsons.
URL:https://uucv.org/event/worship-who-else-is-family/
LOCATION:Social Hall\, PA\, United States
CATEGORIES:Flag for Newsletter,Worship
ORGANIZER;CN="Gisela Roethe":MAILTO:roethke@dickinson.edu
END:VEVENT
BEGIN:VEVENT
DTSTART;TZID=America/New_York:20170618T103000
DTEND;TZID=America/New_York:20170618T113000
DTSTAMP:20260420T012916
CREATED:20170517T160106Z
LAST-MODIFIED:20170517T161548Z
UID:10011316-1497781800-1497785400@uucv.org
SUMMARY:Worship: “All Of Our Parents”
DESCRIPTION:On this Father’s Day we ask the question: is there something inherently special about fathers? About mothers? About our many gendered parents?  Rev. Aija Simpson preaching with worship associate Michele Burton. Guest Accompanist Carole Knisely provides service music.
URL:https://uucv.org/event/worship-all-of-our-parents/
LOCATION:Social Hall\, PA\, United States
CATEGORIES:Flag for Newsletter,Worship
ORGANIZER;CN="Rev Aija Simpson":MAILTO: revaija@qmf.309.myftpupload.com
END:VEVENT
BEGIN:VEVENT
DTSTART;TZID=America/New_York:20170604T103000
DTEND;TZID=America/New_York:20170604T113000
DTSTAMP:20260420T012916
CREATED:20170517T155533Z
LAST-MODIFIED:20170517T155533Z
UID:10011313-1496572200-1496575800@uucv.org
SUMMARY:Worship: “A Chosen Family”
DESCRIPTION:What does it mean to be family? Are we living up to our promises?  Rev. Aija Simpson preaching with worship associate Christin Kapp.
URL:https://uucv.org/event/worship-a-chosen-family/
LOCATION:Social Hall\, PA\, United States
CATEGORIES:Flag for Newsletter,Worship
ORGANIZER;CN="Rev Aija Simpson":MAILTO: revaija@qmf.309.myftpupload.com
END:VEVENT
BEGIN:VEVENT
DTSTART;TZID=America/New_York:20170528T103000
DTEND;TZID=America/New_York:20170528T113000
DTSTAMP:20260420T012916
CREATED:20170406T155333Z
LAST-MODIFIED:20170518T152318Z
UID:10008200-1495967400-1495971000@uucv.org
SUMMARY:Worship: "An Agnostic In Seminary: Year One"
DESCRIPTION:Teman Cooke reflects back upon his first year as an agnostic seminary student after spending almost 10 years as a physics professor\, and discusses what insights he’s found interesting and valuable.  Julie Ham is worship associate.
URL:https://uucv.org/event/worship-3/
LOCATION:Social Hall\, PA\, United States
CATEGORIES:Flag for Newsletter,Worship
ORGANIZER;CN="Rev Aija Simpson":MAILTO: revaija@qmf.309.myftpupload.com
END:VEVENT
BEGIN:VEVENT
DTSTART;TZID=America/New_York:20170521T103000
DTEND;TZID=America/New_York:20170521T113000
DTSTAMP:20260420T012916
CREATED:20170406T155229Z
LAST-MODIFIED:20170406T155229Z
UID:10008199-1495362600-1495366200@uucv.org
SUMMARY:Worship: An Impossible Promise
DESCRIPTION:
URL:https://uucv.org/event/worship-an-impossible-promise/
LOCATION:Social Hall\, PA\, United States
CATEGORIES:Flag for Newsletter,Worship
ORGANIZER;CN="Rev Aija Simpson":MAILTO: revaija@qmf.309.myftpupload.com
END:VEVENT
BEGIN:VEVENT
DTSTART;TZID=America/New_York:20170514T103000
DTEND;TZID=America/New_York:20170514T113000
DTSTAMP:20260420T012916
CREATED:20170406T155125Z
LAST-MODIFIED:20170420T172511Z
UID:10008198-1494757800-1494761400@uucv.org
SUMMARY:Worship: To You I Give
DESCRIPTION:Mothers Day/Flower Communion.  Rev. Aija Simpson preaching with worship associate Cheryl Parsons.
URL:https://uucv.org/event/worship-to-you-i-give/
LOCATION:Social Hall\, PA\, United States
CATEGORIES:Flag for Newsletter,Worship
ORGANIZER;CN="Rev Aija Simpson":MAILTO: revaija@qmf.309.myftpupload.com
END:VEVENT
BEGIN:VEVENT
DTSTART;TZID=America/New_York:20170507T103000
DTEND;TZID=America/New_York:20170507T113000
DTSTAMP:20260420T012916
CREATED:20170406T155016Z
LAST-MODIFIED:20170406T155016Z
UID:10008197-1494153000-1494156600@uucv.org
SUMMARY:Worship: The Eighth Principle
DESCRIPTION:
URL:https://uucv.org/event/worship-the-eighth-principle/
LOCATION:Social Hall\, PA\, United States
CATEGORIES:Flag for Newsletter,Worship
ORGANIZER;CN="Rev Aija Simpson":MAILTO: revaija@qmf.309.myftpupload.com
END:VEVENT
BEGIN:VEVENT
DTSTART;TZID=America/New_York:20170430T103000
DTEND;TZID=America/New_York:20170430T113000
DTSTAMP:20260420T012916
CREATED:20170201T191448Z
LAST-MODIFIED:20170201T191448Z
UID:10011058-1493548200-1493551800@uucv.org
SUMMARY:Worship: "The Web"
DESCRIPTION:Pull one string\, pull them all.  Rev. Aija Simpson preaching.
URL:https://uucv.org/event/worship-the-web/
LOCATION:Social Hall\, PA\, United States
CATEGORIES:Worship
ORGANIZER;CN="Rev Aija Simpson":MAILTO: revaija@qmf.309.myftpupload.com
END:VEVENT
BEGIN:VEVENT
DTSTART;TZID=America/New_York:20170423T080000
DTEND;TZID=America/New_York:20170423T170000
DTSTAMP:20260420T012916
CREATED:20170331T144220Z
LAST-MODIFIED:20170331T144220Z
UID:10008196-1492934400-1492966800@uucv.org
SUMMARY:Worship: "Leaps of Faith and Taking Risks"
DESCRIPTION:Taking risks usually involves a little faith.  Why do we take risks and how do they affect our lives?
URL:https://uucv.org/event/worship-leaps-of-faith-and-taking-risks/
LOCATION:Social Hall\, PA\, United States
CATEGORIES:Community,Flag for Newsletter,Worship
END:VEVENT
BEGIN:VEVENT
DTSTART;TZID=America/New_York:20170416T103000
DTEND;TZID=America/New_York:20170416T113000
DTSTAMP:20260420T012916
CREATED:20170310T164918Z
LAST-MODIFIED:20170310T164918Z
UID:10011268-1492338600-1492342200@uucv.org
SUMMARY:Worship: "Resurrect\, Not Restore"
DESCRIPTION:We will come back. We have before and we will again. We will come back. But can it ever be the same? Would we want it to be?  Rev. Aija Simpson preaching with worship associate Michele Burton.
URL:https://uucv.org/event/worship-resurrect-not-restore-2/
LOCATION:Social Hall\, PA\, United States
CATEGORIES:Worship
ORGANIZER;CN="Rev Aija Simpson":MAILTO: revaija@qmf.309.myftpupload.com
END:VEVENT
BEGIN:VEVENT
DTSTART;TZID=America/New_York:20170416T080000
DTEND;TZID=America/New_York:20170416T170000
DTSTAMP:20260420T012916
CREATED:20170201T191045Z
LAST-MODIFIED:20170216T143710Z
UID:10011056-1492329600-1492362000@uucv.org
SUMMARY:Worship: "Resurrect\, Not Restore"
DESCRIPTION:We will come back.  We have before and we will again.  We will come back.  But can it ever be the same?  Would we want it to be?  Rev. Aija Simpson preaching with worship associate Michele Burton.
URL:https://uucv.org/event/worship-resurrect-not-restore/
LOCATION:Social Hall\, PA\, United States
CATEGORIES:Worship
ORGANIZER;CN="Rev Aija Simpson":MAILTO: revaija@qmf.309.myftpupload.com
END:VEVENT
BEGIN:VEVENT
DTSTART;TZID=America/New_York:20170409T103000
DTEND;TZID=America/New_York:20170409T113000
DTSTAMP:20260420T012916
CREATED:20170310T164719Z
LAST-MODIFIED:20170310T164719Z
UID:10011267-1491733800-1491737400@uucv.org
SUMMARY:Worship: "An Invisible Life"
DESCRIPTION:Is it possible to not matter?  Rev. Aija Simpson preaching with worship associate Julie Ham.
URL:https://uucv.org/event/worship-an-invisible-life-2/
LOCATION:Social Hall\, PA\, United States
CATEGORIES:Worship
ORGANIZER;CN="Rev Aija Simpson":MAILTO: revaija@qmf.309.myftpupload.com
END:VEVENT
BEGIN:VEVENT
DTSTART;TZID=America/New_York:20170409T103000
DTEND;TZID=America/New_York:20170409T113000
DTSTAMP:20260420T012916
CREATED:20170201T191249Z
LAST-MODIFIED:20170216T143533Z
UID:10011057-1491733800-1491737400@uucv.org
SUMMARY:Worship: "An Invisible Life"
DESCRIPTION:Is it possible not to matter?  Rev. Aija Simpson preaching.
URL:https://uucv.org/event/worship-an-invisible-life/
LOCATION:Social Hall\, PA\, United States
CATEGORIES:Worship
ORGANIZER;CN="Rev Aija Simpson":MAILTO: revaija@qmf.309.myftpupload.com
END:VEVENT
BEGIN:VEVENT
DTSTART;TZID=America/New_York:20170402T103000
DTEND;TZID=America/New_York:20170402T113000
DTSTAMP:20260420T012916
CREATED:20170310T164459Z
LAST-MODIFIED:20170310T164459Z
UID:10011266-1491129000-1491132600@uucv.org
SUMMARY:Worship: "Ripples"
DESCRIPTION:Every moment matters. Even the ones you thought you were alone for. Especially the ones you thought you were alone for.  Rev. Aija Simpson preaching with worship associate Cheryl Parsons.
URL:https://uucv.org/event/worship-ripples-2/
LOCATION:Social Hall\, PA\, United States
CATEGORIES:Flag for Newsletter,Worship
ORGANIZER;CN="Rev Aija Simpson":MAILTO: revaija@qmf.309.myftpupload.com
END:VEVENT
BEGIN:VEVENT
DTSTART;TZID=America/New_York:20170402T103000
DTEND;TZID=America/New_York:20170402T113000
DTSTAMP:20260420T012916
CREATED:20170201T190656Z
LAST-MODIFIED:20170201T190846Z
UID:10011055-1491129000-1491132600@uucv.org
SUMMARY:Worship: "Ripples"
DESCRIPTION:Every moment matters.  Even the ones you thought you were alone for.  Especially the ones you thought you were alone for.  Rev. Aija Simpson preaching.
URL:https://uucv.org/event/worship-ripples/
LOCATION:Social Hall\, PA\, United States
CATEGORIES:Worship
ORGANIZER;CN="Rev Aija Simpson":MAILTO: revaija@qmf.309.myftpupload.com
END:VEVENT
BEGIN:VEVENT
DTSTART;TZID=America/New_York:20170326T103000
DTEND;TZID=America/New_York:20170326T113000
DTSTAMP:20260420T012916
CREATED:20170201T190405Z
LAST-MODIFIED:20170201T190405Z
UID:10011054-1490524200-1490527800@uucv.org
SUMMARY:Worship: "A Different Life"
DESCRIPTION:Imagine a different life.  Different food\, different customs\, different family\, different everything.  Would you want it?  Would you be different if you had it?  Rev. Aija Simpson preaching with worship associate Gisela Roethke.
URL:https://uucv.org/event/worship-a-different-life/
LOCATION:Social Hall\, PA\, United States
CATEGORIES:Flag for Newsletter,Worship
ORGANIZER;CN="Rev Aija Simpson":MAILTO: revaija@qmf.309.myftpupload.com
END:VEVENT
BEGIN:VEVENT
DTSTART;TZID=America/New_York:20170319T103000
DTEND;TZID=America/New_York:20170319T113000
DTSTAMP:20260420T012916
CREATED:20170201T185602Z
LAST-MODIFIED:20170216T143237Z
UID:10008182-1489919400-1489923000@uucv.org
SUMMARY:Worship: "Finding Treasure"
DESCRIPTION:Join us as we go on a treasure hunt.  Will we follow the clues?  Does X mark the spot?  Rev. Aija Simpson preaching.
URL:https://uucv.org/event/worship-finding-treasure/
LOCATION:Social Hall\, PA\, United States
CATEGORIES:Flag for Newsletter,Worship
ORGANIZER;CN="Rev Aija Simpson":MAILTO: revaija@qmf.309.myftpupload.com
END:VEVENT
BEGIN:VEVENT
DTSTART;TZID=America/New_York:20170312T103000
DTEND;TZID=America/New_York:20170312T233000
DTSTAMP:20260420T012916
CREATED:20170223T163822Z
LAST-MODIFIED:20170223T163912Z
UID:10011120-1489314600-1489361400@uucv.org
SUMMARY:Worship: "Seeking Balance"
DESCRIPTION:The Spring Equinox (March 20) is a time of balance between hours of daylight and night. In this time of challenging news\, many people report increasing disequilibrium or feeling unbalanced. We’ll explore some ways to celebrate the equinox and to invite more balance into our lives.  Dot Everhart is preaching with worship associate Michele Burton.
URL:https://uucv.org/event/worship-seeking-balance/
LOCATION:Social Hall\, PA\, United States
CATEGORIES:Community,Flag for Newsletter,Service,Worship
ORGANIZER;CN="Dot Everhart":MAILTO:doteverhart@yahoo.com
END:VEVENT
BEGIN:VEVENT
DTSTART;TZID=America/New_York:20170305T103000
DTEND;TZID=America/New_York:20170305T113000
DTSTAMP:20260420T012916
CREATED:20170201T185844Z
LAST-MODIFIED:20170216T143058Z
UID:10011053-1488709800-1488713400@uucv.org
SUMMARY:Worship: "Finding Our Gifts"
DESCRIPTION:We are all born with gifts and responsibilities.  How do our responsibilities call us to use our gifts?  How do our gifts call us to responsibilities?  Rev. Aija Simpson preaching.
URL:https://uucv.org/event/worship-finding-our-gifts/
LOCATION:Social Hall\, PA\, United States
CATEGORIES:Flag for Newsletter,Worship
ORGANIZER;CN="Rev Aija Simpson":MAILTO: revaija@qmf.309.myftpupload.com
END:VEVENT
BEGIN:VEVENT
DTSTART;TZID=America/New_York:20170226T103000
DTEND;TZID=America/New_York:20170226T113000
DTSTAMP:20260420T012916
CREATED:20170201T153557Z
LAST-MODIFIED:20170201T153557Z
UID:10008168-1488105000-1488108600@uucv.org
SUMMARY:Worship: "Traditions"
DESCRIPTION:What do we choose to do year after year?  What do those choices tell us about ourselves?  Rev. Aija Simpson preaching with worship associate Gisela Roethke.
URL:https://uucv.org/event/worship-traditions/
LOCATION:Social Hall\, PA\, United States
CATEGORIES:Flag for Newsletter,Worship
ORGANIZER;CN="Rev Aija Simpson":MAILTO: revaija@qmf.309.myftpupload.com
END:VEVENT
BEGIN:VEVENT
DTSTART;TZID=America/New_York:20170219T103000
DTEND;TZID=America/New_York:20170219T233000
DTSTAMP:20260420T012916
CREATED:20170210T182405Z
LAST-MODIFIED:20170210T182405Z
UID:10011111-1487500200-1487547000@uucv.org
SUMMARY:Worship: “Making Love A Practice”
DESCRIPTION:Leading up to Valentine’s Day\, we’ve been awash in flowrs\, hearts\, and messages about romantic love\, but what might it mean to make love a spiritual practice?  Pamela Philips will be our guest service leader.
URL:https://uucv.org/event/worship-making-love-a-practice/
LOCATION:Social Hall\, PA\, United States
CATEGORIES:Flag for Newsletter,Service,Worship
END:VEVENT
BEGIN:VEVENT
DTSTART;TZID=America/New_York:20170212T103000
DTEND;TZID=America/New_York:20170212T113000
DTSTAMP:20260420T012916
CREATED:20170201T153433Z
LAST-MODIFIED:20170201T153433Z
UID:10008166-1486895400-1486899000@uucv.org
SUMMARY:Worship "Oh Shush"
DESCRIPTION:How often do you sit in the silence?  In our modern world we have so many noise making devices that our opportunities for quiet have shrunk.  But if it is never quiet how do we learn how to listen?  Rev. Aija Simpson preaching with worship associate Michele Burton.
URL:https://uucv.org/event/worship-oh-shush/
LOCATION:Social Hall\, PA\, United States
CATEGORIES:Flag for Newsletter,Worship
ORGANIZER;CN="Rev Aija Simpson":MAILTO: revaija@qmf.309.myftpupload.com
END:VEVENT
BEGIN:VEVENT
DTSTART;TZID=America/New_York:20170205T103000
DTEND;TZID=America/New_York:20170205T233000
DTSTAMP:20260420T012916
CREATED:20170201T152950Z
LAST-MODIFIED:20170201T152950Z
UID:10008164-1486290600-1486337400@uucv.org
SUMMARY:Worship "Losing It"
DESCRIPTION:Francis David\, father of Transylvanian Unitarianism is often (mis)quoted as saying “We need not think alike to love alike.”  Whatever the problem with the attribution\, this nicely sums up a core tenant of our faith.  But do we really mean it?  Rev. Aija Simpson preaching.
URL:https://uucv.org/event/worship-losing-it/
LOCATION:Social Hall\, PA\, United States
CATEGORIES:Flag for Newsletter,Worship
ORGANIZER;CN="Rev Aija Simpson":MAILTO: revaija@qmf.309.myftpupload.com
END:VEVENT
BEGIN:VEVENT
DTSTART;TZID=America/New_York:20170129T103000
DTEND;TZID=America/New_York:20170129T113000
DTSTAMP:20260420T012916
CREATED:20161220T145033Z
LAST-MODIFIED:20161220T145049Z
UID:10008601-1485685800-1485689400@uucv.org
SUMMARY:Worship: "A Good Lie?"
DESCRIPTION:We affirm and promote the free and responsible search for truth and meaning. Is there such a thing as irresponsible truth? What about responsible falsehoods?  Rev. Aija Simpson will be preaching  with worship associate Cheryl Parsons.
URL:https://uucv.org/event/worship-a-good-lie/
LOCATION:Social Hall\, PA\, United States
CATEGORIES:Choir,Flag for Newsletter,Special Music,Worship
ORGANIZER;CN="Rev Aija Simpson":MAILTO: revaija@qmf.309.myftpupload.com
END:VEVENT
BEGIN:VEVENT
DTSTART;TZID=America/New_York:20170122T103000
DTEND;TZID=America/New_York:20170122T113000
DTSTAMP:20260420T012916
CREATED:20161220T144912Z
LAST-MODIFIED:20161220T144912Z
UID:10008599-1485081000-1485084600@uucv.org
SUMMARY:Worship: "What Story Will We Tell"
DESCRIPTION:Just two days after the inauguration\, we’ll explore how our personal and national narrative might unfold in the coming months. How will we shape that story as we step forward into this challenging moment in our history?  Guest Speaker Norman Allen will be preaching with Worship Associate Dick Poland. \nAn award-winning playwright\, Norman Allen has seen his work produced by the Shakespeare Theatre Company\, the Kennedy Center\, and other venues in the Washington\, DC area\, as well as at theatres in Prague\, Tokyo\, Cape Town\, and Budapest. His essays can be found on spirit-oriented websites such as OnBeing\, OnFaith\, and Tikkun\, and in leading print publications\, such as the Washington Post and Smithsonian and Yes! magazines. He serves as Intern Minister at Cedar Lane Unitarian Universalist Church in Bethesda\, MD\, and is completing his studies at Wesley Theological Seminary in Washington\, DC.
URL:https://uucv.org/event/worship-what-story-will-we-tell/
LOCATION:Social Hall\, PA\, United States
CATEGORIES:Choir,Flag for Newsletter,Special Music,Worship
END:VEVENT
BEGIN:VEVENT
DTSTART;TZID=America/New_York:20170115T103000
DTEND;TZID=America/New_York:20170115T113000
DTSTAMP:20260420T012916
CREATED:20161220T144537Z
LAST-MODIFIED:20161220T144537Z
UID:10008597-1484476200-1484479800@uucv.org
SUMMARY:Worship: "What Will You Do?"
DESCRIPTION:As we celebrate Martin Luther King Jr we ask ourselves how we will live up to his legacy. Rev. Aija Simpson will be preaching  with worship associate Gisela Roethke.
URL:https://uucv.org/event/worship-what-will-you-do/
LOCATION:Social Hall\, PA\, United States
CATEGORIES:Choir,Flag for Newsletter,Special Music,Worship
ORGANIZER;CN="Rev Aija Simpson":MAILTO: revaija@qmf.309.myftpupload.com
END:VEVENT
BEGIN:VEVENT
DTSTART;TZID=America/New_York:20170108T103000
DTEND;TZID=America/New_York:20170108T113000
DTSTAMP:20260420T012916
CREATED:20161220T144413Z
LAST-MODIFIED:20161220T144413Z
UID:10008595-1483871400-1483875000@uucv.org
SUMMARY:Worship: In Process"
DESCRIPTION:Many Unitarian Universalists reject the language of creation. We reject the notion that all of the world was made in one moment. But what if we think of creation not as a moment but as a process. And what if the creators were us?  Rev. Aija Simpson will be preaching  with worship associate Michele Burton.
URL:https://uucv.org/event/worship-in-process/
LOCATION:Social Hall\, PA\, United States
CATEGORIES:Choir,Flag for Newsletter,Special Music,Worship
ORGANIZER;CN="Rev Aija Simpson":MAILTO: revaija@qmf.309.myftpupload.com
END:VEVENT
BEGIN:VEVENT
DTSTART;TZID=America/New_York:20170101T103000
DTEND;TZID=America/New_York:20170101T113000
DTSTAMP:20260420T012916
CREATED:20161220T144209Z
LAST-MODIFIED:20161220T144209Z
UID:10008593-1483266600-1483270200@uucv.org
SUMMARY:Worship: "Fireworks"
DESCRIPTION:On this first day we come to remember\, mourn and celebrate this past year. Join us in a ritual of fire as we clear the slate and prepare for what is coming.  Rev. Aija Simpson will be preaching in this multi-gen service.  Nursery care will be provided. \nIf the Facebook community has anything to say about it\, 2016 is a year we’re all looking forward to putting behind us. But we are not the first to stand expectantly on the brink of a new year. Music director David M. Glasgow shares service music\, and a couple of special vocal pieces\, that honor both of Janus’s faces as reflect on the year’s challenges and look toward a hopeful future.
URL:https://uucv.org/event/worship-fireworks/
LOCATION:Social Hall\, PA\, United States
CATEGORIES:Choir,Flag for Newsletter,Special Music,Worship
ORGANIZER;CN="Rev Aija Simpson":MAILTO: revaija@qmf.309.myftpupload.com
END:VEVENT
BEGIN:VEVENT
DTSTART;TZID=America/New_York:20161224T190000
DTEND;TZID=America/New_York:20161224T200000
DTSTAMP:20260420T012916
CREATED:20161129T164241Z
LAST-MODIFIED:20161129T164259Z
UID:10008311-1482606000-1482609600@uucv.org
SUMMARY:Worship: “Follow the Light”
DESCRIPTION: Join us for an evening of Stories and Carols.  Rev. Aija Simpson preaching with worship associate Rachel Teates.
URL:https://uucv.org/event/worship-follow-the-light/
LOCATION:Social Hall\, PA\, United States
CATEGORIES:Flag for Newsletter,Worship
ORGANIZER;CN="Rev Aija Simpson":MAILTO: revaija@qmf.309.myftpupload.com
END:VEVENT
BEGIN:VEVENT
DTSTART;TZID=America/New_York:20161218T103000
DTEND;TZID=America/New_York:20161218T113000
DTSTAMP:20260420T012916
CREATED:20161129T164113Z
LAST-MODIFIED:20161129T164113Z
UID:10008310-1482057000-1482060600@uucv.org
SUMMARY:Worship: “Other People’s Spirits”  
DESCRIPTION:How do we honor the deepest truths of each others lives. In the season of Christmas\, Hanukkah\, Solstice\, Kwanza and more\, how do we make space for other people’s traditions while we honor our own.  Rev. Aija Simpson preaching with worship associate Michele Burton.
URL:https://uucv.org/event/worship-other-peoples-spirits/
LOCATION:Social Hall\, PA\, United States
CATEGORIES:Flag for Newsletter,Worship
ORGANIZER;CN="Rev Aija Simpson":MAILTO: revaija@qmf.309.myftpupload.com
END:VEVENT
END:VCALENDAR