BEGIN:VCALENDAR
VERSION:2.0
PRODID:-//Unitarian Universalists of the Cumberland Valley - ECPv6.15.20//NONSGML v1.0//EN
CALSCALE:GREGORIAN
METHOD:PUBLISH
X-ORIGINAL-URL:https://uucv.org
X-WR-CALDESC:Events for Unitarian Universalists of the Cumberland Valley
REFRESH-INTERVAL;VALUE=DURATION:PT1H
X-Robots-Tag:noindex
X-PUBLISHED-TTL:PT1H
BEGIN:VTIMEZONE
TZID:America/New_York
BEGIN:DAYLIGHT
TZOFFSETFROM:-0500
TZOFFSETTO:-0400
TZNAME:EDT
DTSTART:20170312T070000
END:DAYLIGHT
BEGIN:STANDARD
TZOFFSETFROM:-0400
TZOFFSETTO:-0500
TZNAME:EST
DTSTART:20171105T060000
END:STANDARD
BEGIN:DAYLIGHT
TZOFFSETFROM:-0500
TZOFFSETTO:-0400
TZNAME:EDT
DTSTART:20180311T070000
END:DAYLIGHT
BEGIN:STANDARD
TZOFFSETFROM:-0400
TZOFFSETTO:-0500
TZNAME:EST
DTSTART:20181104T060000
END:STANDARD
BEGIN:DAYLIGHT
TZOFFSETFROM:-0500
TZOFFSETTO:-0400
TZNAME:EDT
DTSTART:20190310T070000
END:DAYLIGHT
BEGIN:STANDARD
TZOFFSETFROM:-0400
TZOFFSETTO:-0500
TZNAME:EST
DTSTART:20191103T060000
END:STANDARD
BEGIN:DAYLIGHT
TZOFFSETFROM:-0500
TZOFFSETTO:-0400
TZNAME:EDT
DTSTART:20200308T070000
END:DAYLIGHT
BEGIN:STANDARD
TZOFFSETFROM:-0400
TZOFFSETTO:-0500
TZNAME:EST
DTSTART:20201101T060000
END:STANDARD
BEGIN:DAYLIGHT
TZOFFSETFROM:-0500
TZOFFSETTO:-0400
TZNAME:EDT
DTSTART:20210314T070000
END:DAYLIGHT
BEGIN:STANDARD
TZOFFSETFROM:-0400
TZOFFSETTO:-0500
TZNAME:EST
DTSTART:20211107T060000
END:STANDARD
BEGIN:DAYLIGHT
TZOFFSETFROM:-0500
TZOFFSETTO:-0400
TZNAME:EDT
DTSTART:20220313T070000
END:DAYLIGHT
BEGIN:STANDARD
TZOFFSETFROM:-0400
TZOFFSETTO:-0500
TZNAME:EST
DTSTART:20221106T060000
END:STANDARD
BEGIN:DAYLIGHT
TZOFFSETFROM:-0500
TZOFFSETTO:-0400
TZNAME:EDT
DTSTART:20230312T070000
END:DAYLIGHT
BEGIN:STANDARD
TZOFFSETFROM:-0400
TZOFFSETTO:-0500
TZNAME:EST
DTSTART:20231105T060000
END:STANDARD
BEGIN:DAYLIGHT
TZOFFSETFROM:-0500
TZOFFSETTO:-0400
TZNAME:EDT
DTSTART:20240310T070000
END:DAYLIGHT
BEGIN:STANDARD
TZOFFSETFROM:-0400
TZOFFSETTO:-0500
TZNAME:EST
DTSTART:20241103T060000
END:STANDARD
BEGIN:DAYLIGHT
TZOFFSETFROM:-0500
TZOFFSETTO:-0400
TZNAME:EDT
DTSTART:20250309T070000
END:DAYLIGHT
BEGIN:STANDARD
TZOFFSETFROM:-0400
TZOFFSETTO:-0500
TZNAME:EST
DTSTART:20251102T060000
END:STANDARD
END:VTIMEZONE
BEGIN:VEVENT
DTSTART;TZID=America/New_York:20240105T080000
DTEND;TZID=America/New_York:20240105T170000
DTSTAMP:20260419T123703
CREATED:20240105T174837Z
LAST-MODIFIED:20240105T174837Z
UID:10016955-1704441600-1704474000@uucv.org
SUMMARY:SUNDAY\, JANUARY 7 CHURCH SERVICE - ZOOM ONLY
DESCRIPTION:With the pending forecast\, UUCV will be on ZOOM only this Sunday\, January 7.  The Town Hall will be rescheduled until Sunday\, January 14 following worship.\n“Fire Communion: A Service for all Ages”  Join us for a very special all-ages worship service celebrating our annual Fire Communion.  The new calendar year invites us to let go of that which held us back last year\, and to embrace the future with renewed hope.  In a special ritual\, we will write down words or phrases which sum up those things we want to release before we begin again.  We will then burn those slips of paper in a ritual of release\,Lynn Sodora leads the service with worship associate Melissa Mattson. \nItems to have ready for the online Fire Communion worship service: \n\nChalice & candle (if you have one)\n2 small  slips of paper and pen for each person\nFire-safe bowl:  During the Fire Communion we will light one of the small slips of paper on fire.  You can use a fire-safe bowl (even a cooking pot will do) in a safe area to light your paper indoors. Or you can burn your paper after the service in a fireplace or other fire-safe container outdoors.  You might also find it easier to burn it in your sink.  Please use fire safety precautions.\nYou’ll need the second slip of paper for setting your intention for the new year.\n\nJoin us on ZOOM. or “listen in” (without video) by telephone\, by calling 646-876-9923 and entering Meeting ID 550 751 6685
URL:https://uucv.org/event/sunday-january-7-church-service-zoom-only/
LOCATION:Social Hall\, PA\, United States
CATEGORIES:Flag for Newsletter,Worship
END:VEVENT
BEGIN:VEVENT
DTSTART;TZID=America/New_York:20221225T103000
DTEND;TZID=America/New_York:20221225T113000
DTSTAMP:20260419T123703
CREATED:20180831T140135Z
LAST-MODIFIED:20221118T135211Z
UID:10012381-1671964200-1671967800@uucv.org
SUMMARY:Happy Holidays!  No Worship Service Today
DESCRIPTION:
URL:https://uucv.org/event/worship-4-2022-12-25/
LOCATION:PA\, United States
CATEGORIES:Community,Flag for Newsletter,Worship
END:VEVENT
BEGIN:VEVENT
DTSTART;TZID=America/New_York:20211224T170000
DTEND;TZID=America/New_York:20211224T180000
DTSTAMP:20260419T123703
CREATED:20211216T170356Z
LAST-MODIFIED:20211216T170356Z
UID:10011250-1640365200-1640368800@uucv.org
SUMMARY:Christmas Eve - 5:00 PM  "Following the Star"
DESCRIPTION:
URL:https://uucv.org/event/christmas-eve-500-pm-following-the-star/
LOCATION:Social Hall\, PA\, United States
CATEGORIES:Worship
END:VEVENT
BEGIN:VEVENT
DTSTART;TZID=America/New_York:20210926T103000
DTEND;TZID=America/New_York:20210926T113000
DTSTAMP:20260419T123703
CREATED:20180831T140135Z
LAST-MODIFIED:20210804T140842Z
UID:10012154-1632652200-1632655800@uucv.org
SUMMARY:ZOOM - Worship
DESCRIPTION:
URL:https://uucv.org/event/worship-4-2021-09-26/
LOCATION:PA\, United States
CATEGORIES:Community,Flag for Newsletter,Worship
END:VEVENT
BEGIN:VEVENT
DTSTART;TZID=America/New_York:20210912T103000
DTEND;TZID=America/New_York:20210912T113000
DTSTAMP:20260419T123703
CREATED:20180831T140135Z
LAST-MODIFIED:20210903T135719Z
UID:10012153-1631442600-1631446200@uucv.org
SUMMARY:Worship - Cumberland Drive-In
DESCRIPTION:
URL:https://uucv.org/event/worship-4-2021-09-12/
LOCATION:Cumberland Drive-In\, 3290 Ritner Highway\, Newville\, PA\, United States
CATEGORIES:Community,Flag for Newsletter,Worship
END:VEVENT
BEGIN:VEVENT
DTSTART;TZID=America/New_York:20210905T103000
DTEND;TZID=America/New_York:20210905T113000
DTSTAMP:20260419T123703
CREATED:20180831T140135Z
LAST-MODIFIED:20210804T141105Z
UID:10012152-1630837800-1630841400@uucv.org
SUMMARY:ZOOM - Worship
DESCRIPTION:
URL:https://uucv.org/event/worship-4-2021-09-05/
LOCATION:PA\, United States
CATEGORIES:Community,Flag for Newsletter,Worship
END:VEVENT
BEGIN:VEVENT
DTSTART;TZID=America/New_York:20201104T173000
DTEND;TZID=America/New_York:20201104T183000
DTSTAMP:20260419T123703
CREATED:20201021T151750Z
LAST-MODIFIED:20201021T151750Z
UID:10012830-1604511000-1604514600@uucv.org
SUMMARY:Post Election Worship
DESCRIPTION:
URL:https://uucv.org/event/post-election-worship/
LOCATION:ZOOM\, PA\, United States
CATEGORIES:Flag for Newsletter,Worship
END:VEVENT
BEGIN:VEVENT
DTSTART;TZID=America/New_York:20191224T190000
DTEND;TZID=America/New_York:20191224T200000
DTSTAMP:20260419T123703
CREATED:20191107T162505Z
LAST-MODIFIED:20191107T162505Z
UID:10012697-1577214000-1577217600@uucv.org
SUMMARY:Christmas Eve Lessons and Carols Service
DESCRIPTION:
URL:https://uucv.org/event/christmas-eve-lessons-and-carols-service/
LOCATION:Social Hall\, PA\, United States
CATEGORIES:Flag for Newsletter,Worship
END:VEVENT
BEGIN:VEVENT
DTSTART;TZID=America/New_York:20180826T103000
DTEND;TZID=America/New_York:20180826T113000
DTSTAMP:20260419T123703
CREATED:20180801T182127Z
LAST-MODIFIED:20180801T182127Z
UID:10011799-1535279400-1535283000@uucv.org
SUMMARY:Worship: "Come and Go with me"
DESCRIPTION:We build our future to honor our past. Come celebrate with us as we welcome Rev. Aija home and begin to imagine how that home will grow and change in the coming years.   Rev. Aija Simpson preaches.  Music director David M. Glasgow\, with familiar friends Marc Renault on bass and Dani Fiore on drums\, will join the choir in celebrating our community\, Rev. Aija’s return from sabbatical\, and the shared commitment represented by our capital campaign\, with two special pieces.
URL:https://uucv.org/event/worship-come-and-go-with-me/
LOCATION:Social Hall\, PA\, United States
CATEGORIES:Band,Capital Campaign,Choir,Flag for Newsletter,Special Music,Worship
ORGANIZER;CN="Rev Aija Simpson":MAILTO: revaija@qmf.309.myftpupload.com
END:VEVENT
BEGIN:VEVENT
DTSTART;TZID=America/New_York:20180819T103000
DTEND;TZID=America/New_York:20180819T113000
DTSTAMP:20260419T123703
CREATED:20180801T175056Z
LAST-MODIFIED:20180801T175056Z
UID:10011798-1534674600-1534678200@uucv.org
SUMMARY:Worship: "Sacrament and Sanctuary"
DESCRIPTION:What do we experience as an “outward sign of an inward experience of holiness”? For that matter\, what really does holiness mean to us?  Rev. Dr. Kathy Ellis preaches with worship associate Julie Ham.  Music Director David M. Glasgow provides service music.
URL:https://uucv.org/event/worship-sacrament-and-sanctuary/
LOCATION:Social Hall\, PA\, United States
CATEGORIES:Flag for Newsletter,Worship
END:VEVENT
BEGIN:VEVENT
DTSTART;TZID=America/New_York:20180812T103000
DTEND;TZID=America/New_York:20180812T113000
DTSTAMP:20260419T123703
CREATED:20180801T174534Z
LAST-MODIFIED:20180801T174534Z
UID:10011797-1534069800-1534073400@uucv.org
SUMMARY:Worship: "What is God?"
DESCRIPTION:God\, in the traditional concept\, is not something that we all believe in or agree with. How can we as UU’s interpret God to fit our beliefs?  Rachel Teates is service leader with worship associate Dick Poland.  Music Director David M. Glasgow provides service music\, and the choir sings.
URL:https://uucv.org/event/worship-what-is-god/
LOCATION:Social Hall\, PA\, United States
CATEGORIES:Choir,Flag for Newsletter,Worship
ORGANIZER;CN="Rachel Teates":MAILTO:teatesrl@gmail.com
END:VEVENT
BEGIN:VEVENT
DTSTART;TZID=America/New_York:20180805T103000
DTEND;TZID=America/New_York:20180805T113000
DTSTAMP:20260419T123703
CREATED:20180801T174133Z
LAST-MODIFIED:20180801T174133Z
UID:10011796-1533465000-1533468600@uucv.org
SUMMARY:Worship: "Spirituality: What good is it?"
DESCRIPTION:Some talk of being “spiritual but not religious.” Others reject the very word spirit or spirituality. We’ll explore ways of understanding this quality.  Rev. Dr. Kathy Ellis preaches with worship associate Cheryl Parsons.  Marc Renault provides service music.
URL:https://uucv.org/event/worship-spirituality-what-good-is-it/
LOCATION:Social Hall\, PA\, United States
CATEGORIES:Community,Flag for Newsletter,Special Music,Worship
END:VEVENT
BEGIN:VEVENT
DTSTART;TZID=America/New_York:20180729T103000
DTEND;TZID=America/New_York:20180729T113000
DTSTAMP:20260419T123703
CREATED:20180627T183701Z
LAST-MODIFIED:20180627T183701Z
UID:10008596-1532860200-1532863800@uucv.org
SUMMARY:Worship: "God\, Goddess\, Gods?"
DESCRIPTION:How can we talk about God in a meaningful way? How well do we listen to others’ ideas and experiences of God?  Rev. Dr. Kathy Ellis leads worship with Cheryl Parsons as worship associate.  Music Director David M. Glasgow provides service music\, and the choir sings.
URL:https://uucv.org/event/worship-god-goddess-gods/
LOCATION:Social Hall\, PA\, United States
CATEGORIES:Choir,Flag for Newsletter,Special Music,Worship
END:VEVENT
BEGIN:VEVENT
DTSTART;TZID=America/New_York:20180722T103000
DTEND;TZID=America/New_York:20180722T113000
DTSTAMP:20260419T123703
CREATED:20180627T183410Z
LAST-MODIFIED:20180627T183410Z
UID:10008594-1532255400-1532259000@uucv.org
SUMMARY:Worship: "Resistance"
DESCRIPTION:About the “men of July 20th” (referring to July 20th\, 1944) a high level German resistance movement against the Nazis that tried to replace Hitler’s whole government to end the murderous regime\, the Holocaust and WWII. One of the men linked to the leaders of this coup was Dietrich Bonhoeffer.  Gisela Roethke is worship leader with Dick Poland as worship associate.  Pat Spader offers a prelude\, and Music Director David M. Glasgow provides service music.
URL:https://uucv.org/event/worship-resistance/
LOCATION:Social Hall\, PA\, United States
CATEGORIES:Flag for Newsletter,Special Music,Worship
ORGANIZER;CN="Gisela Roethe":MAILTO:roethke@dickinson.edu
END:VEVENT
BEGIN:VEVENT
DTSTART;TZID=America/New_York:20180715T113000
DTEND;TZID=America/New_York:20180715T123000
DTSTAMP:20260419T123703
CREATED:20180627T184207Z
LAST-MODIFIED:20180627T184207Z
UID:10008598-1531654200-1531657800@uucv.org
SUMMARY:Worship: "What is Faith?"
DESCRIPTION:We will begin our discussion of the book Fluent in Faith by considering the question of what is religion and what that can mean to us.  Rev. Dr. Kathy Ellis leads worship with Michele Burton as worship associate. Carole Knisely provides service music.
URL:https://uucv.org/event/worship-what-is-faith-2/
LOCATION:Social Hall\, PA\, United States
CATEGORIES:Flag for Newsletter,Worship
END:VEVENT
BEGIN:VEVENT
DTSTART;TZID=America/New_York:20180715T103000
DTEND;TZID=America/New_York:20180715T113000
DTSTAMP:20260419T123703
CREATED:20180627T183045Z
LAST-MODIFIED:20180627T183045Z
UID:10008592-1531650600-1531654200@uucv.org
SUMMARY:Worship: "What Is Faith?"
DESCRIPTION:What can the word “faith” mean to us as a community and as individuals?  Rev. Dr. Kathy Ellis leads worship with worship associate Dot Everhart.  Music Director David M. Glasgow provides service music\, and the choir sings music of Meg Barnhouse.
URL:https://uucv.org/event/worship-what-is-faith/
LOCATION:Social Hall\, PA\, United States
CATEGORIES:Choir,Flag for Newsletter,Special Music,Worship
END:VEVENT
BEGIN:VEVENT
DTSTART;TZID=America/New_York:20180701T103000
DTEND;TZID=America/New_York:20180701T113000
DTSTAMP:20260419T123703
CREATED:20180627T182503Z
LAST-MODIFIED:20180627T182503Z
UID:10008590-1530441000-1530444600@uucv.org
SUMMARY:Worship: "The Theology of I Don't Know"
DESCRIPTION:Sometimes\, knowing that you don’t know requires the most faith of all.  Christin Kapp leads the service with Julie Ham as worship associate.  Music Director David M. Glasgow provides service music.
URL:https://uucv.org/event/worship-the-theology-of-i-dont-know/
LOCATION:Social Hall\, PA\, United States
CATEGORIES:Flag for Newsletter,Special Music,Worship
END:VEVENT
BEGIN:VEVENT
DTSTART;TZID=America/New_York:20180624T103000
DTEND;TZID=America/New_York:20180624T113000
DTSTAMP:20260419T123703
CREATED:20180530T134846Z
LAST-MODIFIED:20180530T134846Z
UID:10011789-1529836200-1529839800@uucv.org
SUMMARY:Worship: “It Takes Courage to Be Awake”
DESCRIPTION:Considerations of Spiritul Maturity.  Rev. Dr. Kathy Ellis leads service with worship associate Rachel Teates.  Music Director David M. Glasgow provides service music\, and the choir sings music of Stephen Sondheim with band accompanists.
URL:https://uucv.org/event/worship-it-takes-courage-to-be-awake/
LOCATION:Social Hall\, PA\, United States
CATEGORIES:Band,Choir,Flag for Newsletter,Special Music,Worship
END:VEVENT
BEGIN:VEVENT
DTSTART;TZID=America/New_York:20180617T103000
DTEND;TZID=America/New_York:20180617T113000
DTSTAMP:20260419T123703
CREATED:20180530T134450Z
LAST-MODIFIED:20180530T134450Z
UID:10011788-1529231400-1529235000@uucv.org
SUMMARY:Worship: “Our Fathers\, Father’s Day and Fathering”
DESCRIPTION:We’ll remember and honor fathers who have been important in our lives.  Pat Spader offers a prelude\, and Music Director David M. Glasgow provides service music.
URL:https://uucv.org/event/worship-our-fathers-fathers-day-and-fathering/
LOCATION:Social Hall\, PA\, United States
CATEGORIES:Flag for Newsletter,Worship
END:VEVENT
BEGIN:VEVENT
DTSTART;TZID=America/New_York:20180610T103000
DTEND;TZID=America/New_York:20180610T113000
DTSTAMP:20260419T123703
CREATED:20180530T134100Z
LAST-MODIFIED:20180530T134100Z
UID:10011787-1528626600-1528630200@uucv.org
SUMMARY:Worship: "It Takes Courage to Grow Up and Be Who you Really Are"
DESCRIPTION:So said Unitarian poet\, e.e. cummings. Does it? What does that mean?  Rev. Dr. Kathy Ellis is service leader.  Music Director David M. Glasgow provides service music\, and the choir sings music of Pasek & Paul with band accompanists.
URL:https://uucv.org/event/worship-it-takes-courage-to-grow-up-and-be-who-you-really-are/
LOCATION:Social Hall\, PA\, United States
CATEGORIES:Choir,Flag for Newsletter,Special Music,Worship
END:VEVENT
BEGIN:VEVENT
DTSTART;TZID=America/New_York:20180603T103000
DTEND;TZID=America/New_York:20180603T113000
DTSTAMP:20260419T123703
CREATED:20180530T133543Z
LAST-MODIFIED:20180530T133543Z
UID:10011786-1528021800-1528025400@uucv.org
SUMMARY:Worship: "The Face in the Mirror"
DESCRIPTION:When you look in the mirror\, what do you see? Who do you see? What do you reflect?  Christin Kapp leads the service with worship associate Dot Everhart.  Marc Renault provides music on the guitar.
URL:https://uucv.org/event/worship-the-face-in-the-mirror/
LOCATION:Social Hall\, PA\, United States
CATEGORIES:Flag for Newsletter,Special Music,Worship
END:VEVENT
BEGIN:VEVENT
DTSTART;TZID=America/New_York:20180527T103000
DTEND;TZID=America/New_York:20180527T113000
DTSTAMP:20260419T123703
CREATED:20180430T144402Z
LAST-MODIFIED:20180430T144402Z
UID:10011774-1527417000-1527420600@uucv.org
SUMMARY:Worship: "Inherent Worth and Dignity"
DESCRIPTION:We consider Unitarian Universalism’s first principle and the radical foundation of Universalism. Rev. Dr. Kathy Ellis preaching with worship associate Rachel Teates.  Pat Spader offers a prelude\, Music Director David M. Glasgow provides service music\, and the choir sings music of Elizabeth Alexander.
URL:https://uucv.org/event/worship-inherent-worth-and-dignity/
LOCATION:Social Hall\, PA\, United States
CATEGORIES:Flag for Newsletter,Worship
END:VEVENT
BEGIN:VEVENT
DTSTART;TZID=America/New_York:20180520T103000
DTEND;TZID=America/New_York:20180520T113000
DTSTAMP:20260419T123703
CREATED:20180522T143045Z
LAST-MODIFIED:20180430T150400Z
UID:10011785-1526812200-1526815800@uucv.org
SUMMARY:Worship:  “What Does it Mean to be Human”
DESCRIPTION:We will discuss some Universalist and Unitarian answers to that big question.  Rev. Dr. Kathy Ellis preaching with worship associate Julie Ham.  Carole Knisely provides service music.
URL:https://uucv.org/event/worship-what-does-it-mean-to-be-human/
LOCATION:Social Hall\, PA\, United States
CATEGORIES:Flag for Newsletter,Worship
END:VEVENT
BEGIN:VEVENT
DTSTART;TZID=America/New_York:20180513T103000
DTEND;TZID=America/New_York:20180513T113000
DTSTAMP:20260419T123704
CREATED:20180430T143615Z
LAST-MODIFIED:20180430T143615Z
UID:10011773-1526207400-1526211000@uucv.org
SUMMARY:Worship: "Mama's Day"
DESCRIPTION:A Multicultural Celebration of Mothers and Families. As part of our Mother’s Day observance\, we will participate in a Flower Ceremony. Please bring flowers in honor of your mothers and mamas.  Rev. Dr. Kathy Ellis preaching with worship associate Molly Wilkinson.  Music Director David M. Glasgow provides service music\, and the choir sings music of Sara Bareilles.
URL:https://uucv.org/event/worship-mamas-day/
LOCATION:Social Hall\, PA\, United States
CATEGORIES:Flag for Newsletter,Worship
END:VEVENT
BEGIN:VEVENT
DTSTART;TZID=America/New_York:20180506T103000
DTEND;TZID=America/New_York:20180506T113000
DTSTAMP:20260419T123704
CREATED:20180430T143024Z
LAST-MODIFIED:20180430T143024Z
UID:10011772-1525602600-1525606200@uucv.org
SUMMARY:Worship: When Everyone Means Everyone"
DESCRIPTION: “When Everyone Means Everyone” Jesus said to love your enemies\, and pray for those who persecute you. What does that even look like in the 21st Century? Does that even apply?  Christin Kapp preaching with worship associate Rachel Teates.  Music Director David M. Glasgow provides service music.
URL:https://uucv.org/event/worship-when-everyone-means-everyone/
LOCATION:Social Hall\, PA\, United States
CATEGORIES:Flag for Newsletter,Worship
END:VEVENT
BEGIN:VEVENT
DTSTART;TZID=America/New_York:20180429T103000
DTEND;TZID=America/New_York:20180429T113000
DTSTAMP:20260419T123704
CREATED:20180316T163923Z
LAST-MODIFIED:20180316T165002Z
UID:10008332-1524997800-1525001400@uucv.org
SUMMARY:Worship: “Earthiness\, Simplicity and Sensuality”
DESCRIPTION:bell hooks wrote\, “living simply makes love simple.”  Rev. Dr. Kathy Ellis preaching with worship associate Michele Burton.  Music Director David M. Glasgow provides service music\, and the choir sings of loving and living simply.
URL:https://uucv.org/event/earthiness-simplicity-and-sensuality/
LOCATION:Social Hall\, PA\, United States
CATEGORIES:Choir,Flag for Newsletter,Service,Worship
END:VEVENT
BEGIN:VEVENT
DTSTART;TZID=America/New_York:20180422T103000
DTEND;TZID=America/New_York:20180422T113000
DTSTAMP:20260419T123704
CREATED:20180316T163409Z
LAST-MODIFIED:20180316T164806Z
UID:10008331-1524393000-1524396600@uucv.org
SUMMARY:Worship: “Love and Fear – Hope and Urgency”
DESCRIPTION:We may have already reached the tipping point for global catastrophe due to climate change yet we cannot let our fear blind us to hope or stop us from acting.  Rev. Dr. Kathy Ellis preaches with worship associate Dick Poland.  Pat Spader offers a prelude\, and Music Director David M. Glasgow provides service music with a “green” tinge.
URL:https://uucv.org/event/love-and-fear-hope-and-urgency/
LOCATION:Social Hall\, PA\, United States
CATEGORIES:Choir,Flag for Newsletter,Service,Worship
END:VEVENT
BEGIN:VEVENT
DTSTART;TZID=America/New_York:20180415T103000
DTEND;TZID=America/New_York:20180415T113000
DTSTAMP:20260419T123704
CREATED:20180316T163116Z
LAST-MODIFIED:20180316T164638Z
UID:10008329-1523788200-1523791800@uucv.org
SUMMARY:Worship: “A New Future” Where are We Going? 
DESCRIPTION:Rev. Aija Simpson preaches her last service before beginning her sabbatical leave with worship associates Michele Burton and Rev. Dr. Kathy Ellis.  Music Director David M. Glasgow provides service music\, and the choir sings an exhilarating new take on a Sondheim-Bernstein collaboration.
URL:https://uucv.org/event/a-new-future-where-are-we-going/
LOCATION:Social Hall\, PA\, United States
CATEGORIES:Choir,Flag for Newsletter,Service,Worship
ORGANIZER;CN="Rev Aija Simpson":MAILTO: revaija@qmf.309.myftpupload.com
END:VEVENT
BEGIN:VEVENT
DTSTART;TZID=America/New_York:20180408T103000
DTEND;TZID=America/New_York:20180408T113000
DTSTAMP:20260419T123704
CREATED:20180316T162824Z
LAST-MODIFIED:20180316T164453Z
UID:10008326-1523183400-1523187000@uucv.org
SUMMARY:Worship: “Pascha - The Power of Remaining Obscure”
DESCRIPTION:What does it mean to be passed over? When is it a good thing to be ignored?  Rev. Aija Simpson preaches for this multi-gen service with worship associate Julie Ham. Marc Renault provides service music on guitar.
URL:https://uucv.org/event/pascha-the-power-of-remaining-obscure/
LOCATION:Social Hall\, PA\, United States
CATEGORIES:Choir,Service,Worship
ORGANIZER;CN="Rev Aija Simpson":MAILTO: revaija@qmf.309.myftpupload.com
END:VEVENT
BEGIN:VEVENT
DTSTART;TZID=America/New_York:20180401T103000
DTEND;TZID=America/New_York:20180401T113000
DTSTAMP:20260419T123704
CREATED:20180316T162421Z
LAST-MODIFIED:20180316T164214Z
UID:10008324-1522578600-1522582200@uucv.org
SUMMARY:Worship: “Christ without Easter/Easter without Christ”
DESCRIPTION:How do we imagine an unresurrected Christ?  How do we imagine Easter without Jesus?  Rev. Aija Simpson preaching with worship associate Christin Kapp.  Music Director David M. Glasgow provides service music\, and the choir sings about multiple Jesuses.
URL:https://uucv.org/event/christ-without-easter-easter-without-christ/
LOCATION:Social Hall\, PA\, United States
CATEGORIES:Choir,Flag for Newsletter,Service,Special Music,Worship
ORGANIZER;CN="Rev Aija Simpson":MAILTO: revaija@qmf.309.myftpupload.com
END:VEVENT
END:VCALENDAR