BEGIN:VCALENDAR
VERSION:2.0
PRODID:-//Unitarian Universalists of the Cumberland Valley - ECPv6.15.20//NONSGML v1.0//EN
CALSCALE:GREGORIAN
METHOD:PUBLISH
X-ORIGINAL-URL:https://uucv.org
X-WR-CALDESC:Events for Unitarian Universalists of the Cumberland Valley
REFRESH-INTERVAL;VALUE=DURATION:PT1H
X-Robots-Tag:noindex
X-PUBLISHED-TTL:PT1H
BEGIN:VTIMEZONE
TZID:America/New_York
BEGIN:DAYLIGHT
TZOFFSETFROM:-0500
TZOFFSETTO:-0400
TZNAME:EDT
DTSTART:20150308T070000
END:DAYLIGHT
BEGIN:STANDARD
TZOFFSETFROM:-0400
TZOFFSETTO:-0500
TZNAME:EST
DTSTART:20151101T060000
END:STANDARD
BEGIN:DAYLIGHT
TZOFFSETFROM:-0500
TZOFFSETTO:-0400
TZNAME:EDT
DTSTART:20160313T070000
END:DAYLIGHT
BEGIN:STANDARD
TZOFFSETFROM:-0400
TZOFFSETTO:-0500
TZNAME:EST
DTSTART:20161106T060000
END:STANDARD
BEGIN:DAYLIGHT
TZOFFSETFROM:-0500
TZOFFSETTO:-0400
TZNAME:EDT
DTSTART:20170312T070000
END:DAYLIGHT
BEGIN:STANDARD
TZOFFSETFROM:-0400
TZOFFSETTO:-0500
TZNAME:EST
DTSTART:20171105T060000
END:STANDARD
END:VTIMEZONE
BEGIN:VEVENT
DTSTART;TZID=America/New_York:20160327T103000
DTEND;TZID=America/New_York:20160327T114500
DTSTAMP:20260420T094841
CREATED:20151230T151711Z
LAST-MODIFIED:20160318T145044Z
UID:10007060-1459074600-1459079100@uucv.org
SUMMARY:Worship: "Easter Sunday People in a Good Friday World"
DESCRIPTION:We know how the Easter story ends. How do we cling to the hope of Resurrection when its coming is less certain?  Rev. Aija Simpson preaches with worship associate Cheryl Parsons.   The Choir performs with Music Director\, David M. Glasgow.
URL:https://uucv.org/event/worship-2016-03-27/
LOCATION:Social Hall\, PA\, United States
CATEGORIES:Choir,Flag for Newsletter,Flag for Previews,Worship
ORGANIZER;CN="Pam Martin":MAILTO:pam@qmf.309.myftpupload.com
END:VEVENT
BEGIN:VEVENT
DTSTART;TZID=America/New_York:20160221T103000
DTEND;TZID=America/New_York:20160221T114500
DTSTAMP:20260420T094841
CREATED:20151230T151711Z
LAST-MODIFIED:20160204T214932Z
UID:10007057-1456050600-1456055100@uucv.org
SUMMARY:Worship: "Bring It Here"
DESCRIPTION:We invite you to bring us your joys\, your sorrows and the full truths of your life. Rev. Aija Simpson preaches\, the choir sings music of Avalon with Marc Renault on bass and Dani Fiore on drums\, and music director David M. Glasgow plays Broadway favorites of Claude-Michel Schönberg\, Jason Robert Brown\, and Stephen Schwartz.
URL:https://uucv.org/event/worship-2016-02-21/
LOCATION:Social Hall\, PA\, United States
CATEGORIES:Band,Choir,Flag for Newsletter,Flag for Previews,Worship
ORGANIZER;CN="Pam Martin":MAILTO:pam@qmf.309.myftpupload.com
END:VEVENT
BEGIN:VEVENT
DTSTART;TZID=America/New_York:20160207T103000
DTEND;TZID=America/New_York:20160207T114500
DTSTAMP:20260420T094841
CREATED:20151230T151711Z
LAST-MODIFIED:20160204T214931Z
UID:10007055-1454841000-1454845500@uucv.org
SUMMARY:Worship: "Running Wild"
DESCRIPTION:It’s Mardi Gras Sunday at UUCV! New Orleans Mardi Gras is unquestionably unique in many ways—but a period of “laissez le bon temps roulez” is an important part of many human cultures. Rev. Aija Simpson preaches\, music director David M. Glasgow plays the music of Eugenie Rocherolle\, and the choir shares an unexpected Cajun mash-up\, all assisted by the UUCV band.
URL:https://uucv.org/event/worship/
LOCATION:Social Hall\, PA\, United States
CATEGORIES:Band,Choir,Flag for Newsletter,Flag for Previews,Worship
ORGANIZER;CN="Pam Martin":MAILTO:pam@qmf.309.myftpupload.com
END:VEVENT
BEGIN:VEVENT
DTSTART;TZID=America/New_York:20160117T103000
DTEND;TZID=America/New_York:20160117T113000
DTSTAMP:20260420T094841
CREATED:20151224T162420Z
LAST-MODIFIED:20151230T162003Z
UID:10007052-1453026600-1453030200@uucv.org
SUMMARY:Wade in the Water
DESCRIPTION:Come honor Martin Luther King Jr as we struggle to figure out where we find the strength to wade into troubled water. Rev. Aija Simpson\, preaching\, with worship associate Rachel Teates.
URL:https://uucv.org/event/wade-in-the-water/
LOCATION:Social Hall\, PA\, United States
CATEGORIES:Band,Choir,Worship
END:VEVENT
BEGIN:VEVENT
DTSTART;TZID=America/New_York:20160103T103000
DTEND;TZID=America/New_York:20160103T113000
DTSTAMP:20260420T094841
CREATED:20151224T161816Z
LAST-MODIFIED:20151230T160607Z
UID:10007050-1451817000-1451820600@uucv.org
SUMMARY:Draw the Circle Wide
DESCRIPTION:Come and celebrate as we welcome new members into our beloved community. As we draw our circle ever wider let us take time to ask: who else is outside of the circle? How do we draw it wide enough for them? Rev. Aija Simpson preaching with worship associate Michele Burton.
URL:https://uucv.org/event/draw-the-circle-wide/
LOCATION:Social Hall\, PA\, United States
CATEGORIES:Band,Choir,Worship
END:VEVENT
END:VCALENDAR