BEGIN:VCALENDAR
VERSION:2.0
PRODID:-//Unitarian Universalists of the Cumberland Valley - ECPv6.15.20//NONSGML v1.0//EN
CALSCALE:GREGORIAN
METHOD:PUBLISH
X-WR-CALNAME:Unitarian Universalists of the Cumberland Valley
X-ORIGINAL-URL:https://uucv.org
X-WR-CALDESC:Events for Unitarian Universalists of the Cumberland Valley
REFRESH-INTERVAL;VALUE=DURATION:PT1H
X-Robots-Tag:noindex
X-PUBLISHED-TTL:PT1H
BEGIN:VTIMEZONE
TZID:America/New_York
BEGIN:DAYLIGHT
TZOFFSETFROM:-0500
TZOFFSETTO:-0400
TZNAME:EDT
DTSTART:20140309T070000
END:DAYLIGHT
BEGIN:STANDARD
TZOFFSETFROM:-0400
TZOFFSETTO:-0500
TZNAME:EST
DTSTART:20141102T060000
END:STANDARD
BEGIN:DAYLIGHT
TZOFFSETFROM:-0500
TZOFFSETTO:-0400
TZNAME:EDT
DTSTART:20150308T070000
END:DAYLIGHT
BEGIN:STANDARD
TZOFFSETFROM:-0400
TZOFFSETTO:-0500
TZNAME:EST
DTSTART:20151101T060000
END:STANDARD
BEGIN:DAYLIGHT
TZOFFSETFROM:-0500
TZOFFSETTO:-0400
TZNAME:EDT
DTSTART:20160313T070000
END:DAYLIGHT
BEGIN:STANDARD
TZOFFSETFROM:-0400
TZOFFSETTO:-0500
TZNAME:EST
DTSTART:20161106T060000
END:STANDARD
BEGIN:DAYLIGHT
TZOFFSETFROM:-0500
TZOFFSETTO:-0400
TZNAME:EDT
DTSTART:20170312T070000
END:DAYLIGHT
BEGIN:STANDARD
TZOFFSETFROM:-0400
TZOFFSETTO:-0500
TZNAME:EST
DTSTART:20171105T060000
END:STANDARD
BEGIN:DAYLIGHT
TZOFFSETFROM:-0500
TZOFFSETTO:-0400
TZNAME:EDT
DTSTART:20180311T070000
END:DAYLIGHT
BEGIN:STANDARD
TZOFFSETFROM:-0400
TZOFFSETTO:-0500
TZNAME:EST
DTSTART:20181104T060000
END:STANDARD
END:VTIMEZONE
BEGIN:VTIMEZONE
TZID:America/New_York
BEGIN:DAYLIGHT
TZOFFSETFROM:-0500
TZOFFSETTO:-0400
TZNAME:EDT
DTSTART:20140309T070000
END:DAYLIGHT
BEGIN:STANDARD
TZOFFSETFROM:-0400
TZOFFSETTO:-0500
TZNAME:EST
DTSTART:20141102T060000
END:STANDARD
BEGIN:DAYLIGHT
TZOFFSETFROM:-0500
TZOFFSETTO:-0400
TZNAME:EDT
DTSTART:20150308T070000
END:DAYLIGHT
BEGIN:STANDARD
TZOFFSETFROM:-0400
TZOFFSETTO:-0500
TZNAME:EST
DTSTART:20151101T060000
END:STANDARD
BEGIN:DAYLIGHT
TZOFFSETFROM:-0500
TZOFFSETTO:-0400
TZNAME:EDT
DTSTART:20160313T070000
END:DAYLIGHT
BEGIN:STANDARD
TZOFFSETFROM:-0400
TZOFFSETTO:-0500
TZNAME:EST
DTSTART:20161106T060000
END:STANDARD
END:VTIMEZONE
BEGIN:VEVENT
DTSTART;TZID=America/New_York:20170924T103000
DTEND;TZID=America/New_York:20170924T113000
DTSTAMP:20260420T050528
CREATED:20170825T142743Z
LAST-MODIFIED:20170825T142743Z
UID:10011417-1506249000-1506252600@uucv.org
SUMMARY:Worship:  “The Man at the Tiller
DESCRIPTION:  \n Our music program is the envy of congregations twice our size\, and music consistently appears near the top of “appreciative inquiry” surveys of our congregation. What is it about music that makes it such an important part of our worship life and our community?  How can our music program support us through our upcoming capital campaign and beyond?  Music director David M. Glasgow preaches\, and the choir sings.
URL:https://uucv.org/event/worship-the-man-at-the-tiller/
LOCATION:Social Hall\, PA\, United States
CATEGORIES:Band,Choir,Community,Education,Flag for Newsletter,Service,Special Music,Worship
END:VEVENT
BEGIN:VEVENT
DTSTART;TZID=America/New_York:20170917T103000
DTEND;TZID=America/New_York:20170917T113000
DTSTAMP:20260420T050528
CREATED:20170825T142443Z
LAST-MODIFIED:20170825T142551Z
UID:10011415-1505644200-1505647800@uucv.org
SUMMARY:Worship:  “What Do You Mean\, Sources?”
DESCRIPTION:Rev. Aija preaches with worship associate Julie Ham.  The Living Tradition we share draws from many sources”  Those are the words printed directly under the seven principles in our hymnals. We all know about the principles\, but how did those sources get there?\n 
URL:https://uucv.org/event/worship-what-do-you-mean-sources/
LOCATION:Social Hall\, PA\, United States
CATEGORIES:Community,Education,Flag for Newsletter,Service,Worship
END:VEVENT
BEGIN:VEVENT
DTSTART;TZID=America/New_York:20170910T103000
DTEND;TZID=America/New_York:20170910T113000
DTSTAMP:20260420T050528
CREATED:20170825T142149Z
LAST-MODIFIED:20170825T142149Z
UID:10008272-1505039400-1505043000@uucv.org
SUMMARY:Worship: "Ingathering - There's a Reason Why We're Singing"
DESCRIPTION:Rev. Aija Simpson preaching at this multi-gen service with worship associate Rachel Teates.  As we celebrate our annual water ceremony we ask: what is our song? And how do we learn to sing together?\n 
URL:https://uucv.org/event/worship-ingathering-theres-a-reason-why-were-singing/
LOCATION:Social Hall\, PA\, United States
CATEGORIES:Community,Education,Flag for Newsletter,Service,Worship
END:VEVENT
BEGIN:VEVENT
DTSTART;TZID=America/New_York:20170903T103000
DTEND;TZID=America/New_York:20170903T113000
DTSTAMP:20260420T050528
CREATED:20170825T141612Z
LAST-MODIFIED:20170825T141612Z
UID:10008270-1504434600-1504438200@uucv.org
SUMMARY:Worship: "Prayer"
DESCRIPTION:“Prayer” Rev. Aija Simpson concludes our series on “Words that Unite/Words that Divide” with worship associate Cheryl Parsons.
URL:https://uucv.org/event/worship-prayer/
LOCATION:Social Hall\, PA\, United States
CATEGORIES:Flag for Newsletter,Service,Worship
END:VEVENT
BEGIN:VEVENT
DTSTART;TZID=America/New_York:20170827T103000
DTEND;TZID=America/New_York:20170827T113000
DTSTAMP:20260420T050528
CREATED:20170721T171004Z
LAST-MODIFIED:20170721T171004Z
UID:10011408-1503829800-1503833400@uucv.org
SUMMARY:Worship: "What's In It For Me?"
DESCRIPTION:Our Small Group Ministry Committee will lead the service with several reflections about the benefits of SGM for members\, for facilitators\, for UUCV as a congregation and for the world beyond.  Rev. Aija Simpson will also talk about the benefits of small group ministry for the congregation.  The children will experience the “Check-In” process during Moment for all Ages.
URL:https://uucv.org/event/worship-whats-in-it-for-me/
LOCATION:Social Hall\, PA\, United States
CATEGORIES:Adult Education,Education,Flag for Newsletter,Service,Worship
ORGANIZER;CN="Dot Everhart":MAILTO:doteverhart@yahoo.com
END:VEVENT
BEGIN:VEVENT
DTSTART;TZID=America/New_York:20170820T103000
DTEND;TZID=America/New_York:20170820T113000
DTSTAMP:20260420T050528
CREATED:20170721T171213Z
LAST-MODIFIED:20170721T171213Z
UID:10011410-1503225000-1503228600@uucv.org
SUMMARY:Worship: "Held By A Vision"
DESCRIPTION:Special Guest Speaker David Pyle is preaching with worship associate Deb Stille.  Every congregation has a vision of themselves and the world they wish to build.  A congregation could not exist without one.  For many congregations\, however\, that vision exists in the implicit assumptions of the members and friends of the community.  Rev. Pyle will look at some of the implicit visions that have held Unitarian Universalist congregations\, and challenge us to turn our implicit assumptions into an explicit understanding of the mission\, vision\, culture\, and identity of our congregation\, in this time of looking to the future.\nRev. David Pyle is our congregation’s UUA Staff Primary Contact as a staff member of the Central East Region of the UUA.  He is a UU Minister who has served congregations in Texas\, Illinois\, Michigan\, and California.  He has also served for the last 10 years as a member of the U.S. Army Chaplain Corps.  He serves as the UUA Staff Primary Contact for the congregations of Central Pennsylvania\, Greater Baltimore\, and the Delmarva Penninsula\, and serves the region as the Governance\, Arts of Ministry\, and Large Church consultant.
URL:https://uucv.org/event/worship-held-by-a-vision/
LOCATION:Social Hall\, PA\, United States
CATEGORIES:Community,Education,Flag for Newsletter,Service,Worship
END:VEVENT
BEGIN:VEVENT
DTSTART;TZID=America/New_York:20170625T120000
DTEND;TZID=America/New_York:20170625T130000
DTSTAMP:20260420T050528
CREATED:20170517T154836Z
LAST-MODIFIED:20170517T154836Z
UID:10011310-1498392000-1498395600@uucv.org
SUMMARY:Sound Board Operator Training
DESCRIPTION:One of our greatest strengths at UUCV\, as confirmed time and time again by surveys of our community\, is our worship program.  Whether it’s Rev. Aija behind the pulpit (or at least wandering near it) and David at the piano\, or any of our devoted worship associates and substitute musicians\, our Sunday mornings together are the inspiration and motivation for everything else we do as a community of faith. \nAnd essential to that experience (though when it’s done well we rarely notice they’re there) are the committed folks who sit behind the congregation at the sound board\, making sure every word and every note are heard as clearly as they can be. \nThe board operators also prepare the raw recordings of worship that get edited down and posted on our SoundCloud page and embedded in our service archive\, so that even those who aren’t able to be with us in person can feel the inspiration and strength we draw from our “holy moments” together! \nIf you’d like to try your hand at running the sound system for our services and special events—or even if you’re just curious about all that’s involved in that job—I invite you to join me for a short training session after worship on Sunday\, June 25.  We’ll plan to start by noon\, and be done by 1 PM at the latest.  I’ll have printed instructions ready for you to follow along with\, and we’ll have plenty of time for questions and experimentation. \nOnce you’ve completed this training you’ll have the option to sign up to run sound in worship\, and can also choose to be added to a list of board operators for special events held in our building between Sundays.  (We generally ask that each board operator commit to running sound at least once monthly or so\, just so you stay in practice!) \nOf course\, if you have any questions\, don’t hesitate to contact me.  I’ll be happy to help talk you into taking the plunge!
URL:https://uucv.org/event/sound-board-operator-training/
LOCATION:Social Hall\, PA\, United States
CATEGORIES:Flag for Newsletter,Flag for Previews,Service,Worship
ORGANIZER;CN="David M. Glasgow":MAILTO:david@qmf.309.myftpupload.com
END:VEVENT
BEGIN:VEVENT
DTSTART;TZID=America/New_York:20170312T103000
DTEND;TZID=America/New_York:20170312T233000
DTSTAMP:20260420T050528
CREATED:20170223T163822Z
LAST-MODIFIED:20170223T163912Z
UID:10011120-1489314600-1489361400@uucv.org
SUMMARY:Worship: "Seeking Balance"
DESCRIPTION:The Spring Equinox (March 20) is a time of balance between hours of daylight and night. In this time of challenging news\, many people report increasing disequilibrium or feeling unbalanced. We’ll explore some ways to celebrate the equinox and to invite more balance into our lives.  Dot Everhart is preaching with worship associate Michele Burton.
URL:https://uucv.org/event/worship-seeking-balance/
LOCATION:Social Hall\, PA\, United States
CATEGORIES:Community,Flag for Newsletter,Service,Worship
ORGANIZER;CN="Dot Everhart":MAILTO:doteverhart@yahoo.com
END:VEVENT
BEGIN:VEVENT
DTSTART;TZID=America/New_York:20170219T103000
DTEND;TZID=America/New_York:20170219T233000
DTSTAMP:20260420T050528
CREATED:20170210T182405Z
LAST-MODIFIED:20170210T182405Z
UID:10011111-1487500200-1487547000@uucv.org
SUMMARY:Worship: “Making Love A Practice”
DESCRIPTION:Leading up to Valentine’s Day\, we’ve been awash in flowrs\, hearts\, and messages about romantic love\, but what might it mean to make love a spiritual practice?  Pamela Philips will be our guest service leader.
URL:https://uucv.org/event/worship-making-love-a-practice/
LOCATION:Social Hall\, PA\, United States
CATEGORIES:Flag for Newsletter,Service,Worship
END:VEVENT
BEGIN:VEVENT
DTSTART;TZID=America/New_York:20160723T083000
DTEND;TZID=America/New_York:20160723T111500
DTSTAMP:20260420T050528
CREATED:20160712T171415Z
LAST-MODIFIED:20160712T171415Z
UID:10008183-1469262600-1469272500@uucv.org
SUMMARY:Project SHARE Distribution Day
DESCRIPTION:
URL:https://uucv.org/event/project-share-distribution-day-11/
LOCATION:Project Share\, 5 N. Orange Street\, Carlisle\, PA\, 17013
CATEGORIES:Community,Education,Flag for Newsletter,Service,Social Justice Activities,Social Justice Committee
ORGANIZER;CN="Cindy Good":MAILTO:cyagood4@gmail.com
END:VEVENT
BEGIN:VEVENT
DTSTART;TZID=America/New_York:20160721T030000
DTEND;TZID=America/New_York:20160721T174500
DTSTAMP:20260420T050528
CREATED:20160712T171318Z
LAST-MODIFIED:20160712T171318Z
UID:10008181-1469070000-1469123100@uucv.org
SUMMARY:Project SHARE Distribution Day
DESCRIPTION:
URL:https://uucv.org/event/project-share-distribution-day-10/
LOCATION:Project Share\, 5 N. Orange Street\, Carlisle\, PA\, 17013
CATEGORIES:Community,Education,Flag for Newsletter,Service,Social Justice Activities,Social Justice Committee
ORGANIZER;CN="Cindy Good":MAILTO:cyagood4@gmail.com
END:VEVENT
BEGIN:VEVENT
DTSTART;TZID=America/New_York:20160720T083000
DTEND;TZID=America/New_York:20160720T231500
DTSTAMP:20260420T050528
CREATED:20160712T171208Z
LAST-MODIFIED:20160712T171208Z
UID:10008179-1469003400-1469056500@uucv.org
SUMMARY:Project SHARE Distribution Day
DESCRIPTION:
URL:https://uucv.org/event/project-share-distribution-day-9/
LOCATION:Project Share\, 5 N. Orange Street\, Carlisle\, PA\, 17013
CATEGORIES:Community,Education,Flag for Newsletter,Service,Social Justice Activities,Social Justice Committee
ORGANIZER;CN="Cindy Good":MAILTO:cyagood4@gmail.com
END:VEVENT
BEGIN:VEVENT
DTSTART;TZID=America/New_York:20160719T113000
DTEND;TZID=America/New_York:20160719T141500
DTSTAMP:20260420T050528
CREATED:20160712T170657Z
LAST-MODIFIED:20160712T170657Z
UID:10008177-1468927800-1468937700@uucv.org
SUMMARY:Project SHARE Distribution Day
DESCRIPTION:
URL:https://uucv.org/event/project-share-distribution-day-8/
LOCATION:Project Share\, 5 N. Orange Street\, Carlisle\, PA\, 17013
CATEGORIES:Community,Education,Flag for Newsletter,Service,Social Justice Activities,Social Justice Committee
ORGANIZER;CN="Cindy Good":MAILTO:cyagood4@gmail.com
END:VEVENT
BEGIN:VEVENT
DTSTART;TZID=America/New_York:20160604T090000
DTEND;TZID=America/New_York:20160604T160000
DTSTAMP:20260420T050528
CREATED:20160510T153400Z
LAST-MODIFIED:20160510T153415Z
UID:10008159-1465030800-1465056000@uucv.org
SUMMARY:UUCV Strawberry Shortcake Booth
DESCRIPTION:The Boiling Springs community was excited to see our Strawberry Shortcake Booth back last year at their Foundry Day Arts Festival.  Join in the fun this year to help raise awareness for UUCV.  Volunteers are needed to bake shortcakes\, slice and dice strawberries on Friday\, June 3th at 6:00 PM\, and for short shifts working at the booth from 9:00 am – 4:00 pm on Saturday\, June 4th.  Signup sheets are on the “Volunteer Table” in the Social Hall.  Questions\, or to volunteer contact Pam Martin pam@qmf.309.myftpupload.com or 717/249-8944.
URL:https://uucv.org/event/uucv-strawberry-shortcake-booth/
LOCATION:Boiling Springs\, 2 Forge Road\, Boiling Springs\, PA\, 17007\, United States
CATEGORIES:Community,Flag for Newsletter,Service
ORGANIZER;CN="Pam Martin":MAILTO:pam@qmf.309.myftpupload.com
END:VEVENT
BEGIN:VEVENT
DTSTART;TZID=America/New_York:20160603T083000
DTEND;TZID=America/New_York:20160603T130000
DTSTAMP:20260420T050528
CREATED:20160503T162620Z
LAST-MODIFIED:20160503T163023Z
UID:10008153-1464942600-1464958800@uucv.org
SUMMARY:Yard Sale Drop Off
DESCRIPTION:  \nDrop off your items for the UUCV Yard Sale to be held on June 4. \nGood sellers are most household items\, dishes\, art work\, knock knacks\, gently used toys\, books\, tools\, etc.  If you have items to donate\, drop them off Sunday May 29th – Friday June 3rd between 8:30 AM and 1:00 PM in the UUCV basement kitchen/dining area.  There is no need to pre price the items.  However\, if you have a “big ticket” or unusual item\, pre pricing would be appreciated. \nNOT  ACCEPTED: No Clothing; No Shoes; No Outdated Electronics; No pets or farm animals! \n 
URL:https://uucv.org/event/yard-sale-drop-off/2016-06-03/
LOCATION:UUCV Meeting House\, 2 Forge Road\, Boiling Springs\, 17007\, United States
CATEGORIES:Community,Flag for Newsletter,Service
ORGANIZER;CN="Ellen Buller":MAILTO:gebuller@verizon.net
END:VEVENT
BEGIN:VEVENT
DTSTART;TZID=America/New_York:20160423T090000
DTEND;TZID=America/New_York:20160423T120000
DTSTAMP:20260420T050528
CREATED:20160406T141151Z
LAST-MODIFIED:20160406T141151Z
UID:10008017-1461402000-1461412800@uucv.org
SUMMARY:Building and Grounds Workday
DESCRIPTION:Saturday–April 23\, 9 am to noon.  Workday!  Building and Grounds invites you to help spruce up our property for the spring and summer!  Raking\, mulching\, washing\, scraping and painting are on the list.  Let’s hope for a warm\, sunny day!  Contact Dave Mooney jdavemoo@comcast.net or Rick Heckman heckmanr@comcast.net if you have questions.
URL:https://uucv.org/event/building-and-grounds-workday/
LOCATION:UUCV Meeting House\, 2 Forge Road\, Boiling Springs\, 17007\, United States
CATEGORIES:Flag for Newsletter,Service
ORGANIZER;CN="Dave Mooney":MAILTO:jdavemoo@comcast.net
END:VEVENT
BEGIN:VEVENT
DTSTART;TZID=America/New_York:20151227T103000
DTEND;TZID=America/New_York:20151227T113000
DTSTAMP:20260420T050528
CREATED:20151118T183232Z
LAST-MODIFIED:20151118T183232Z
UID:10007033-1451212200-1451215800@uucv.org
SUMMARY:Sunday Service
DESCRIPTION:The Unitarian Universalists of the Cumberland Valley are proud to bring the voice and the practice of liberal religion to the Cumberland Valley region. All are welcome to join us in worship regardless of age\, race\, religious background\, class\, or sexual orientation. \nWe would love to welcome you to a worship service. Dress is casual\, and the welcome is friendly\, with a special gift for first-time newcomers. We have bathroom access on the first floor\, listening devices for those with hearing difficulties\, large print orders of service and hymnals for those with limited vision\, and a lift to allow access between the first floor and the basement.
URL:https://uucv.org/event/sunday-service-5/
LOCATION:Social Hall\, PA\, United States
CATEGORIES:Education,Service
ATTACH;FMTTYPE=image/jpeg:https://uucv.org/wp-content/uploads/2015/09/Church_Front.jpg
END:VEVENT
BEGIN:VEVENT
DTSTART;TZID=America/New_York:20151220T103000
DTEND;TZID=America/New_York:20151220T113000
DTSTAMP:20260420T050528
CREATED:20151118T183031Z
LAST-MODIFIED:20151118T183031Z
UID:10007031-1450607400-1450611000@uucv.org
SUMMARY:Sunday Service
DESCRIPTION:The Unitarian Universalists of the Cumberland Valley are proud to bring the voice and the practice of liberal religion to the Cumberland Valley region. All are welcome to join us in worship regardless of age\, race\, religious background\, class\, or sexual orientation. \nWe would love to welcome you to a worship service. Dress is casual\, and the welcome is friendly\, with a special gift for first-time newcomers. We have bathroom access on the first floor\, listening devices for those with hearing difficulties\, large print orders of service and hymnals for those with limited vision\, and a lift to allow access between the first floor and the basement.
URL:https://uucv.org/event/sunday-service-4/
LOCATION:Social Hall\, PA\, United States
CATEGORIES:Education,Service
ATTACH;FMTTYPE=image/jpeg:https://uucv.org/wp-content/uploads/2015/09/Church_Front.jpg
END:VEVENT
BEGIN:VEVENT
DTSTART;TZID=America/New_York:20151213T103000
DTEND;TZID=America/New_York:20151213T113000
DTSTAMP:20260420T050528
CREATED:20151118T182939Z
LAST-MODIFIED:20151118T182939Z
UID:10007029-1450002600-1450006200@uucv.org
SUMMARY:Sunday Service
DESCRIPTION:The Unitarian Universalists of the Cumberland Valley are proud to bring the voice and the practice of liberal religion to the Cumberland Valley region. All are welcome to join us in worship regardless of age\, race\, religious background\, class\, or sexual orientation. \nWe would love to welcome you to a worship service. Dress is casual\, and the welcome is friendly\, with a special gift for first-time newcomers. We have bathroom access on the first floor\, listening devices for those with hearing difficulties\, large print orders of service and hymnals for those with limited vision\, and a lift to allow access between the first floor and the basement.
URL:https://uucv.org/event/sunday-service-3/
LOCATION:Social Hall\, PA\, United States
CATEGORIES:Education,Service
ATTACH;FMTTYPE=image/jpeg:https://uucv.org/wp-content/uploads/2015/09/Church_Front.jpg
END:VEVENT
BEGIN:VEVENT
DTSTART;TZID=America/New_York:20151206T103000
DTEND;TZID=America/New_York:20151206T233000
DTSTAMP:20260420T050528
CREATED:20151118T182843Z
LAST-MODIFIED:20151118T182843Z
UID:10007028-1449397800-1449444600@uucv.org
SUMMARY:Sunday Service
DESCRIPTION:The Unitarian Universalists of the Cumberland Valley are proud to bring the voice and the practice of liberal religion to the Cumberland Valley region. All are welcome to join us in worship regardless of age\, race\, religious background\, class\, or sexual orientation. \nWe would love to welcome you to a worship service. Dress is casual\, and the welcome is friendly\, with a special gift for first-time newcomers. We have bathroom access on the first floor\, listening devices for those with hearing difficulties\, large print orders of service and hymnals for those with limited vision\, and a lift to allow access between the first floor and the basement.
URL:https://uucv.org/event/sunday-service-2/
LOCATION:Social Hall\, PA\, United States
CATEGORIES:Education,Service
ATTACH;FMTTYPE=image/jpeg:https://uucv.org/wp-content/uploads/2015/09/Church_Front.jpg
END:VEVENT
BEGIN:VEVENT
DTSTART;TZID=America/New_York:20151129T103000
DTEND;TZID=America/New_York:20151129T113000
DTSTAMP:20260420T050528
CREATED:20151118T182508Z
LAST-MODIFIED:20151118T182508Z
UID:10007027-1448793000-1448796600@uucv.org
SUMMARY:Sunday Service
DESCRIPTION:The Unitarian Universalists of the Cumberland Valley are proud to bring the voice and the practice of liberal religion to the Cumberland Valley region. All are welcome to join us in worship regardless of age\, race\, religious background\, class\, or sexual orientation. \nWe would love to welcome you to a worship service. Dress is casual\, and the welcome is friendly\, with a special gift for first-time newcomers. We have bathroom access on the first floor\, listening devices for those with hearing difficulties\, large print orders of service and hymnals for those with limited vision\, and a lift to allow access between the first floor and the basement.
URL:https://uucv.org/event/sunday-service/
LOCATION:Social Hall\, PA\, United States
CATEGORIES:Education,Service
ATTACH;FMTTYPE=image/jpeg:https://uucv.org/wp-content/uploads/2015/09/Church_Front.jpg
END:VEVENT
END:VCALENDAR