BEGIN:VCALENDAR
VERSION:2.0
PRODID:-//Unitarian Universalists of the Cumberland Valley - ECPv6.15.20//NONSGML v1.0//EN
CALSCALE:GREGORIAN
METHOD:PUBLISH
X-ORIGINAL-URL:https://uucv.org
X-WR-CALDESC:Events for Unitarian Universalists of the Cumberland Valley
REFRESH-INTERVAL;VALUE=DURATION:PT1H
X-Robots-Tag:noindex
X-PUBLISHED-TTL:PT1H
BEGIN:VTIMEZONE
TZID:America/New_York
BEGIN:DAYLIGHT
TZOFFSETFROM:-0500
TZOFFSETTO:-0400
TZNAME:EDT
DTSTART:20150308T070000
END:DAYLIGHT
BEGIN:STANDARD
TZOFFSETFROM:-0400
TZOFFSETTO:-0500
TZNAME:EST
DTSTART:20151101T060000
END:STANDARD
BEGIN:DAYLIGHT
TZOFFSETFROM:-0500
TZOFFSETTO:-0400
TZNAME:EDT
DTSTART:20160313T070000
END:DAYLIGHT
BEGIN:STANDARD
TZOFFSETFROM:-0400
TZOFFSETTO:-0500
TZNAME:EST
DTSTART:20161106T060000
END:STANDARD
BEGIN:DAYLIGHT
TZOFFSETFROM:-0500
TZOFFSETTO:-0400
TZNAME:EDT
DTSTART:20170312T070000
END:DAYLIGHT
BEGIN:STANDARD
TZOFFSETFROM:-0400
TZOFFSETTO:-0500
TZNAME:EST
DTSTART:20171105T060000
END:STANDARD
BEGIN:DAYLIGHT
TZOFFSETFROM:-0500
TZOFFSETTO:-0400
TZNAME:EDT
DTSTART:20180311T070000
END:DAYLIGHT
BEGIN:STANDARD
TZOFFSETFROM:-0400
TZOFFSETTO:-0500
TZNAME:EST
DTSTART:20181104T060000
END:STANDARD
END:VTIMEZONE
BEGIN:VEVENT
DTSTART;TZID=America/New_York:20170820T120000
DTEND;TZID=America/New_York:20170820T133000
DTSTAMP:20260419T203914
CREATED:20170718T151945Z
LAST-MODIFIED:20170718T152538Z
UID:10011407-1503230400-1503235800@uucv.org
SUMMARY:Capital Campaign Workshop with David Pyle
DESCRIPTION:Please plan on attending this important workshop with special guest Rev. David Pyle.  Following services on Sunday\, August 20\, there will be substantial snacks served before Rev. Pyle begins the workshop in the Sanctuary at 12:00 noon.  Rev. Pyle is a member of the UUA’s Central East Regional Staff\, and serves the congregations of the Delmarva Penninsula\, Greater Baltimore.  This workshop will focus on the process of visioning for our Capital Campaign.  Childcare will be provided for this event.
URL:https://uucv.org/event/capital-campaign-workshop-with-david-pyle/
LOCATION:Social Hall\, PA\, United States
CATEGORIES:Capital Campaign,Community,Conference,Education,Flag for Newsletter,Meetings,Seminars
END:VEVENT
BEGIN:VEVENT
DTSTART;TZID=America/New_York:20170430T114500
DTEND;TZID=America/New_York:20170430T133000
DTSTAMP:20260419T203914
CREATED:20170307T154448Z
LAST-MODIFIED:20170330T133038Z
UID:10011262-1493552700-1493559000@uucv.org
SUMMARY:Next Steps Open Forum and Refreshments
DESCRIPTION:Next step recommendations will be shared with the congregation.  Enjoy refreshments after the forum.  Childcare will be provided.
URL:https://uucv.org/event/next-steps-congregational-forum/
LOCATION:Board Room
CATEGORIES:Community,Flag for Newsletter,Seminars
END:VEVENT
BEGIN:VEVENT
DTSTART;TZID=America/New_York:20170429T130000
DTEND;TZID=America/New_York:20170429T143000
DTSTAMP:20260419T203914
CREATED:20170323T155012Z
LAST-MODIFIED:20170330T132830Z
UID:10011269-1493470800-1493476200@uucv.org
SUMMARY:Next Steps Congregation Worshop
DESCRIPTION:All are invited to this energetic workshop as we explore UUCV’s future.  Childcare will be provided.
URL:https://uucv.org/event/next-steps-congregation-worshop/
LOCATION:Social Hall
CATEGORIES:Community,Education,Flag for Newsletter,Meetings,Seminars
END:VEVENT
BEGIN:VEVENT
DTSTART;TZID=America/New_York:20161022T084500
DTEND;TZID=America/New_York:20161022T170000
DTSTAMP:20260419T203914
CREATED:20160713T160346Z
LAST-MODIFIED:20160713T160924Z
UID:10008184-1477125900-1477155600@uucv.org
SUMMARY:Adult Ed - Mental Health Workshop
DESCRIPTION:
URL:https://uucv.org/event/adult-ed-mental-health-workshop/
LOCATION:Board Room
CATEGORIES:Adult Education,Community,Education,Flag for Newsletter,Seminars
ORGANIZER;CN="Rev Aija Simpson":MAILTO: revaija@qmf.309.myftpupload.com
END:VEVENT
END:VCALENDAR