BEGIN:VCALENDAR
VERSION:2.0
PRODID:-//Unitarian Universalists of the Cumberland Valley - ECPv6.15.20//NONSGML v1.0//EN
CALSCALE:GREGORIAN
METHOD:PUBLISH
X-ORIGINAL-URL:https://uucv.org
X-WR-CALDESC:Events for Unitarian Universalists of the Cumberland Valley
REFRESH-INTERVAL;VALUE=DURATION:PT1H
X-Robots-Tag:noindex
X-PUBLISHED-TTL:PT1H
BEGIN:VTIMEZONE
TZID:America/New_York
BEGIN:DAYLIGHT
TZOFFSETFROM:-0500
TZOFFSETTO:-0400
TZNAME:EDT
DTSTART:20150308T070000
END:DAYLIGHT
BEGIN:STANDARD
TZOFFSETFROM:-0400
TZOFFSETTO:-0500
TZNAME:EST
DTSTART:20151101T060000
END:STANDARD
BEGIN:DAYLIGHT
TZOFFSETFROM:-0500
TZOFFSETTO:-0400
TZNAME:EDT
DTSTART:20160313T070000
END:DAYLIGHT
BEGIN:STANDARD
TZOFFSETFROM:-0400
TZOFFSETTO:-0500
TZNAME:EST
DTSTART:20161106T060000
END:STANDARD
BEGIN:DAYLIGHT
TZOFFSETFROM:-0500
TZOFFSETTO:-0400
TZNAME:EDT
DTSTART:20170312T070000
END:DAYLIGHT
BEGIN:STANDARD
TZOFFSETFROM:-0400
TZOFFSETTO:-0500
TZNAME:EST
DTSTART:20171105T060000
END:STANDARD
END:VTIMEZONE
BEGIN:VEVENT
DTSTART;TZID=America/New_York:20160207T103000
DTEND;TZID=America/New_York:20160207T114500
DTSTAMP:20260420T050446
CREATED:20151230T151711Z
LAST-MODIFIED:20160204T214931Z
UID:10007055-1454841000-1454845500@uucv.org
SUMMARY:Worship: "Running Wild"
DESCRIPTION:It’s Mardi Gras Sunday at UUCV! New Orleans Mardi Gras is unquestionably unique in many ways—but a period of “laissez le bon temps roulez” is an important part of many human cultures. Rev. Aija Simpson preaches\, music director David M. Glasgow plays the music of Eugenie Rocherolle\, and the choir shares an unexpected Cajun mash-up\, all assisted by the UUCV band.
URL:https://uucv.org/event/worship/
LOCATION:Social Hall\, PA\, United States
CATEGORIES:Band,Choir,Flag for Newsletter,Flag for Previews,Worship
ORGANIZER;CN="Pam Martin":MAILTO:pam@qmf.309.myftpupload.com
END:VEVENT
BEGIN:VEVENT
DTSTART;TZID=America/New_York:20160131T103000
DTEND;TZID=America/New_York:20160131T113000
DTSTAMP:20260420T050446
CREATED:20151224T162712Z
LAST-MODIFIED:20160204T214931Z
UID:10007054-1454236200-1454239800@uucv.org
SUMMARY:Worship: "Stuff\, Stuff\, Stuff"
DESCRIPTION:Do you ever feel oppressed by your stuff? Are your closets overflowing and your dressers running over. Is our relationship with material things healthy? Rev. Aija Simpson\, preaching\, with worship associate Dick Poland. Music director David M. Glasgow plays music of Robert Schumann\, Claude Debussy\, and Ettore Pozzoli.
URL:https://uucv.org/event/stuff-stuff-stuff/
LOCATION:Social Hall\, PA\, United States
CATEGORIES:Flag for Newsletter,Flag for Previews,Worship
ORGANIZER;CN="Rev Aija Simpson":MAILTO: revaija@qmf.309.myftpupload.com
END:VEVENT
END:VCALENDAR