BEGIN:VCALENDAR
VERSION:2.0
PRODID:-//Unitarian Universalists of the Cumberland Valley - ECPv6.15.20//NONSGML v1.0//EN
CALSCALE:GREGORIAN
METHOD:PUBLISH
X-ORIGINAL-URL:https://uucv.org
X-WR-CALDESC:Events for Unitarian Universalists of the Cumberland Valley
REFRESH-INTERVAL;VALUE=DURATION:PT1H
X-Robots-Tag:noindex
X-PUBLISHED-TTL:PT1H
BEGIN:VTIMEZONE
TZID:America/New_York
BEGIN:DAYLIGHT
TZOFFSETFROM:-0500
TZOFFSETTO:-0400
TZNAME:EDT
DTSTART:20150308T070000
END:DAYLIGHT
BEGIN:STANDARD
TZOFFSETFROM:-0400
TZOFFSETTO:-0500
TZNAME:EST
DTSTART:20151101T060000
END:STANDARD
BEGIN:DAYLIGHT
TZOFFSETFROM:-0500
TZOFFSETTO:-0400
TZNAME:EDT
DTSTART:20160313T070000
END:DAYLIGHT
BEGIN:STANDARD
TZOFFSETFROM:-0400
TZOFFSETTO:-0500
TZNAME:EST
DTSTART:20161106T060000
END:STANDARD
BEGIN:DAYLIGHT
TZOFFSETFROM:-0500
TZOFFSETTO:-0400
TZNAME:EDT
DTSTART:20170312T070000
END:DAYLIGHT
BEGIN:STANDARD
TZOFFSETFROM:-0400
TZOFFSETTO:-0500
TZNAME:EST
DTSTART:20171105T060000
END:STANDARD
END:VTIMEZONE
BEGIN:VEVENT
DTSTART;TZID=America/New_York:20161109T190000
DTEND;TZID=America/New_York:20161109T200000
DTSTAMP:20260420T060313
CREATED:20161109T064236Z
LAST-MODIFIED:20161109T064236Z
UID:10008304-1478718000-1478721600@uucv.org
SUMMARY:In the Same Room: A Time of Meditation and Unity
DESCRIPTION:The 2016 election season has left many of us feeling raw\, wounded\, and even afraid. How can we honor and love the inherent worth and dignity of all souls\, after a year that has focused so often on criticism and negativity? Come sit together in quiet with Rev. Aija\, music director David\, and others from our UUCV family tonight at 7 PM\, as we meditate on our UU values\, hold one another in love\, and continue our visioning for a united world.\n\n\nTo indicate your interest or to invite friends\, visit the Facebook event.
URL:https://uucv.org/event/in-the-same-room-a-time-of-meditation-and-unity/
LOCATION:Social Hall\, PA\, United States
CATEGORIES:Community,Meditation,Worship
ORGANIZER;CN="David M. Glasgow":MAILTO:david@qmf.309.myftpupload.com
END:VEVENT
END:VCALENDAR