BEGIN:VCALENDAR
VERSION:2.0
PRODID:-//Unitarian Universalists of the Cumberland Valley - ECPv6.15.20//NONSGML v1.0//EN
CALSCALE:GREGORIAN
METHOD:PUBLISH
X-WR-CALNAME:Unitarian Universalists of the Cumberland Valley
X-ORIGINAL-URL:https://uucv.org
X-WR-CALDESC:Events for Unitarian Universalists of the Cumberland Valley
REFRESH-INTERVAL;VALUE=DURATION:PT1H
X-Robots-Tag:noindex
X-PUBLISHED-TTL:PT1H
BEGIN:VTIMEZONE
TZID:America/New_York
BEGIN:DAYLIGHT
TZOFFSETFROM:-0500
TZOFFSETTO:-0400
TZNAME:EDT
DTSTART:20150308T070000
END:DAYLIGHT
BEGIN:STANDARD
TZOFFSETFROM:-0400
TZOFFSETTO:-0500
TZNAME:EST
DTSTART:20151101T060000
END:STANDARD
BEGIN:DAYLIGHT
TZOFFSETFROM:-0500
TZOFFSETTO:-0400
TZNAME:EDT
DTSTART:20160313T070000
END:DAYLIGHT
BEGIN:STANDARD
TZOFFSETFROM:-0400
TZOFFSETTO:-0500
TZNAME:EST
DTSTART:20161106T060000
END:STANDARD
BEGIN:DAYLIGHT
TZOFFSETFROM:-0500
TZOFFSETTO:-0400
TZNAME:EDT
DTSTART:20170312T070000
END:DAYLIGHT
BEGIN:STANDARD
TZOFFSETFROM:-0400
TZOFFSETTO:-0500
TZNAME:EST
DTSTART:20171105T060000
END:STANDARD
END:VTIMEZONE
BEGIN:VEVENT
DTSTART;TZID=America/New_York:20161122T183000
DTEND;TZID=America/New_York:20161122T203000
DTSTAMP:20260421T023920
CREATED:20160728T151843Z
LAST-MODIFIED:20160728T170447Z
UID:10007824-1479839400-1479846600@uucv.org
SUMMARY:Adult Ed - Spirit of Life
DESCRIPTION:  \nFourth Tuesdays – Spirit of Life \nThe Stirrings of Compassion \nThis workshop engages participants in experiencing and reflecting on spiritual moments connected with giving\, receiving care\, and compassion. Discussion helps participants identify and articulate the aspects of life on Earth that call out for their caring attention to others. The activities help participants recognize\, practice\, and claim their ability to exchange compassionate spiritual support with others.
URL:https://uucv.org/event/adult-ed-spirit-of-life-2016-11-22/
LOCATION:YUUth Room
CATEGORIES:Adult Education,Community,Education
ORGANIZER;CN="Rev Aija Simpson":MAILTO: revaija@qmf.309.myftpupload.com
END:VEVENT
BEGIN:VEVENT
DTSTART;TZID=America/New_York:20161120T114500
DTEND;TZID=America/New_York:20161120T133000
DTSTAMP:20260421T023920
CREATED:20160907T150857Z
LAST-MODIFIED:20160907T150857Z
UID:10007877-1479642300-1479648600@uucv.org
SUMMARY:Mozambique Kick-Off Luncheon
DESCRIPTION:
URL:https://uucv.org/event/mozambique-kick-off-luncheon/
LOCATION:Dining Room
CATEGORIES:Community,Education,Flag for Newsletter,Social Justice Committee
ORGANIZER;CN="Martha Bergsten":MAILTO:martha.bergsten@gmail.com
END:VEVENT
BEGIN:VEVENT
DTSTART;TZID=America/New_York:20161119T090000
DTEND;TZID=America/New_York:20161119T160000
DTSTAMP:20260421T023920
CREATED:20161110T164226Z
LAST-MODIFIED:20161110T164226Z
UID:10008305-1479546000-1479571200@uucv.org
SUMMARY:DRE Startup
DESCRIPTION:
URL:https://uucv.org/event/dre-startup/
LOCATION:Board Room
CATEGORIES:Education,Flag for Newsletter,K-12 Religious Education,Meetings
ORGANIZER;CN="Mark Harris":MAILTO:re@qmf.309.myftpupload.com
END:VEVENT
BEGIN:VEVENT
DTSTART;TZID=America/New_York:20161113T123000
DTEND;TZID=America/New_York:20161113T140000
DTSTAMP:20260421T023920
CREATED:20161026T165446Z
LAST-MODIFIED:20161026T165540Z
UID:10008286-1479040200-1479045600@uucv.org
SUMMARY:Sound Board Operators Training Session
DESCRIPTION:This session will cover the basics\, including some changes since our last training session\, so students of all levels of experience are welcome!  (Attendance at this session is mandatory for new sound board operators\, and strongly recommended for experienced board operators who wish to continue to serve in that capacity.) \nWe’ll get started directly after the Town Hall Meeting\, so feel free to stay through after worship!
URL:https://uucv.org/event/sound-board-operators-training-session/
LOCATION:Social Hall\, PA\, United States
CATEGORIES:Adult Education,Education,Flag for Newsletter,Flag for Previews,Worship
ORGANIZER;CN="David M. Glasgow":MAILTO:david@qmf.309.myftpupload.com
END:VEVENT
BEGIN:VEVENT
DTSTART;TZID=America/New_York:20161113T090000
DTEND;TZID=America/New_York:20161113T100000
DTSTAMP:20260421T023920
CREATED:20160927T160108Z
LAST-MODIFIED:20160927T160108Z
UID:10007889-1479027600-1479031200@uucv.org
SUMMARY:Adult Ed: Part 2: 19th Century Mystics and their Movements
DESCRIPTION:
URL:https://uucv.org/event/adult-ed-part-2-19th-century-mystics-and-their-movements/
LOCATION:Board Room
CATEGORIES:Adult Education,Education,Flag for Newsletter
ORGANIZER;CN="Brian McPherson":MAILTO:wbmcp@hotmail.com
END:VEVENT
BEGIN:VEVENT
DTSTART;TZID=America/New_York:20161108T183000
DTEND;TZID=America/New_York:20161108T203000
DTSTAMP:20260421T023920
CREATED:20160728T151500Z
LAST-MODIFIED:20160728T164249Z
UID:10008208-1478629800-1478637000@uucv.org
SUMMARY:Adult Ed - Hindsight\, Humor & Hope: Who\, Me\, An elder?
DESCRIPTION:Second Tuesdays – Hindsight\, Humor & Hope: Who\, Me\, An elder? \nDiving Through the Layers: The Fabric of My Life \nThis workshop will focus on gaining an understanding of the fabric of one’s personal life up to the present. While one’s life to date is whole cloth\, it is still being woven on the life loom in one’s own design with layers or stripes of personal events. Participants will come to the workshop with their lives laid out on paper in symbolic color and design.  \n*Note  This workshop requires some work to be done ahead of time at home.  If you would like to attend this workshop but have not attended previous workshops please contact Rev. Aija to get the necessary materials.
URL:https://uucv.org/event/adult-ed-hindsight-humor-hope-who-me-an-elder-2016-11-08/
LOCATION:YUUth Room
CATEGORIES:Adult Education,Community,Education,Flag for Newsletter
ORGANIZER;CN="Rev Aija Simpson":MAILTO: revaija@qmf.309.myftpupload.com
END:VEVENT
BEGIN:VEVENT
DTSTART;TZID=America/New_York:20161101T183000
DTEND;TZID=America/New_York:20161101T203000
DTSTAMP:20260421T023920
CREATED:20160728T151252Z
LAST-MODIFIED:20160728T163403Z
UID:10008205-1478025000-1478032200@uucv.org
SUMMARY:Adult Ed - Parents as Social Justice Educators
DESCRIPTION:First Tuesdays – Parents as Social Justice Educators \nAs we live in a world that seems to be increasingly engulfed in violence\, we ask ourselves\, how do we talk to our children.  How do we give them the information and tools that will allow them to feel empowered to work for change without overwhelming them with the sheer amount of work there is to be done?  Join Rev. Aija and other parents as we discuss tools to help us be the social justice educators our kids need. \n  \n 
URL:https://uucv.org/event/adult-ed-parents-as-social-justice-educators-2016-11-01/
LOCATION:YUUth Room
CATEGORIES:Adult Education,Community,Education,Flag for Newsletter
ORGANIZER;CN="Rev Aija Simpson":MAILTO: revaija@qmf.309.myftpupload.com
END:VEVENT
BEGIN:VEVENT
DTSTART;TZID=America/New_York:20161023T183000
DTEND;TZID=America/New_York:20161023T203000
DTSTAMP:20260421T023920
CREATED:20160115T175858Z
LAST-MODIFIED:20160927T172735Z
UID:10007780-1477247400-1477254600@uucv.org
SUMMARY:Book Groups October Pick
DESCRIPTION:  \n\nJoin us on Sunday\, October 23\, 2016 at 6:30 PM in the Board Room to discuss Gretta Vosper’s book\, With or Without God: Why the Way We Live Is More Important Than What We Believe.  Gretta Vosper\, an a-theist minister in the United Church of Canada\, writes that for the Christian church to survive “it must shift from its time-bound biblical and doctrinal base to a broader base of timeless\, life-enhancing values—a base that would include all peoples of the world who embrace humanitarian and ecologically sound ideals.” Does any of this sound familiar? UUs have already made this shift\, but it is an ongoing process. Growth and change are never easy. Vosper’s clear articulation of the issues and difficulties offers us another perspective on what it means to be spiritually awake.  Muriel and Richard Bronakoski will lead the discussion. Questions: contact richardbronakoski@gmail.com.
URL:https://uucv.org/event/uucv-book-group-yuuth-2016-03-28-2016-10-28/
LOCATION:YUUth Room
CATEGORIES:Adult Education,Community,Flag for Newsletter,SGM
ORGANIZER;CN="Rich Bronakoski":MAILTO:richardbronakoski@gmail.com
END:VEVENT
BEGIN:VEVENT
DTSTART;TZID=America/New_York:20161023T090000
DTEND;TZID=America/New_York:20161023T100000
DTSTAMP:20260421T023920
CREATED:20160927T160740Z
LAST-MODIFIED:20160927T160740Z
UID:10008280-1477213200-1477216800@uucv.org
SUMMARY:Adult Ed: Part 1: 19th Century Mystics and their Movements
DESCRIPTION:
URL:https://uucv.org/event/adult-ed-part-1-19th-century-mystics-and-their-movements/
LOCATION:Board Room
CATEGORIES:Adult Education,Education,Flag for Newsletter
ORGANIZER;CN="Brian McPherson":MAILTO:wbmcp@hotmail.com
END:VEVENT
BEGIN:VEVENT
DTSTART;TZID=America/New_York:20161022T084500
DTEND;TZID=America/New_York:20161022T170000
DTSTAMP:20260421T023920
CREATED:20160713T160346Z
LAST-MODIFIED:20160713T160924Z
UID:10008184-1477125900-1477155600@uucv.org
SUMMARY:Adult Ed - Mental Health Workshop
DESCRIPTION:
URL:https://uucv.org/event/adult-ed-mental-health-workshop/
LOCATION:Board Room
CATEGORIES:Adult Education,Community,Education,Flag for Newsletter,Seminars
ORGANIZER;CN="Rev Aija Simpson":MAILTO: revaija@qmf.309.myftpupload.com
END:VEVENT
BEGIN:VEVENT
DTSTART;TZID=America/New_York:20161018T183000
DTEND;TZID=America/New_York:20161018T203000
DTSTAMP:20260421T023920
CREATED:20160728T151656Z
LAST-MODIFIED:20160728T164754Z
UID:10008211-1476815400-1476822600@uucv.org
SUMMARY:Adult Ed - The Wi$dom Path:  Money\, Spirit & Life
DESCRIPTION:Third Tuesdays – The Wi$dom Path: Money\, Spirit & Life \nThe Meaning of Money In our Lives \nBeginning in childhood and throughout our adult lives\, we receive many messages about money from family members\, friends\, co-workers\, popular culture\, and our faith community. These messages are often conflicting. How money is managed and spent can be a source of confusion and conflict in our close relationships. Understanding one’s personal story and the values that are at the root of one’s relationship with money is an important step in creating a spiritually healthy relationship with money. For this reason\, the central stories in this workshop will be participants’ money autobiographies. \nIn this workshop\, participants will also be introduced to the idea that there are generational differences in how we understand money and finances\, dynamics that might come into play in our personal\, familial\, and congregational interactions around money. After reflecting on their own stories and on the broader context for those stories\, participants will have an opportunity to reflect on how their money habits align with their personal values and the shared values of their Unitarian Universalist faith.
URL:https://uucv.org/event/adult-ed-the-widom-path-money-spirit-life-2016-10-18/
LOCATION:YUUth Room
CATEGORIES:Adult Education,Community,Education,Flag for Newsletter
ORGANIZER;CN="Rev Aija Simpson":MAILTO: revaija@qmf.309.myftpupload.com
END:VEVENT
BEGIN:VEVENT
DTSTART;TZID=America/New_York:20161011T183000
DTEND;TZID=America/New_York:20161011T203000
DTSTAMP:20260421T023920
CREATED:20160728T151500Z
LAST-MODIFIED:20160728T164158Z
UID:10008207-1476210600-1476217800@uucv.org
SUMMARY:Adult Ed - Hindsight\, Humor & Hope: Who\, Me\, An elder?
DESCRIPTION:Second Tuesdays – Hindsight\, Humor & Hope: Who\, Me\, An elder? \nThis workshop encourages us not to stay distant from painful memories and/or grudges but rather to begin to see them with fresh eyes and learn from them. Confronting difficult memories in the present with the wisdom and insight of the present helps individuals become spiritually stronger. Instead of dwelling in the past\, we can use the past as a text of lived experience and learn from it. In so doing\, we meaningfully weave the fabric of our lifetime. \nThis workshop offers a variety of practices and activities that support the spiritual work to be done\, including stretching exercises\, guided meditation\, small group discussion\, and creating a visual life map or landscape. \n*Note  This workshop requires some work to be done ahead of time at home.  If you would like to attend this workshop but have not attended previous workshops please contact Rev. Aija to get the necessary materials.
URL:https://uucv.org/event/adult-ed-hindsight-humor-hope-who-me-an-elder-2016-10-11/
LOCATION:YUUth Room
CATEGORIES:Adult Education,Community,Education,Flag for Newsletter
ORGANIZER;CN="Rev Aija Simpson":MAILTO: revaija@qmf.309.myftpupload.com
END:VEVENT
BEGIN:VEVENT
DTSTART;TZID=America/New_York:20161009T090000
DTEND;TZID=America/New_York:20161009T100000
DTSTAMP:20260421T023920
CREATED:20160927T155827Z
LAST-MODIFIED:20160927T160456Z
UID:10007887-1476003600-1476007200@uucv.org
SUMMARY:Adult Ed: Chakras of the Body and Other Octaves
DESCRIPTION:
URL:https://uucv.org/event/adult-ed-chakras-of-the-body-and-other-octaves/
LOCATION:Board Room
CATEGORIES:Adult Education,Education,Flag for Newsletter
ORGANIZER;CN="Brian McPherson":MAILTO:wbmcp@hotmail.com
END:VEVENT
BEGIN:VEVENT
DTSTART;TZID=America/New_York:20161004T183000
DTEND;TZID=America/New_York:20161004T203000
DTSTAMP:20260421T023920
CREATED:20160728T151252Z
LAST-MODIFIED:20160728T163326Z
UID:10008194-1475605800-1475613000@uucv.org
SUMMARY:Adult Ed - Parents as Social Justice Educators
DESCRIPTION:First Tuesdays – Parents as Social Justice Educators \nAs we live in a world that seems to be increasingly engulfed in violence\, we ask ourselves\, how do we talk to our children.  How do we give them the information and tools that will allow them to feel empowered to work for change without overwhelming them with the sheer amount of work there is to be done?  Join Rev. Aija and other parents as we discuss tools to help us be the social justice educators our kids need. \n  \n 
URL:https://uucv.org/event/adult-ed-parents-as-social-justice-educators-2016-10-04/
LOCATION:YUUth Room
CATEGORIES:Adult Education,Community,Education,Flag for Newsletter
ORGANIZER;CN="Rev Aija Simpson":MAILTO: revaija@qmf.309.myftpupload.com
END:VEVENT
BEGIN:VEVENT
DTSTART;TZID=America/New_York:20160928T183000
DTEND;TZID=America/New_York:20160928T210000
DTSTAMP:20260421T023920
CREATED:20160803T132535Z
LAST-MODIFIED:20160805T171959Z
UID:10007826-1475087400-1475096400@uucv.org
SUMMARY:"Dream On" Documentary Screening and Dessert
DESCRIPTION:SEE IT HERE BEFORE IT’S SHOWN ON PBS… \nA screening of the soon-to-be shown documentary DREAM ON will be held at UUCV on Wednesday\, September 28th at 6:30 pm. \nThe documentary DREAM ON investigates the perilous state of the American Dream after decades of rising income inequality and declining economic mobility. In an epic road trip\, political comedian John Fugelsang retraces the nearly two-hundred-year-old journey of Alexis de Tocqueville. Along the way he explores whether the optimistic spirit of the American Dream that Tocqueville popularized is alive and well in the twenty-first century or whether George Carlin was right when he famously quipped “It’s called the American Dream because you have to be asleep to believe it.”
URL:https://uucv.org/event/dream-on-documentary-screening/
LOCATION:Social Hall\, PA\, United States
CATEGORIES:Adult Education,Community,Education,Flag for Newsletter,Social Justice Activities,Social Justice Committee
ORGANIZER;CN="Cindy Good":MAILTO:cyagood4@gmail.com
END:VEVENT
BEGIN:VEVENT
DTSTART;TZID=America/New_York:20160927T183000
DTEND;TZID=America/New_York:20160927T203000
DTSTAMP:20260421T023920
CREATED:20160728T151843Z
LAST-MODIFIED:20160728T170255Z
UID:10008214-1475001000-1475008200@uucv.org
SUMMARY:Adult Ed - Spirit of Life
DESCRIPTION:  \nFourth Tuesdays – Spirit of Life \nSpirit of Life workshops offer participants space\, time\, and community to explore their Unitarian Universalist spirituality. Each focuses on a different aspect of the spiritual life\, framed by the lyrics of Carolyn McDade’s song “Spirit of Life.” Like the song\, the workshops are designed to be welcoming to Unitarian Universalists of many spiritual and theological persuasions. Participants are invited to claim an inclusive definition of spirituality and recognize the spiritual aspects of their lives. Reflecting\, speaking\, and listening are core activities in each workshop. \nThis introductory workshop gets participants in touch with spiritual moments in their lives. Rather than offering opportunities to discuss or debate the existence of something external called “spirit\,” the activities help participants recognize and claim their own internal experiences of wonder\, awe\, and connection.
URL:https://uucv.org/event/adult-ed-spirit-of-life/
LOCATION:YUUth Room
CATEGORIES:Adult Education,Community,Education
ORGANIZER;CN="Rev Aija Simpson":MAILTO: revaija@qmf.309.myftpupload.com
END:VEVENT
BEGIN:VEVENT
DTSTART;TZID=America/New_York:20160925T183000
DTEND;TZID=America/New_York:20160925T203000
DTSTAMP:20260421T023920
CREATED:20160428T145515Z
LAST-MODIFIED:20160428T145747Z
UID:10008040-1474828200-1474835400@uucv.org
SUMMARY:Book Groups September Pick
DESCRIPTION:The Argonauts by Maggie Nelson.  Contact Richard Bronakoski at richardbronakoski@gmail.com for more information.
URL:https://uucv.org/event/book-groups-september-pick/
LOCATION:YUUth Room
CATEGORIES:Adult Education,Community,Education,Flag for Newsletter
ORGANIZER;CN="Rich Bronakoski":MAILTO:richardbronakoski@gmail.com
END:VEVENT
BEGIN:VEVENT
DTSTART;TZID=America/New_York:20160920T183000
DTEND;TZID=America/New_York:20160920T203000
DTSTAMP:20260421T023920
CREATED:20160728T151656Z
LAST-MODIFIED:20160728T163204Z
UID:10008210-1474396200-1474403400@uucv.org
SUMMARY:Adult Ed - The Wi$dom Path:  Money\, Spirit & Life
DESCRIPTION:Third Tuesdays – The Wi$dom Path: Money\, Spirit & Life \nThe Wi$dom Path: Money\, Spirit\, and Life is a program that gos far beyond “Financial Literacy 101” to include such topics as personal and cultural money stories\, economic justice\, classism\, and the impact of our financial decision making on our ability to live lives of meaning and purpose. Their hope was that such a program would free congregations\, families\, and individuals to speak openly about a subject that is often fraught with unstated presumptions and unacknowledged tensions and would allow the creation of spiritually healthy approaches to money\, generosity\, economic justice\, investment\, and stewardship. \nWhy is it important to talk about money? We will think about the meaning of money and the ways one’s personal money issues can be a factor in living a fulfilling life. We consider the variety and complexity of individual and social dimensions of our relationships with money. Join Rev. Aija as we begin to develop a productive way of being together to explore money issues.
URL:https://uucv.org/event/adult-ed-the-widom-path-money-spirit-life/
LOCATION:YUUth Room
CATEGORIES:Adult Education,Community,Education,Flag for Newsletter
ORGANIZER;CN="Rev Aija Simpson":MAILTO: revaija@qmf.309.myftpupload.com
END:VEVENT
BEGIN:VEVENT
DTSTART;TZID=America/New_York:20160914T190000
DTEND;TZID=America/New_York:20160914T210000
DTSTAMP:20260421T023920
CREATED:20160811T133120Z
LAST-MODIFIED:20160811T133237Z
UID:10007838-1473879600-1473886800@uucv.org
SUMMARY:Carlisle Theatre
DESCRIPTION:Love outlasts even the worst of our realities.  Love never ends. \n\n\n\nSYNERGY Home Care presents “His Neighbor Phil” is the story of Harvey\, a man whose wife (Mary) has early onset Alzheimer’s disease. The film shows the effects of the disease not only on Mary but also the entire family and their  community. While the film deals honestly with the realities of the disease\, it focuses most of its attention on the tireless work of the caregivers. \nThe film stars nationally-known actors Stephanie Zimbalist (Remington Steele)\, Daniel Roebuck (The Fugitive\, Lost\, Glee)\, Ellen Dolan (As the World Turns)\, Oscar nominee Sally Kellerman \n(M*A*S*H) and Nashville recording artist Ashlee Hewitt (Elle: A Modern Cinderella Story) \n“We wanted the film to be a true telling of what families go through when Alzheimer’s or other dementia symptoms become a part of their life\,” writer/director Scott Thompson said. “But even more \nthan that\, we wanted to show the truth that love outlasts even the worst realities of life\, including Alzheimer’s disease and that it is love which sustains them when everything else seems to be gone.” \nThis film is free and will be shown at the Carlisle Theater on Wednesday\, September 14 at 7:00 PM.
URL:https://uucv.org/event/carlisle-theatre/
LOCATION:Carlisle Theatre\, 40 W. High Street\, Carlisle\, PA  \, PA\, 17013\, United States
CATEGORIES:Adult Education,Community,Education,Flag for Newsletter
END:VEVENT
BEGIN:VEVENT
DTSTART;TZID=America/New_York:20160913T183000
DTEND;TZID=America/New_York:20160913T203000
DTSTAMP:20260421T023920
CREATED:20160728T151500Z
LAST-MODIFIED:20160728T164055Z
UID:10008206-1473791400-1473798600@uucv.org
SUMMARY:Adult Ed - Hindsight\, Humor & Hope: Who\, Me\, An elder?
DESCRIPTION:Second Tuesdays – Hindsight\, Humor & Hope: Who\, Me\, An elder? \nA work in Process \nJoin us as we explore the idea of elderhood as a creative and important time of life\, a time to search inside\, integrate experiences\, and cultivate wisdom. Rituals and activities for the program\, such as journaling\, sharing blessings\, and allowing for silence between speakers\, will be established. Participants will begin to get to know one another and to create a community of elders learning together.
URL:https://uucv.org/event/adult-ed-hindsight-humor-hope-who-me-an-elder/
LOCATION:YUUth Room
CATEGORIES:Adult Education,Community,Education,Flag for Newsletter
ORGANIZER;CN="Rev Aija Simpson":MAILTO: revaija@qmf.309.myftpupload.com
END:VEVENT
BEGIN:VEVENT
DTSTART;TZID=America/New_York:20160911T090000
DTEND;TZID=America/New_York:20160911T221500
DTSTAMP:20260421T023920
CREATED:20160823T134805Z
LAST-MODIFIED:20160823T134805Z
UID:10007840-1473584400-1473632100@uucv.org
SUMMARY:Who are the Sisters of Perpetual Indulgence?
DESCRIPTION:According to their website\, “The Sisters of Perpetual Indulgence® is a leading-edge Order of queer nuns. Since our first appearance in San Francisco on Easter Sunday\, 1979\, the Sisters have devoted ourselves to community service\, ministry and outreach to those on the edges\, and to promoting human rights\, respect for diversity and spiritual enlightenment. We believe all people have a right to express their unique joy and beauty and we use humor and irreverent wit to expose the forces of bigotry\, complacency and guilt that chain the human spirit.” \nJoin us in the Board room at 9 am on Sunday September 11th when Travis Ferrell will tell us more. \nThis is a joint offering from UUCV’s Adult RE and Social Justice Committees.
URL:https://uucv.org/event/who-are-the-sisters-of-perpetual-indulgence/
LOCATION:Board Room
CATEGORIES:Adult Education,Community,Education,Flag for Newsletter,Social Justice Activities,Social Justice Committee
ORGANIZER;CN="Travis Ferrell":MAILTO:travisferrell@hotmail.com
END:VEVENT
BEGIN:VEVENT
DTSTART;TZID=America/New_York:20160906T183000
DTEND;TZID=America/New_York:20160906T203000
DTSTAMP:20260421T023920
CREATED:20160728T151252Z
LAST-MODIFIED:20160728T155433Z
UID:10008193-1473186600-1473193800@uucv.org
SUMMARY:Adult Ed - Parents as Social Justice Educators
DESCRIPTION:First Tuesdays – Parents as Social Justice Educators \nAs we live in a world that seems to be increasingly engulfed in violence\, we ask ourselves\, how do we talk to our children.  How do we give them the information and tools that will allow them to feel empowered to work for change without overwhelming them with the sheer amount of work there is to be done?  Join Rev. Aija and other parents as we discuss tools to help us be the social justice educators our kids need. \n  \n 
URL:https://uucv.org/event/adult-ed-parents-as-social-justice-educators/
LOCATION:YUUth Room
CATEGORIES:Adult Education,Community,Education,Flag for Newsletter
ORGANIZER;CN="Rev Aija Simpson":MAILTO: revaija@qmf.309.myftpupload.com
END:VEVENT
BEGIN:VEVENT
DTSTART;TZID=America/New_York:20160828T183000
DTEND;TZID=America/New_York:20160828T203000
DTSTAMP:20260421T023920
CREATED:20160115T175858Z
LAST-MODIFIED:20160823T154320Z
UID:10007779-1472409000-1472416200@uucv.org
SUMMARY:Book Group's August Pick
DESCRIPTION:Orphan Master’s Son by Adam Johnson.  Contact Richard Bronakoski at richardbronakoski@gmail.com for more information.
URL:https://uucv.org/event/uucv-book-group-yuuth-2016-03-28-2016-08-28/
LOCATION:YUUth Room
CATEGORIES:Adult Education,Flag for Newsletter,SGM
ORGANIZER;CN="Rich Bronakoski":MAILTO:richardbronakoski@gmail.com
END:VEVENT
BEGIN:VEVENT
DTSTART;TZID=America/New_York:20160724T183000
DTEND;TZID=America/New_York:20160724T203000
DTSTAMP:20260421T023920
CREATED:20160115T175858Z
LAST-MODIFIED:20160428T142947Z
UID:10007778-1469385000-1469392200@uucv.org
SUMMARY:Book Groups July Pick
DESCRIPTION:Fun Home: A Family Tragicomic by Alison Bechdel.  Contact Richard Bronakoski at richardbronakoski@gmail.com for more information. \n 
URL:https://uucv.org/event/uucv-book-group-yuuth-2016-03-28-2016-07-28/
LOCATION:YUUth Room
CATEGORIES:Adult Education,Flag for Newsletter,SGM
ORGANIZER;CN="Rich Bronakoski":MAILTO:richardbronakoski@gmail.com
END:VEVENT
BEGIN:VEVENT
DTSTART;TZID=America/New_York:20160723T083000
DTEND;TZID=America/New_York:20160723T111500
DTSTAMP:20260421T023920
CREATED:20160712T171415Z
LAST-MODIFIED:20160712T171415Z
UID:10008183-1469262600-1469272500@uucv.org
SUMMARY:Project SHARE Distribution Day
DESCRIPTION:
URL:https://uucv.org/event/project-share-distribution-day-11/
LOCATION:Project Share\, 5 N. Orange Street\, Carlisle\, PA\, 17013
CATEGORIES:Community,Education,Flag for Newsletter,Service,Social Justice Activities,Social Justice Committee
ORGANIZER;CN="Cindy Good":MAILTO:cyagood4@gmail.com
END:VEVENT
BEGIN:VEVENT
DTSTART;TZID=America/New_York:20160721T030000
DTEND;TZID=America/New_York:20160721T174500
DTSTAMP:20260421T023920
CREATED:20160712T171318Z
LAST-MODIFIED:20160712T171318Z
UID:10008181-1469070000-1469123100@uucv.org
SUMMARY:Project SHARE Distribution Day
DESCRIPTION:
URL:https://uucv.org/event/project-share-distribution-day-10/
LOCATION:Project Share\, 5 N. Orange Street\, Carlisle\, PA\, 17013
CATEGORIES:Community,Education,Flag for Newsletter,Service,Social Justice Activities,Social Justice Committee
ORGANIZER;CN="Cindy Good":MAILTO:cyagood4@gmail.com
END:VEVENT
BEGIN:VEVENT
DTSTART;TZID=America/New_York:20160720T083000
DTEND;TZID=America/New_York:20160720T231500
DTSTAMP:20260421T023920
CREATED:20160712T171208Z
LAST-MODIFIED:20160712T171208Z
UID:10008179-1469003400-1469056500@uucv.org
SUMMARY:Project SHARE Distribution Day
DESCRIPTION:
URL:https://uucv.org/event/project-share-distribution-day-9/
LOCATION:Project Share\, 5 N. Orange Street\, Carlisle\, PA\, 17013
CATEGORIES:Community,Education,Flag for Newsletter,Service,Social Justice Activities,Social Justice Committee
ORGANIZER;CN="Cindy Good":MAILTO:cyagood4@gmail.com
END:VEVENT
BEGIN:VEVENT
DTSTART;TZID=America/New_York:20160719T113000
DTEND;TZID=America/New_York:20160719T141500
DTSTAMP:20260421T023920
CREATED:20160712T170657Z
LAST-MODIFIED:20160712T170657Z
UID:10008177-1468927800-1468937700@uucv.org
SUMMARY:Project SHARE Distribution Day
DESCRIPTION:
URL:https://uucv.org/event/project-share-distribution-day-8/
LOCATION:Project Share\, 5 N. Orange Street\, Carlisle\, PA\, 17013
CATEGORIES:Community,Education,Flag for Newsletter,Service,Social Justice Activities,Social Justice Committee
ORGANIZER;CN="Cindy Good":MAILTO:cyagood4@gmail.com
END:VEVENT
BEGIN:VEVENT
DTSTART;TZID=America/New_York:20160626T183000
DTEND;TZID=America/New_York:20160626T203000
DTSTAMP:20260421T023920
CREATED:20160115T175858Z
LAST-MODIFIED:20160428T142734Z
UID:10007777-1466965800-1466973000@uucv.org
SUMMARY:Book Groups June Pick
DESCRIPTION:Hacker\, Hoaxer\, Whistleblower\, Spy:  The Many Faces of Anonymous by Gabriella Coleman.  Contact Richard Bronakoski at richardbronakoski@gmail.com for more information. \n 
URL:https://uucv.org/event/uucv-book-group-yuuth-2016-03-28-2016-06-28/
LOCATION:YUUth Room
CATEGORIES:Adult Education,SGM
ORGANIZER;CN="Rich Bronakoski":MAILTO:richardbronakoski@gmail.com
END:VEVENT
BEGIN:VEVENT
DTSTART;TZID=America/New_York:20160626T090000
DTEND;TZID=America/New_York:20160626T100000
DTSTAMP:20260421T023920
CREATED:20160115T181853Z
LAST-MODIFIED:20160129T170820Z
UID:10007007-1466931600-1466935200@uucv.org
SUMMARY:Hot Topics
DESCRIPTION:Panel Discussion: Spiritual Pilgrimage: Walking the Camino De Santiago\nThe Camino de Santiago\, also known as Way of St. James\, is the name of a pilgrimage to the shrine of the apostle St. James at the Great in the Cathedral of Santiago de Compostela in Galicia in northwestern Spain\, where tradition has it that the remains of the saint are buried. Many take up this route as a form of spiritual path or retreat for their spiritual growth. Join the discussion with people who made this trek. Katie MacFarland will moderate.
URL:https://uucv.org/event/hot-topics-panel-discussion-spiritual-pilgrimage-walking-the-camino-de-santiago-2016-06-26/
LOCATION:Board Room
CATEGORIES:Adult Education,Education
ORGANIZER;CN="Brian McPherson":MAILTO:wbmcp@hotmail.com
END:VEVENT
END:VCALENDAR