BEGIN:VCALENDAR
VERSION:2.0
PRODID:-//Unitarian Universalists of the Cumberland Valley - ECPv6.15.20//NONSGML v1.0//EN
CALSCALE:GREGORIAN
METHOD:PUBLISH
X-WR-CALNAME:Unitarian Universalists of the Cumberland Valley
X-ORIGINAL-URL:https://uucv.org
X-WR-CALDESC:Events for Unitarian Universalists of the Cumberland Valley
REFRESH-INTERVAL;VALUE=DURATION:PT1H
X-Robots-Tag:noindex
X-PUBLISHED-TTL:PT1H
BEGIN:VTIMEZONE
TZID:America/New_York
BEGIN:DAYLIGHT
TZOFFSETFROM:-0500
TZOFFSETTO:-0400
TZNAME:EDT
DTSTART:20150308T070000
END:DAYLIGHT
BEGIN:STANDARD
TZOFFSETFROM:-0400
TZOFFSETTO:-0500
TZNAME:EST
DTSTART:20151101T060000
END:STANDARD
BEGIN:DAYLIGHT
TZOFFSETFROM:-0500
TZOFFSETTO:-0400
TZNAME:EDT
DTSTART:20160313T070000
END:DAYLIGHT
BEGIN:STANDARD
TZOFFSETFROM:-0400
TZOFFSETTO:-0500
TZNAME:EST
DTSTART:20161106T060000
END:STANDARD
BEGIN:DAYLIGHT
TZOFFSETFROM:-0500
TZOFFSETTO:-0400
TZNAME:EDT
DTSTART:20170312T070000
END:DAYLIGHT
BEGIN:STANDARD
TZOFFSETFROM:-0400
TZOFFSETTO:-0500
TZNAME:EST
DTSTART:20171105T060000
END:STANDARD
BEGIN:DAYLIGHT
TZOFFSETFROM:-0500
TZOFFSETTO:-0400
TZNAME:EDT
DTSTART:20180311T070000
END:DAYLIGHT
BEGIN:STANDARD
TZOFFSETFROM:-0400
TZOFFSETTO:-0500
TZNAME:EST
DTSTART:20181104T060000
END:STANDARD
END:VTIMEZONE
BEGIN:VEVENT
DTSTART;TZID=America/New_York:20170423T183000
DTEND;TZID=America/New_York:20170423T200000
DTSTAMP:20260420T075710
CREATED:20161207T185529Z
LAST-MODIFIED:20161208T180126Z
UID:10008339-1492972200-1492977600@uucv.org
SUMMARY:April UUCV Book Group
DESCRIPTION:
URL:https://uucv.org/event/april-uucv-book-group/
LOCATION:YUUth Room
CATEGORIES:Community,Education,Flag for Newsletter
ORGANIZER;CN="Rich Bronakoski":MAILTO:richardbronakoski@gmail.com
END:VEVENT
BEGIN:VEVENT
DTSTART;TZID=America/New_York:20170423T090000
DTEND;TZID=America/New_York:20170423T100000
DTSTAMP:20260420T075710
CREATED:20170118T144927Z
LAST-MODIFIED:20170118T150043Z
UID:10010969-1492938000-1492941600@uucv.org
SUMMARY:Adult RE Topics of Interest - The Story of Christ: What is Myth and What is Reality?
DESCRIPTION:
URL:https://uucv.org/event/adult-re-topics-of-interest-chanting-in-the-sufi-tradition-2017-03-19/
LOCATION:Board Room
CATEGORIES:Adult Education,Community,Education,Flag for Newsletter,Meetings
ORGANIZER;CN="Brian McPherson":MAILTO:wbmcp@hotmail.com
END:VEVENT
BEGIN:VEVENT
DTSTART;TZID=America/New_York:20170417T140000
DTEND;TZID=America/New_York:20170417T160000
DTSTAMP:20260420T075710
CREATED:20170411T153754Z
LAST-MODIFIED:20170411T153754Z
UID:10008201-1492437600-1492444800@uucv.org
SUMMARY:Seekers Group
DESCRIPTION:
URL:https://uucv.org/event/seekers-group/
LOCATION:Member’s Home\,  \,  \, PA
CATEGORIES:Education,SGM
ORGANIZER;CN="Bobbi Bassett":MAILTO:bobbiclay@gmail.com
END:VEVENT
BEGIN:VEVENT
DTSTART;TZID=America/New_York:20170409T090000
DTEND;TZID=America/New_York:20170409T100000
DTSTAMP:20260420T075710
CREATED:20170118T144927Z
LAST-MODIFIED:20170118T145918Z
UID:10010942-1491728400-1491732000@uucv.org
SUMMARY:Adult RE Topics of Interest - Swedenborg\, Emerson\, and the Deep Dimension
DESCRIPTION:
URL:https://uucv.org/event/adult-re-topics-of-interest-chanting-in-the-sufi-tradition-2017-02-19/
LOCATION:Board Room
CATEGORIES:Adult Education,Community,Education,Flag for Newsletter,Meetings
ORGANIZER;CN="Brian McPherson":MAILTO:wbmcp@hotmail.com
END:VEVENT
BEGIN:VEVENT
DTSTART;TZID=America/New_York:20170326T183000
DTEND;TZID=America/New_York:20170326T200000
DTSTAMP:20260420T075710
CREATED:20161207T185343Z
LAST-MODIFIED:20170223T161601Z
UID:10008338-1490553000-1490558400@uucv.org
SUMMARY:March UUCV Book Group
DESCRIPTION:Join us on Sunday\, March 26\, 2017 at 6:30 PM in the Board Room to discuss Nicholas Hénin’s book\, Jihad Academy: The Misperceptions of Islamic State and Their Consequences.  Hénin\, a French journalist covering the Middle East\, was captured by ISIS and spent 10 months in captivity.  He deliberately chooses not to write about his captivity\, but instead presents ISIS as a political entity and not just a terrorist organization as presented in the western media.  Understanding the wider context of events in the Middle East\, particularly Iraq and Syria\, is a necessary condition for framing any response to this crisis.  This will be a very interesting and informative discussion.  Questions: Contact Rich at richardbronakoski@gmail.com . \n 
URL:https://uucv.org/event/february-uucv-book-group/
LOCATION:YUUth Room
CATEGORIES:Community,Education,Flag for Newsletter
ORGANIZER;CN="Rich Bronakoski":MAILTO:richardbronakoski@gmail.com
END:VEVENT
BEGIN:VEVENT
DTSTART;TZID=America/New_York:20170326T090000
DTEND;TZID=America/New_York:20170326T100000
DTSTAMP:20260420T075710
CREATED:20170118T144927Z
LAST-MODIFIED:20170118T145845Z
UID:10010976-1490518800-1490522400@uucv.org
SUMMARY:Adult RE Topics of Interest - Spirituality With or Without God II
DESCRIPTION:
URL:https://uucv.org/event/adult-re-topics-of-interest-chanting-in-the-sufi-tradition-2017-04-02/
LOCATION:Board Room
CATEGORIES:Adult Education,Community,Education,Flag for Newsletter,Meetings
ORGANIZER;CN="Brian McPherson":MAILTO:wbmcp@hotmail.com
END:VEVENT
BEGIN:VEVENT
DTSTART;TZID=America/New_York:20170315T180000
DTEND;TZID=America/New_York:20170315T193000
DTSTAMP:20260420T075710
CREATED:20170307T171310Z
LAST-MODIFIED:20170307T171310Z
UID:10011263-1489600800-1489606200@uucv.org
SUMMARY:Yuuth Meeting
DESCRIPTION:
URL:https://uucv.org/event/yuuth-meeting/
LOCATION:YUUth Room
CATEGORIES:Community,Flag for Newsletter,K-12 Religious Education,Meetings
ORGANIZER;CN="Mark Harris":MAILTO:re@qmf.309.myftpupload.com
END:VEVENT
BEGIN:VEVENT
DTSTART;TZID=America/New_York:20170312T090000
DTEND;TZID=America/New_York:20170312T100000
DTSTAMP:20260420T075710
CREATED:20170118T144927Z
LAST-MODIFIED:20170118T145709Z
UID:10010977-1489309200-1489312800@uucv.org
SUMMARY:Adult RE Topics of Interest - Spirituality With or Without God I
DESCRIPTION:
URL:https://uucv.org/event/adult-re-topics-of-interest-chanting-in-the-sufi-tradition-2017-04-16/
LOCATION:Board Room
CATEGORIES:Adult Education,Community,Education,Flag for Newsletter,Meetings
ORGANIZER;CN="Brian McPherson":MAILTO:wbmcp@hotmail.com
END:VEVENT
BEGIN:VEVENT
DTSTART;TZID=America/New_York:20170228T190000
DTEND;TZID=America/New_York:20170228T210000
DTSTAMP:20260420T075710
CREATED:20170220T180316Z
LAST-MODIFIED:20170220T180316Z
UID:10011113-1488308400-1488315600@uucv.org
SUMMARY:Building Bridges through Education
DESCRIPTION:On Tuesday\, February 28th Columbia University professor Lila Abu-Lughod will present “Muslim Women and the Freedom to Choose”.  The lecture will take place at 7 p.m. in the Anita Tuvin Schlechter Auditorium on the campus of Dickinson College. \nNelson Mandela said “Education is the most powerful weapon which you can use to change the world.”  Join members of the community as we continue to take steps to build bridges and change the world.
URL:https://uucv.org/event/building-bridges-through-education/
LOCATION:Anita Tuvin Schlechter Auditorium\, Dickinson College\, Carlisle\, PA\, United States
CATEGORIES:Adult Education,Community,Education,Flag for Newsletter,Social Justice Activities,Social Justice Committee
ORGANIZER;CN="Cindy Good":MAILTO:cyagood4@gmail.com
END:VEVENT
BEGIN:VEVENT
DTSTART;TZID=America/New_York:20170226T183000
DTEND;TZID=America/New_York:20170226T200000
DTSTAMP:20260420T075710
CREATED:20161207T185801Z
LAST-MODIFIED:20161208T180115Z
UID:10008341-1488133800-1488139200@uucv.org
SUMMARY:February UUCV Book Group
DESCRIPTION:
URL:https://uucv.org/event/february-uucv-book-group-2/
LOCATION:YUUth Room
CATEGORIES:Community,Education,Flag for Newsletter
ORGANIZER;CN="Rich Bronakoski":MAILTO:richardbronakoski@gmail.com
END:VEVENT
BEGIN:VEVENT
DTSTART;TZID=America/New_York:20170219T090000
DTEND;TZID=America/New_York:20170219T100000
DTSTAMP:20260420T075711
CREATED:20170118T144927Z
LAST-MODIFIED:20170118T145549Z
UID:10010891-1487494800-1487498400@uucv.org
SUMMARY:Adult RE Topics of Interest - Sufi Yoga II
DESCRIPTION:
URL:https://uucv.org/event/adult-re-topics-of-interest-chanting-in-the-sufi-tradition-2017-02-05/
LOCATION:Board Room
CATEGORIES:Adult Education,Community,Education,Flag for Newsletter,Meetings
ORGANIZER;CN="Brian McPherson":MAILTO:wbmcp@hotmail.com
END:VEVENT
BEGIN:VEVENT
DTSTART;TZID=America/New_York:20170205T090000
DTEND;TZID=America/New_York:20170205T100000
DTSTAMP:20260420T075711
CREATED:20170118T144927Z
LAST-MODIFIED:20170118T145411Z
UID:10010978-1486285200-1486288800@uucv.org
SUMMARY:Adult RE Topics of Interest - Sufi Yoga I
DESCRIPTION:
URL:https://uucv.org/event/adult-re-topics-of-interest-chanting-in-the-sufi-tradition-2017-04-30/
LOCATION:Board Room
CATEGORIES:Adult Education,Community,Education,Flag for Newsletter,Meetings
ORGANIZER;CN="Brian McPherson":MAILTO:wbmcp@hotmail.com
END:VEVENT
BEGIN:VEVENT
DTSTART;TZID=America/New_York:20170129T121500
DTEND;TZID=America/New_York:20170129T143000
DTSTAMP:20260420T075711
CREATED:20170118T143821Z
LAST-MODIFIED:20170118T143821Z
UID:10010888-1485692100-1485700200@uucv.org
SUMMARY:Building Bridges - Step by Step
DESCRIPTION:
URL:https://uucv.org/event/building-bridges-step-by-step/
LOCATION:Dining Room
CATEGORIES:Community,Education,Flag for Newsletter
ORGANIZER;CN="Cindy Good":MAILTO:cyagood4@gmail.com
END:VEVENT
BEGIN:VEVENT
DTSTART;TZID=America/New_York:20170122T183000
DTEND;TZID=America/New_York:20170122T200000
DTSTAMP:20260420T075711
CREATED:20161207T185921Z
LAST-MODIFIED:20161208T175647Z
UID:10008342-1485109800-1485115200@uucv.org
SUMMARY:January UUCV Book Group
DESCRIPTION:
URL:https://uucv.org/event/may-uucv-book-group-2/
LOCATION:YUUth Room
CATEGORIES:Community,Education,Flag for Newsletter
ORGANIZER;CN="Rich Bronakoski":MAILTO:richardbronakoski@gmail.com
END:VEVENT
BEGIN:VEVENT
DTSTART;TZID=America/New_York:20170122T090000
DTEND;TZID=America/New_York:20170122T100000
DTSTAMP:20260420T075711
CREATED:20170118T144927Z
LAST-MODIFIED:20170118T150711Z
UID:10010979-1485075600-1485079200@uucv.org
SUMMARY:Adult RE Topics of Interest - Chanting in the Sufi Tradition
DESCRIPTION:
URL:https://uucv.org/event/adult-re-topics-of-interest-chanting-in-the-sufi-tradition-2017-05-14/
LOCATION:Board Room
CATEGORIES:Adult Education,Community,Education,Flag for Newsletter,Meetings
ORGANIZER;CN="Brian McPherson":MAILTO:wbmcp@hotmail.com
END:VEVENT
BEGIN:VEVENT
DTSTART;TZID=America/New_York:20161220T183000
DTEND;TZID=America/New_York:20161220T203000
DTSTAMP:20260420T075711
CREATED:20160728T151656Z
LAST-MODIFIED:20160728T165537Z
UID:10008213-1482258600-1482265800@uucv.org
SUMMARY:Adult Ed - The Wi$dom Path:  Money\, Spirit & Life
DESCRIPTION:Third Tuesdays – The Wi$dom Path: Money\, Spirit & Life \nThe Many Meanings of Money \nWe can tell our values by looking at our checkbook stubs.  — Gloria Steinem \nThis workshop considers the many ways money influences our choices and relationships at home and in our congregation. While we sometimes view money as a straightforward medium of exchange\, at other times we attach social\, relational\, or political significance to money or designate certain monies for specific purposes. Participants learn specific communication practices for healthy money talk and reflect how these practices might contribute positively to family and congregational life.
URL:https://uucv.org/event/adult-ed-the-widom-path-money-spirit-life-2016-12-20/
LOCATION:YUUth Room
CATEGORIES:Adult Education,Community,Education,Flag for Newsletter
ORGANIZER;CN="Rev Aija Simpson":MAILTO: revaija@qmf.309.myftpupload.com
END:VEVENT
BEGIN:VEVENT
DTSTART;TZID=America/New_York:20161213T183000
DTEND;TZID=America/New_York:20161213T203000
DTSTAMP:20260420T075711
CREATED:20160728T151500Z
LAST-MODIFIED:20160728T164328Z
UID:10008209-1481653800-1481661000@uucv.org
SUMMARY:Adult Ed - Hindsight\, Humor & Hope: Who\, Me\, An elder?
DESCRIPTION:Second Tuesdays – Hindsight\, Humor & Hope: Who\, Me\, An elder? \nElderhood in the twenty-first century brings a golden gift of time that earlier generations may not have received. It offers moments to rethink and revalue one’s expertise and interests. Increased self-understanding makes it possible to expand one’s ability to create something new or build a new way of being\, even while dealing with physical and mental challenges\, losses\, and financial concerns that sometimes come with aging. \nThe focus for this workshop is deepening participants’ understanding of the grounding of their lives.  \n*Note  This workshop requires some work to be done ahead of time at home.  If you would like to attend this workshop but have not attended previous workshops please contact Rev. Aija to get the necessary materials.
URL:https://uucv.org/event/adult-ed-hindsight-humor-hope-who-me-an-elder-2016-12-13/
LOCATION:YUUth Room
CATEGORIES:Adult Education,Community,Education,Flag for Newsletter
ORGANIZER;CN="Rev Aija Simpson":MAILTO: revaija@qmf.309.myftpupload.com
END:VEVENT
BEGIN:VEVENT
DTSTART;TZID=America/New_York:20161211T090000
DTEND;TZID=America/New_York:20161211T100000
DTSTAMP:20260420T075711
CREATED:20160927T160338Z
LAST-MODIFIED:20160927T160338Z
UID:10008279-1481446800-1481450400@uucv.org
SUMMARY:Adult Ed: Part 2: 20th Century Spiritual Leaders and their Movements
DESCRIPTION:
URL:https://uucv.org/event/adult-ed-part-2-20th-century-spiritual-leaders-and-their-movements/
LOCATION:Board Room
CATEGORIES:Adult Education,Education,Flag for Newsletter
ORGANIZER;CN="Brian McPherson":MAILTO:wbmcp@hotmail.com
END:VEVENT
BEGIN:VEVENT
DTSTART;TZID=America/New_York:20161127T183000
DTEND;TZID=America/New_York:20161127T203000
DTSTAMP:20260420T075711
CREATED:20160428T151123Z
LAST-MODIFIED:20160428T151123Z
UID:10008041-1480271400-1480278600@uucv.org
SUMMARY:Book Group Meeting for 2017 Picks
DESCRIPTION:Join us Sunday\, November 27 at 6:30 pm in the Yuuth Room to select the books for 2017.  Contact Richard Bronakoski at richardbronakoski@gmail.com for more information.
URL:https://uucv.org/event/book-group-meeting-for-2017-picks/
LOCATION:YUUth Room
CATEGORIES:Adult Education,Community,Flag for Newsletter
ORGANIZER;CN="Rich Bronakoski":MAILTO:richardbronakoski@gmail.com
END:VEVENT
BEGIN:VEVENT
DTSTART;TZID=America/New_York:20161127T090000
DTEND;TZID=America/New_York:20161127T100000
DTSTAMP:20260420T075711
CREATED:20160927T160215Z
LAST-MODIFIED:20160927T160215Z
UID:10007891-1480237200-1480240800@uucv.org
SUMMARY:Adult Ed: Part 1: 20th Century Spiritual Leaders and their Movements
DESCRIPTION:
URL:https://uucv.org/event/adult-ed-part-1-20th-century-spiritual-leaders-and-their-movements/
LOCATION:Board Room
CATEGORIES:Adult Education,Education
ORGANIZER;CN="Brian McPherson":MAILTO:wbmcp@hotmail.com
END:VEVENT
BEGIN:VEVENT
DTSTART;TZID=America/New_York:20161122T183000
DTEND;TZID=America/New_York:20161122T203000
DTSTAMP:20260420T075711
CREATED:20160728T151843Z
LAST-MODIFIED:20160728T170447Z
UID:10007824-1479839400-1479846600@uucv.org
SUMMARY:Adult Ed - Spirit of Life
DESCRIPTION:  \nFourth Tuesdays – Spirit of Life \nThe Stirrings of Compassion \nThis workshop engages participants in experiencing and reflecting on spiritual moments connected with giving\, receiving care\, and compassion. Discussion helps participants identify and articulate the aspects of life on Earth that call out for their caring attention to others. The activities help participants recognize\, practice\, and claim their ability to exchange compassionate spiritual support with others.
URL:https://uucv.org/event/adult-ed-spirit-of-life-2016-11-22/
LOCATION:YUUth Room
CATEGORIES:Adult Education,Community,Education
ORGANIZER;CN="Rev Aija Simpson":MAILTO: revaija@qmf.309.myftpupload.com
END:VEVENT
BEGIN:VEVENT
DTSTART;TZID=America/New_York:20161120T114500
DTEND;TZID=America/New_York:20161120T133000
DTSTAMP:20260420T075711
CREATED:20160907T150857Z
LAST-MODIFIED:20160907T150857Z
UID:10007877-1479642300-1479648600@uucv.org
SUMMARY:Mozambique Kick-Off Luncheon
DESCRIPTION:
URL:https://uucv.org/event/mozambique-kick-off-luncheon/
LOCATION:Dining Room
CATEGORIES:Community,Education,Flag for Newsletter,Social Justice Committee
ORGANIZER;CN="Martha Bergsten":MAILTO:martha.bergsten@gmail.com
END:VEVENT
BEGIN:VEVENT
DTSTART;TZID=America/New_York:20161119T090000
DTEND;TZID=America/New_York:20161119T160000
DTSTAMP:20260420T075711
CREATED:20161110T164226Z
LAST-MODIFIED:20161110T164226Z
UID:10008305-1479546000-1479571200@uucv.org
SUMMARY:DRE Startup
DESCRIPTION:
URL:https://uucv.org/event/dre-startup/
LOCATION:Board Room
CATEGORIES:Education,Flag for Newsletter,K-12 Religious Education,Meetings
ORGANIZER;CN="Mark Harris":MAILTO:re@qmf.309.myftpupload.com
END:VEVENT
BEGIN:VEVENT
DTSTART;TZID=America/New_York:20161113T123000
DTEND;TZID=America/New_York:20161113T140000
DTSTAMP:20260420T075711
CREATED:20161026T165446Z
LAST-MODIFIED:20161026T165540Z
UID:10008286-1479040200-1479045600@uucv.org
SUMMARY:Sound Board Operators Training Session
DESCRIPTION:This session will cover the basics\, including some changes since our last training session\, so students of all levels of experience are welcome!  (Attendance at this session is mandatory for new sound board operators\, and strongly recommended for experienced board operators who wish to continue to serve in that capacity.) \nWe’ll get started directly after the Town Hall Meeting\, so feel free to stay through after worship!
URL:https://uucv.org/event/sound-board-operators-training-session/
LOCATION:Social Hall\, PA\, United States
CATEGORIES:Adult Education,Education,Flag for Newsletter,Flag for Previews,Worship
ORGANIZER;CN="David M. Glasgow":MAILTO:david@qmf.309.myftpupload.com
END:VEVENT
BEGIN:VEVENT
DTSTART;TZID=America/New_York:20161113T090000
DTEND;TZID=America/New_York:20161113T100000
DTSTAMP:20260420T075711
CREATED:20160927T160108Z
LAST-MODIFIED:20160927T160108Z
UID:10007889-1479027600-1479031200@uucv.org
SUMMARY:Adult Ed: Part 2: 19th Century Mystics and their Movements
DESCRIPTION:
URL:https://uucv.org/event/adult-ed-part-2-19th-century-mystics-and-their-movements/
LOCATION:Board Room
CATEGORIES:Adult Education,Education,Flag for Newsletter
ORGANIZER;CN="Brian McPherson":MAILTO:wbmcp@hotmail.com
END:VEVENT
BEGIN:VEVENT
DTSTART;TZID=America/New_York:20161108T183000
DTEND;TZID=America/New_York:20161108T203000
DTSTAMP:20260420T075711
CREATED:20160728T151500Z
LAST-MODIFIED:20160728T164249Z
UID:10008208-1478629800-1478637000@uucv.org
SUMMARY:Adult Ed - Hindsight\, Humor & Hope: Who\, Me\, An elder?
DESCRIPTION:Second Tuesdays – Hindsight\, Humor & Hope: Who\, Me\, An elder? \nDiving Through the Layers: The Fabric of My Life \nThis workshop will focus on gaining an understanding of the fabric of one’s personal life up to the present. While one’s life to date is whole cloth\, it is still being woven on the life loom in one’s own design with layers or stripes of personal events. Participants will come to the workshop with their lives laid out on paper in symbolic color and design.  \n*Note  This workshop requires some work to be done ahead of time at home.  If you would like to attend this workshop but have not attended previous workshops please contact Rev. Aija to get the necessary materials.
URL:https://uucv.org/event/adult-ed-hindsight-humor-hope-who-me-an-elder-2016-11-08/
LOCATION:YUUth Room
CATEGORIES:Adult Education,Community,Education,Flag for Newsletter
ORGANIZER;CN="Rev Aija Simpson":MAILTO: revaija@qmf.309.myftpupload.com
END:VEVENT
BEGIN:VEVENT
DTSTART;TZID=America/New_York:20161101T183000
DTEND;TZID=America/New_York:20161101T203000
DTSTAMP:20260420T075711
CREATED:20160728T151252Z
LAST-MODIFIED:20160728T163403Z
UID:10008205-1478025000-1478032200@uucv.org
SUMMARY:Adult Ed - Parents as Social Justice Educators
DESCRIPTION:First Tuesdays – Parents as Social Justice Educators \nAs we live in a world that seems to be increasingly engulfed in violence\, we ask ourselves\, how do we talk to our children.  How do we give them the information and tools that will allow them to feel empowered to work for change without overwhelming them with the sheer amount of work there is to be done?  Join Rev. Aija and other parents as we discuss tools to help us be the social justice educators our kids need. \n  \n 
URL:https://uucv.org/event/adult-ed-parents-as-social-justice-educators-2016-11-01/
LOCATION:YUUth Room
CATEGORIES:Adult Education,Community,Education,Flag for Newsletter
ORGANIZER;CN="Rev Aija Simpson":MAILTO: revaija@qmf.309.myftpupload.com
END:VEVENT
BEGIN:VEVENT
DTSTART;TZID=America/New_York:20161023T183000
DTEND;TZID=America/New_York:20161023T203000
DTSTAMP:20260420T075711
CREATED:20160115T175858Z
LAST-MODIFIED:20160927T172735Z
UID:10007780-1477247400-1477254600@uucv.org
SUMMARY:Book Groups October Pick
DESCRIPTION:  \n\nJoin us on Sunday\, October 23\, 2016 at 6:30 PM in the Board Room to discuss Gretta Vosper’s book\, With or Without God: Why the Way We Live Is More Important Than What We Believe.  Gretta Vosper\, an a-theist minister in the United Church of Canada\, writes that for the Christian church to survive “it must shift from its time-bound biblical and doctrinal base to a broader base of timeless\, life-enhancing values—a base that would include all peoples of the world who embrace humanitarian and ecologically sound ideals.” Does any of this sound familiar? UUs have already made this shift\, but it is an ongoing process. Growth and change are never easy. Vosper’s clear articulation of the issues and difficulties offers us another perspective on what it means to be spiritually awake.  Muriel and Richard Bronakoski will lead the discussion. Questions: contact richardbronakoski@gmail.com.
URL:https://uucv.org/event/uucv-book-group-yuuth-2016-03-28-2016-10-28/
LOCATION:YUUth Room
CATEGORIES:Adult Education,Community,Flag for Newsletter,SGM
ORGANIZER;CN="Rich Bronakoski":MAILTO:richardbronakoski@gmail.com
END:VEVENT
BEGIN:VEVENT
DTSTART;TZID=America/New_York:20161023T090000
DTEND;TZID=America/New_York:20161023T100000
DTSTAMP:20260420T075711
CREATED:20160927T160740Z
LAST-MODIFIED:20160927T160740Z
UID:10008280-1477213200-1477216800@uucv.org
SUMMARY:Adult Ed: Part 1: 19th Century Mystics and their Movements
DESCRIPTION:
URL:https://uucv.org/event/adult-ed-part-1-19th-century-mystics-and-their-movements/
LOCATION:Board Room
CATEGORIES:Adult Education,Education,Flag for Newsletter
ORGANIZER;CN="Brian McPherson":MAILTO:wbmcp@hotmail.com
END:VEVENT
BEGIN:VEVENT
DTSTART;TZID=America/New_York:20161022T084500
DTEND;TZID=America/New_York:20161022T170000
DTSTAMP:20260420T075711
CREATED:20160713T160346Z
LAST-MODIFIED:20160713T160924Z
UID:10008184-1477125900-1477155600@uucv.org
SUMMARY:Adult Ed - Mental Health Workshop
DESCRIPTION:
URL:https://uucv.org/event/adult-ed-mental-health-workshop/
LOCATION:Board Room
CATEGORIES:Adult Education,Community,Education,Flag for Newsletter,Seminars
ORGANIZER;CN="Rev Aija Simpson":MAILTO: revaija@qmf.309.myftpupload.com
END:VEVENT
END:VCALENDAR