BEGIN:VCALENDAR
VERSION:2.0
PRODID:-//Unitarian Universalists of the Cumberland Valley - ECPv6.15.20//NONSGML v1.0//EN
CALSCALE:GREGORIAN
METHOD:PUBLISH
X-ORIGINAL-URL:https://uucv.org
X-WR-CALDESC:Events for Unitarian Universalists of the Cumberland Valley
REFRESH-INTERVAL;VALUE=DURATION:PT1H
X-Robots-Tag:noindex
X-PUBLISHED-TTL:PT1H
BEGIN:VTIMEZONE
TZID:America/New_York
BEGIN:DAYLIGHT
TZOFFSETFROM:-0500
TZOFFSETTO:-0400
TZNAME:EDT
DTSTART:20160313T070000
END:DAYLIGHT
BEGIN:STANDARD
TZOFFSETFROM:-0400
TZOFFSETTO:-0500
TZNAME:EST
DTSTART:20161106T060000
END:STANDARD
BEGIN:DAYLIGHT
TZOFFSETFROM:-0500
TZOFFSETTO:-0400
TZNAME:EDT
DTSTART:20170312T070000
END:DAYLIGHT
BEGIN:STANDARD
TZOFFSETFROM:-0400
TZOFFSETTO:-0500
TZNAME:EST
DTSTART:20171105T060000
END:STANDARD
BEGIN:DAYLIGHT
TZOFFSETFROM:-0500
TZOFFSETTO:-0400
TZNAME:EDT
DTSTART:20180311T070000
END:DAYLIGHT
BEGIN:STANDARD
TZOFFSETFROM:-0400
TZOFFSETTO:-0500
TZNAME:EST
DTSTART:20181104T060000
END:STANDARD
BEGIN:DAYLIGHT
TZOFFSETFROM:-0500
TZOFFSETTO:-0400
TZNAME:EDT
DTSTART:20190310T070000
END:DAYLIGHT
BEGIN:STANDARD
TZOFFSETFROM:-0400
TZOFFSETTO:-0500
TZNAME:EST
DTSTART:20191103T060000
END:STANDARD
BEGIN:DAYLIGHT
TZOFFSETFROM:-0500
TZOFFSETTO:-0400
TZNAME:EDT
DTSTART:20200308T070000
END:DAYLIGHT
BEGIN:STANDARD
TZOFFSETFROM:-0400
TZOFFSETTO:-0500
TZNAME:EST
DTSTART:20201101T060000
END:STANDARD
END:VTIMEZONE
BEGIN:VEVENT
DTSTART;TZID=America/New_York:20191109T180000
DTEND;TZID=America/New_York:20191109T210000
DTSTAMP:20260421T093225
CREATED:20191101T154756Z
LAST-MODIFIED:20191101T154831Z
UID:10012691-1573322400-1573333200@uucv.org
SUMMARY:Cumberland Honey OWL Fundraiser
DESCRIPTION:
URL:https://uucv.org/event/cumberland-honey-owl-fundraiser/
LOCATION:Social Hall\, PA\, United States
CATEGORIES:Community
END:VEVENT
BEGIN:VEVENT
DTSTART;TZID=America/New_York:20190302T183000
DTEND;TZID=America/New_York:20190302T220000
DTSTAMP:20260421T093225
CREATED:20180420T163424Z
LAST-MODIFIED:20180420T163424Z
UID:10011771-1551551400-1551564000@uucv.org
SUMMARY:UUCV Auction 2019
DESCRIPTION:
URL:https://uucv.org/event/uucv-auction-2019/
LOCATION:Social Hall
CATEGORIES:Auction,Community,Flag for Newsletter
ORGANIZER;CN="Wendy Gebb":MAILTO:wendywinter@comcast.net
END:VEVENT
BEGIN:VEVENT
DTSTART;TZID=America/New_York:20181212T190000
DTEND;TZID=America/New_York:20181212T210000
DTSTAMP:20260421T093225
CREATED:20180830T173018Z
LAST-MODIFIED:20180830T173018Z
UID:10011819-1544641200-1544648400@uucv.org
SUMMARY:Adult RE - Listening to our Lives
DESCRIPTION:
URL:https://uucv.org/event/adult-re-listening-to-our-lives/2018-12-12/
LOCATION:Board Room
CATEGORIES:Adult Education,Community,Education,Flag for Newsletter
END:VEVENT
BEGIN:VEVENT
DTSTART;TZID=America/New_York:20181204T190000
DTEND;TZID=America/New_York:20181204T210000
DTSTAMP:20260421T093225
CREATED:20180830T172743Z
LAST-MODIFIED:20180830T172743Z
UID:10011807-1543950000-1543957200@uucv.org
SUMMARY:Adult RE - The Long Strange Trip
DESCRIPTION:
URL:https://uucv.org/event/adult-re-the-long-strange-trip/2018-12-04/
LOCATION:Board Room
CATEGORIES:Adult Education,Community,Education,Flag for Newsletter
END:VEVENT
BEGIN:VEVENT
DTSTART;TZID=America/New_York:20181201T183000
DTEND;TZID=America/New_York:20181201T220000
DTSTAMP:20260421T093225
CREATED:20180622T171922Z
LAST-MODIFIED:20180622T171922Z
UID:10011790-1543689000-1543701600@uucv.org
SUMMARY:2018 Auction "Saturday Night at the Movies"
DESCRIPTION:
URL:https://uucv.org/event/2018-auction-saturday-night-at-the-movies/
LOCATION:Social Hall
CATEGORIES:Auction,Community,Flag for Newsletter
ORGANIZER;CN="Rita van Alkemade":MAILTO:tim.rita.zoe@gmail.com
END:VEVENT
BEGIN:VEVENT
DTSTART;TZID=America/New_York:20181130T100000
DTEND;TZID=America/New_York:20181130T120000
DTSTAMP:20260421T093225
CREATED:20180831T143701Z
LAST-MODIFIED:20180831T150802Z
UID:10009604-1543572000-1543579200@uucv.org
SUMMARY:Auction Artists
DESCRIPTION:
URL:https://uucv.org/event/auction-artists-2-2018-11-23/
LOCATION:Dining Room
CATEGORIES:Auction,Flag for Newsletter
ORGANIZER;CN="Rita van Alkemade":MAILTO:tim.rita.zoe@gmail.com
END:VEVENT
BEGIN:VEVENT
DTSTART;TZID=America/New_York:20181113T100000
DTEND;TZID=America/New_York:20181113T120000
DTSTAMP:20260421T093225
CREATED:20180831T143701Z
LAST-MODIFIED:20180831T144020Z
UID:10012384-1542103200-1542110400@uucv.org
SUMMARY:Auction Artists
DESCRIPTION:
URL:https://uucv.org/event/auction-artists-2-2018-11-09/
LOCATION:Dining Room
CATEGORIES:Auction,Flag for Newsletter
ORGANIZER;CN="Rita van Alkemade":MAILTO:tim.rita.zoe@gmail.com
END:VEVENT
BEGIN:VEVENT
DTSTART;TZID=America/New_York:20181028T090000
DTEND;TZID=America/New_York:20181028T100000
DTSTAMP:20260421T093225
CREATED:20181004T164006Z
LAST-MODIFIED:20181004T164006Z
UID:10009657-1540717200-1540720800@uucv.org
SUMMARY:Adult RE - The Church of Reality and Michael Dowd
DESCRIPTION:
URL:https://uucv.org/event/adult-re-the-church-of-reality-and-michael-dowd/
LOCATION:Board Room
CATEGORIES:Adult Education,Community,Education
ORGANIZER;CN="Brian McPherson":MAILTO:wbmcp@hotmail.com
END:VEVENT
BEGIN:VEVENT
DTSTART;TZID=America/New_York:20181026T100000
DTEND;TZID=America/New_York:20181026T120000
DTSTAMP:20260421T093225
CREATED:20180831T143701Z
LAST-MODIFIED:20180831T143701Z
UID:10012383-1540548000-1540555200@uucv.org
SUMMARY:Auction Artists
DESCRIPTION:
URL:https://uucv.org/event/auction-artists-2/2018-10-26/
LOCATION:Dining Room
CATEGORIES:Auction,Flag for Newsletter
ORGANIZER;CN="Rita van Alkemade":MAILTO:tim.rita.zoe@gmail.com
END:VEVENT
BEGIN:VEVENT
DTSTART;TZID=America/New_York:20181014T090000
DTEND;TZID=America/New_York:20181014T100000
DTSTAMP:20260421T093225
CREATED:20181004T164020Z
LAST-MODIFIED:20181004T164020Z
UID:10010658-1539507600-1539511200@uucv.org
SUMMARY:Adult RE - Religion as Virus
DESCRIPTION:
URL:https://uucv.org/event/adult-re-religion-as-virus/
LOCATION:Board Room
CATEGORIES:Adult Education,Community,Education,Flag for Newsletter
ORGANIZER;CN="Brian McPherson":MAILTO:wbmcp@hotmail.com
END:VEVENT
BEGIN:VEVENT
DTSTART;TZID=America/New_York:20180930T090000
DTEND;TZID=America/New_York:20180930T100000
DTSTAMP:20260421T093225
CREATED:20180830T172434Z
LAST-MODIFIED:20180831T135012Z
UID:10011801-1538298000-1538301600@uucv.org
SUMMARY:Adult RE - Atheism and the Meaning of Life
DESCRIPTION:
URL:https://uucv.org/event/adult-re-2018-09-30/
LOCATION:Board Room
CATEGORIES:Adult Education,Community,Education,Flag for Newsletter
ORGANIZER;CN="Brian McPherson":MAILTO:wbmcp@hotmail.com
END:VEVENT
BEGIN:VEVENT
DTSTART;TZID=America/New_York:20180916T090000
DTEND;TZID=America/New_York:20180916T100000
DTSTAMP:20260421T093225
CREATED:20180830T172434Z
LAST-MODIFIED:20180831T133446Z
UID:10011800-1537088400-1537092000@uucv.org
SUMMARY:Adult RE - Reason and Happiness
DESCRIPTION:
URL:https://uucv.org/event/adult-re/
LOCATION:Board Room
CATEGORIES:Adult Education,Community,Education,Flag for Newsletter
ORGANIZER;CN="Brian McPherson":MAILTO:wbmcp@hotmail.com
END:VEVENT
BEGIN:VEVENT
DTSTART;TZID=America/New_York:20180819T090000
DTEND;TZID=America/New_York:20180819T100000
DTSTAMP:20260421T093225
CREATED:20180723T170220Z
LAST-MODIFIED:20180723T170220Z
UID:10008603-1534669200-1534672800@uucv.org
SUMMARY:Auction Team Meeting
DESCRIPTION:
URL:https://uucv.org/event/auction-team-meeting/
LOCATION:Board Room
CATEGORIES:Auction
ORGANIZER;CN="Wendy Gebb":MAILTO:wendywinter@comcast.net
END:VEVENT
BEGIN:VEVENT
DTSTART;TZID=America/New_York:20180814T100000
DTEND;TZID=America/New_York:20180814T120000
DTSTAMP:20260421T093225
CREATED:20180725T180727Z
LAST-MODIFIED:20180725T180727Z
UID:10011792-1534240800-1534248000@uucv.org
SUMMARY:Auction Artists
DESCRIPTION:
URL:https://uucv.org/event/auction-artists/
LOCATION:Klein Emporium\, PA\, United States
CATEGORIES:Auction,Flag for Newsletter
ORGANIZER;CN="Char Klein":MAILTO:charklein@kuhncom.net
GEO:41.2033216;-77.1945247
END:VEVENT
BEGIN:VEVENT
DTSTART;TZID=America/New_York:20180805T103000
DTEND;TZID=America/New_York:20180805T113000
DTSTAMP:20260421T093225
CREATED:20180801T174133Z
LAST-MODIFIED:20180801T174133Z
UID:10011796-1533465000-1533468600@uucv.org
SUMMARY:Worship: "Spirituality: What good is it?"
DESCRIPTION:Some talk of being “spiritual but not religious.” Others reject the very word spirit or spirituality. We’ll explore ways of understanding this quality.  Rev. Dr. Kathy Ellis preaches with worship associate Cheryl Parsons.  Marc Renault provides service music.
URL:https://uucv.org/event/worship-spirituality-what-good-is-it/
LOCATION:Social Hall\, PA\, United States
CATEGORIES:Community,Flag for Newsletter,Special Music,Worship
END:VEVENT
BEGIN:VEVENT
DTSTART;TZID=America/New_York:20180702T100000
DTEND;TZID=America/New_York:20180702T120000
DTSTAMP:20260421T093225
CREATED:20180627T171802Z
LAST-MODIFIED:20180627T171802Z
UID:10011791-1530525600-1530532800@uucv.org
SUMMARY:Auction Planning Meeting
DESCRIPTION:
URL:https://uucv.org/event/auction-planning-meeting/
LOCATION:Board Room
CATEGORIES:Auction
ORGANIZER;CN="Wendy Gebb":MAILTO:wendywinter@comcast.net
END:VEVENT
BEGIN:VEVENT
DTSTART;TZID=America/New_York:20180610T120000
DTEND;TZID=America/New_York:20180610T131500
DTSTAMP:20260421T093225
CREATED:20180329T135718Z
LAST-MODIFIED:20180329T135718Z
UID:10011767-1528632000-1528636500@uucv.org
SUMMARY:OWL Grades 4-6\, Ages 9-10
DESCRIPTION:
URL:https://uucv.org/event/owl-grades-4-6-ages-9-10/2018-06-10/
LOCATION:Religious Education Classrooms\, 2 Forge Road\, Boiling Springs\, PA\, 17007\, United States
CATEGORIES:Community,Education,Flag for Newsletter,K-12 Religious Education
ORGANIZER;CN="Emily Crutcher":MAILTO:emilyuucv@gmail.com
END:VEVENT
BEGIN:VEVENT
DTSTART;TZID=America/New_York:20180423T190000
DTEND;TZID=America/New_York:20180423T210000
DTSTAMP:20260421T093225
CREATED:20180302T175322Z
LAST-MODIFIED:20180302T175322Z
UID:10011755-1524510000-1524517200@uucv.org
SUMMARY:UUCV Jazz Band Practive
DESCRIPTION:
URL:https://uucv.org/event/uucv-jazz-band-practive/2018-04-23/
LOCATION:Social Hall\, PA\, United States
CATEGORIES:Community,Flag for Newsletter,Music Rehearsals,Special Rehearsals
ORGANIZER;CN="Brian McPherson":MAILTO:wbmcp@hotmail.com
END:VEVENT
BEGIN:VEVENT
DTSTART;TZID=America/New_York:20180405T180000
DTEND;TZID=America/New_York:20180405T193000
DTSTAMP:20260421T093225
CREATED:20180326T142858Z
LAST-MODIFIED:20180326T143013Z
UID:10008337-1522951200-1522956600@uucv.org
SUMMARY:OWL Parents Mandatory Meeting
DESCRIPTION:
URL:https://uucv.org/event/owl-parents-mandatory-meeting-2/
LOCATION:Board Room
CATEGORIES:Community,Education,Flag for Newsletter,K-12 Religious Education
ORGANIZER;CN="Emily Crutcher":MAILTO:emilyuucv@gmail.com
END:VEVENT
BEGIN:VEVENT
DTSTART;TZID=America/New_York:20180401T120000
DTEND;TZID=America/New_York:20180401T130000
DTSTAMP:20260421T093225
CREATED:20180302T175740Z
LAST-MODIFIED:20180302T175740Z
UID:10011758-1522584000-1522587600@uucv.org
SUMMARY:UUCV Easter Egg Hunt
DESCRIPTION:
URL:https://uucv.org/event/uucv-easter-egg-hunt/
LOCATION:UUCV Meeting House\, 2 Forge Road\, Boiling Springs\, 17007\, United States
CATEGORIES:Community,Flag for Newsletter
END:VEVENT
BEGIN:VEVENT
DTSTART;TZID=America/New_York:20180331T103000
DTEND;TZID=America/New_York:20180331T120000
DTSTAMP:20260421T093225
CREATED:20180302T175627Z
LAST-MODIFIED:20180302T175627Z
UID:10011757-1522492200-1522497600@uucv.org
SUMMARY:UUCV Egg Decorating Party
DESCRIPTION:
URL:https://uucv.org/event/uucv-egg-decorating-party/
LOCATION:Dining Room
CATEGORIES:Community,Flag for Newsletter,K-12 Religious Education
ORGANIZER;CN="Emily Crutcher":MAILTO:emilyuucv@gmail.com
END:VEVENT
BEGIN:VEVENT
DTSTART;TZID=America/New_York:20180326T180000
DTEND;TZID=America/New_York:20180326T193000
DTSTAMP:20260421T093225
CREATED:20180326T142729Z
LAST-MODIFIED:20180326T142729Z
UID:10008336-1522087200-1522092600@uucv.org
SUMMARY:OWL Parents Mandatory Meeting
DESCRIPTION:
URL:https://uucv.org/event/owl-parents-mandatory-meeting/
LOCATION:Board Room
CATEGORIES:Community,Education,Flag for Newsletter,K-12 Religious Education
ORGANIZER;CN="Emily Crutcher":MAILTO:emilyuucv@gmail.com
END:VEVENT
BEGIN:VEVENT
DTSTART;TZID=America/New_York:20180318T120000
DTEND;TZID=America/New_York:20180318T130000
DTSTAMP:20260421T093225
CREATED:20180302T173515Z
LAST-MODIFIED:20180302T173700Z
UID:10011752-1521374400-1521378000@uucv.org
SUMMARY:UUCV Jazz Band Practice
DESCRIPTION:
URL:https://uucv.org/event/uucv-jazz-band-practice-2018-03-26/
LOCATION:Social Hall\, PA\, United States
CATEGORIES:Auction,Flag for Newsletter,Music Rehearsals,Special Rehearsals
ORGANIZER;CN="Brian McPherson":MAILTO:wbmcp@hotmail.com
END:VEVENT
BEGIN:VEVENT
DTSTART;TZID=America/New_York:20180128T103000
DTEND;TZID=America/New_York:20180128T113000
DTSTAMP:20260421T093225
CREATED:20171222T175806Z
LAST-MODIFIED:20171222T175806Z
UID:10011545-1517135400-1517139000@uucv.org
SUMMARY:Worship: "With a Capital T"
DESCRIPTION:“With a Capital T” Is it possible to proclaim the truth of your own faith and at the same time agree that other religions are also valid paths to Truth?  Christin Kapp is service leader with Dot Everhart as worship associate.
URL:https://uucv.org/event/worship-with-a-capital-t/
LOCATION:Social Hall\, PA\, United States
CATEGORIES:Community,Education,Flag for Newsletter,K-12 Religious Education,Service,Worship
END:VEVENT
BEGIN:VEVENT
DTSTART;TZID=America/New_York:20180121T103000
DTEND;TZID=America/New_York:20180121T113000
DTSTAMP:20260421T093225
CREATED:20171222T175601Z
LAST-MODIFIED:20171222T175601Z
UID:10011543-1516530600-1516534200@uucv.org
SUMMARY:Worship: “Snappsy the Alligator Didn't Ask to Be in This Book”
DESCRIPTION:“Snappsy the Alligator Didn’t Ask to Be in This Book” How do we understand other people’s expectations of us?  Rev. Aija Simpson preaching with worship associate Julie Ham for this multi-gen service.
URL:https://uucv.org/event/worship-snappsy-the-alligator-didnt-ask-to-be-in-this-book/
LOCATION:Social Hall\, PA\, United States
CATEGORIES:Community,Education,Flag for Newsletter,K-12 Religious Education,Service,Worship
END:VEVENT
BEGIN:VEVENT
DTSTART;TZID=America/New_York:20180114T103000
DTEND;TZID=America/New_York:20180114T113000
DTSTAMP:20260421T093225
CREATED:20171222T175333Z
LAST-MODIFIED:20171222T175333Z
UID:10008306-1515925800-1515929400@uucv.org
SUMMARY:Worship: "Take My Hand"
DESCRIPTION:Who do we reach out to? Whose hands are we waiting to hold? On this Martin Luther King Jr. Sunday we ask how it is that we build relationships with new people and communities.  Rev. Aija Simpson preaching with worship associate Gisela Roethke.
URL:https://uucv.org/event/worship-take-my-hand/
LOCATION:Social Hall\, PA\, United States
CATEGORIES:Community,Education,Flag for Newsletter,K-12 Religious Education,Service,Worship
END:VEVENT
BEGIN:VEVENT
DTSTART;TZID=America/New_York:20180107T103000
DTEND;TZID=America/New_York:20180107T113000
DTSTAMP:20260421T093225
CREATED:20171222T175011Z
LAST-MODIFIED:20171222T175011Z
UID:10008303-1515321000-1515324600@uucv.org
SUMMARY:Worship: "Fresh Start?"
DESCRIPTION:January 7:  “Fresh Start?”   On this first Sunday of the New Year we ask: Can we ever really begin anew?   Rev. Aija Simpson will preach this Sunday with worship associate Christin Kapp.  Music Director David M. Glasgow provides wintry service music from and inspired by the great George Winston.
URL:https://uucv.org/event/worship-fresh-start/
LOCATION:Social Hall\, PA\, United States
CATEGORIES:Community,Education,Flag for Newsletter,K-12 Religious Education,Service,Worship
END:VEVENT
BEGIN:VEVENT
DTSTART;TZID=America/New_York:20171218T183000
DTEND;TZID=America/New_York:20171218T203000
DTSTAMP:20260421T093225
CREATED:20171204T180006Z
LAST-MODIFIED:20171204T180006Z
UID:10008302-1513621800-1513629000@uucv.org
SUMMARY:"What Would Jesus Buy" Film
DESCRIPTION:
URL:https://uucv.org/event/what-would-jesus-buy-film/
LOCATION:Board Room
CATEGORIES:Adult Education,Community,Education,Flag for Newsletter,Social Justice Activities,Social Justice Committee
ORGANIZER;CN="Cindy Good":MAILTO:cyagood4@gmail.com
END:VEVENT
BEGIN:VEVENT
DTSTART;TZID=America/New_York:20171217T100000
DTEND;TZID=America/New_York:20171217T140000
DTSTAMP:20260421T093225
CREATED:20171129T144939Z
LAST-MODIFIED:20171129T144939Z
UID:10008296-1513504800-1513519200@uucv.org
SUMMARY:Christmas Markeplace
DESCRIPTION:
URL:https://uucv.org/event/christmas-markeplace/
LOCATION:Social Hall
CATEGORIES:Community,Flag for Newsletter
END:VEVENT
BEGIN:VEVENT
DTSTART;TZID=America/New_York:20171214T173000
DTEND;TZID=America/New_York:20171214T193000
DTSTAMP:20260421T093225
CREATED:20171129T143835Z
LAST-MODIFIED:20171129T143835Z
UID:10011544-1513272600-1513279800@uucv.org
SUMMARY:UUCV Cookie Decorating Party - Everyone Welcome
DESCRIPTION:
URL:https://uucv.org/event/uucv-cookie-decorating-party-everyone-welcome/
LOCATION:Dining Room
CATEGORIES:Community,Flag for Newsletter
ORGANIZER;CN="Emily Crutcher":MAILTO:emilyuucv@gmail.com
END:VEVENT
END:VCALENDAR