BEGIN:VCALENDAR
VERSION:2.0
PRODID:-//Unitarian Universalists of the Cumberland Valley - ECPv6.15.20//NONSGML v1.0//EN
CALSCALE:GREGORIAN
METHOD:PUBLISH
X-WR-CALNAME:Unitarian Universalists of the Cumberland Valley
X-ORIGINAL-URL:https://uucv.org
X-WR-CALDESC:Events for Unitarian Universalists of the Cumberland Valley
REFRESH-INTERVAL;VALUE=DURATION:PT1H
X-Robots-Tag:noindex
X-PUBLISHED-TTL:PT1H
BEGIN:VTIMEZONE
TZID:America/New_York
BEGIN:DAYLIGHT
TZOFFSETFROM:-0500
TZOFFSETTO:-0400
TZNAME:EDT
DTSTART:20140309T070000
END:DAYLIGHT
BEGIN:STANDARD
TZOFFSETFROM:-0400
TZOFFSETTO:-0500
TZNAME:EST
DTSTART:20141102T060000
END:STANDARD
BEGIN:DAYLIGHT
TZOFFSETFROM:-0500
TZOFFSETTO:-0400
TZNAME:EDT
DTSTART:20150308T070000
END:DAYLIGHT
BEGIN:STANDARD
TZOFFSETFROM:-0400
TZOFFSETTO:-0500
TZNAME:EST
DTSTART:20151101T060000
END:STANDARD
BEGIN:DAYLIGHT
TZOFFSETFROM:-0500
TZOFFSETTO:-0400
TZNAME:EDT
DTSTART:20160313T070000
END:DAYLIGHT
BEGIN:STANDARD
TZOFFSETFROM:-0400
TZOFFSETTO:-0500
TZNAME:EST
DTSTART:20161106T060000
END:STANDARD
BEGIN:DAYLIGHT
TZOFFSETFROM:-0500
TZOFFSETTO:-0400
TZNAME:EDT
DTSTART:20170312T070000
END:DAYLIGHT
BEGIN:STANDARD
TZOFFSETFROM:-0400
TZOFFSETTO:-0500
TZNAME:EST
DTSTART:20171105T060000
END:STANDARD
END:VTIMEZONE
BEGIN:VEVENT
DTSTART;TZID=America/New_York:20160615T083000
DTEND;TZID=America/New_York:20160615T111500
DTSTAMP:20260423T192804
CREATED:20160526T132019Z
LAST-MODIFIED:20160526T132019Z
UID:10008162-1465979400-1465989300@uucv.org
SUMMARY:Project Share
DESCRIPTION:
URL:https://uucv.org/event/project-share-3/
LOCATION:Project Share\, 5 N. Orange Street\, Carlisle\, PA\, 17013
CATEGORIES:Community,Flag for Newsletter,Social Justice Activities,Social Justice Committee
ORGANIZER;CN="Cindy Good":MAILTO:cyagood4@gmail.com
END:VEVENT
BEGIN:VEVENT
DTSTART;TZID=America/New_York:20160614T113000
DTEND;TZID=America/New_York:20160614T141500
DTSTAMP:20260423T192804
CREATED:20160526T131851Z
LAST-MODIFIED:20160526T131851Z
UID:10008161-1465903800-1465913700@uucv.org
SUMMARY:Project Share
DESCRIPTION:
URL:https://uucv.org/event/project-share-2/
LOCATION:Project Share\, 5 N. Orange Street\, Carlisle\, PA\, 17013
CATEGORIES:Community,Flag for Newsletter,Social Justice Activities,Social Justice Committee
ORGANIZER;CN="Cindy Good":MAILTO:cyagood4@gmail.com
END:VEVENT
BEGIN:VEVENT
DTSTART;TZID=America/New_York:20160613T180000
DTEND;TZID=America/New_York:20160613T200000
DTSTAMP:20260423T192804
CREATED:20160504T160105Z
LAST-MODIFIED:20160504T160913Z
UID:10008154-1465840800-1465848000@uucv.org
SUMMARY:Drum Circle - Rescheduled from June 6
DESCRIPTION:Join your community in rhythm! Monday\, June 13 we’re hosting a free\, all levels\, community Drum Circle facilitated by Dani Fiore. A limited number of drums and percussion will be provided but please bring you own if you are able. Didgeridoo? Flute? Bring those\, too! All acoustic instruments welcome! \nParticipation is FREE but a love offering will be gratefully accepted; A portion of which will be donated to UUCV.
URL:https://uucv.org/event/drum-circle-date-change/
LOCATION:Elementary/Middle School Classroom\, 2 Forge Road\, Boiling Springs\, PA\, 17007\, United States
CATEGORIES:Adult Education,Community,Education,Flag for Newsletter
ORGANIZER;CN="Dani Fiore":MAILTO:fiore.dn@gmail.com
END:VEVENT
BEGIN:VEVENT
DTSTART;TZID=America/New_York:20160604T090000
DTEND;TZID=America/New_York:20160604T160000
DTSTAMP:20260423T192804
CREATED:20160510T153400Z
LAST-MODIFIED:20160510T153415Z
UID:10008159-1465030800-1465056000@uucv.org
SUMMARY:UUCV Strawberry Shortcake Booth
DESCRIPTION:The Boiling Springs community was excited to see our Strawberry Shortcake Booth back last year at their Foundry Day Arts Festival.  Join in the fun this year to help raise awareness for UUCV.  Volunteers are needed to bake shortcakes\, slice and dice strawberries on Friday\, June 3th at 6:00 PM\, and for short shifts working at the booth from 9:00 am – 4:00 pm on Saturday\, June 4th.  Signup sheets are on the “Volunteer Table” in the Social Hall.  Questions\, or to volunteer contact Pam Martin pam@qmf.309.myftpupload.com or 717/249-8944.
URL:https://uucv.org/event/uucv-strawberry-shortcake-booth/
LOCATION:Boiling Springs\, 2 Forge Road\, Boiling Springs\, PA\, 17007\, United States
CATEGORIES:Community,Flag for Newsletter,Service
ORGANIZER;CN="Pam Martin":MAILTO:pam@qmf.309.myftpupload.com
END:VEVENT
BEGIN:VEVENT
DTSTART;TZID=America/New_York:20160604T090000
DTEND;TZID=America/New_York:20160604T160000
DTSTAMP:20260423T192804
CREATED:20160503T162339Z
LAST-MODIFIED:20160503T162339Z
UID:10008147-1465030800-1465056000@uucv.org
SUMMARY:UUCV Yard Sale
DESCRIPTION:Spring is in the air – and that means it’s time to get rid of the clutter. But rather than throwing out those unused items\, why not donate it to UUCV? \nBesides making our presence known at the annual Foundry Day Strawberry Booth in Boiling Springs\, we would like to have a garage sale in contrast to the juried Arts and Crafts show held along the Children’s Lake.  It will be a great opportunity for UUCV to reach out to the community. \nGood sellers are most household items\, dishes\, art work\, knock knacks\, gently used toys\, books\, tools\, etc.  If you have items to donate\, please drop them off Sunday May 29th – Friday June 3rd between             8:30 AM and 1:00 PM in the UUCV basement kitchen/dining area.  There is no need to pre price the items.  However\, if you have a “big ticket” or unusual item\, pre pricing would be appreciated. \nNOT  ACCEPTED: No Clothing; No Shoes; No Outdated Electronics; No pets or farm animals! \n  \nNEED: Volunteers needed for . . . \nSet-Up on Friday\, June 3rd (1:00 -5:00 p.m.) \nSet-Up on Saturday\, June 4th (6:00 -8 a.m.) \nYard Sale Workers (8 – 1 p.m. / 1 – 5 p.m.) \nTake down tables & clean-up (4:30 – 6:00 p.m.) \nTruck drivers to haul goods (6:00 p.m.) \n  \nSign-up sheets (for these coveted positions) will be available in the Social Hall on the Volunteer table.  Donation receipts are available upon request. Further questions can be directed to Pam Martin pam@qmf.309.myftpupload.com or 717-249-8944 or to Ellen Bullergebuller@verizon.net or 717-732-7097
URL:https://uucv.org/event/uucv-yard-sale/
LOCATION:UUCV Meeting House\, 2 Forge Road\, Boiling Springs\, 17007\, United States
CATEGORIES:Community,Flag for Newsletter
ORGANIZER;CN="Ellen Buller":MAILTO:gebuller@verizon.net
END:VEVENT
BEGIN:VEVENT
DTSTART;TZID=America/New_York:20160603T083000
DTEND;TZID=America/New_York:20160603T130000
DTSTAMP:20260423T192804
CREATED:20160503T162620Z
LAST-MODIFIED:20160503T163023Z
UID:10008153-1464942600-1464958800@uucv.org
SUMMARY:Yard Sale Drop Off
DESCRIPTION:  \nDrop off your items for the UUCV Yard Sale to be held on June 4. \nGood sellers are most household items\, dishes\, art work\, knock knacks\, gently used toys\, books\, tools\, etc.  If you have items to donate\, drop them off Sunday May 29th – Friday June 3rd between 8:30 AM and 1:00 PM in the UUCV basement kitchen/dining area.  There is no need to pre price the items.  However\, if you have a “big ticket” or unusual item\, pre pricing would be appreciated. \nNOT  ACCEPTED: No Clothing; No Shoes; No Outdated Electronics; No pets or farm animals! \n 
URL:https://uucv.org/event/yard-sale-drop-off/2016-06-03/
LOCATION:UUCV Meeting House\, 2 Forge Road\, Boiling Springs\, 17007\, United States
CATEGORIES:Community,Flag for Newsletter,Service
ORGANIZER;CN="Ellen Buller":MAILTO:gebuller@verizon.net
END:VEVENT
BEGIN:VEVENT
DTSTART;TZID=America/New_York:20160522T183000
DTEND;TZID=America/New_York:20160522T203000
DTSTAMP:20260423T192804
CREATED:20160428T134625Z
LAST-MODIFIED:20160428T140651Z
UID:10008038-1463941800-1463949000@uucv.org
SUMMARY:Book Groups May Pick
DESCRIPTION:Join us  in our Yuuth Room Sunday\, May 22 at 6:30 pm to discuss James McBride’s book\, The Color of Water: A Black Man’s Tribute to His White Mother.  As a young boy\, one of 12 brothers and sisters\, growing up in Brooklyn’s Red Hook projects in the 1960’s\, James asked his mother if he was black or white. She answered\, “You’re a human being\, educate yourself or you’ll be a nobody!”  In this very moving and well written narrative James tells his mother’s story and his own with honesty and humor.  It is an extraordinary story how a rabbi’s daughter\, born in Poland and raised in the South\, moved to Harlem\, married a black man and put all 12 of her children through college. Brian McPherson will lead the discussion.  Questions: Contact Richard Bronakoski at richardbronakoski@gmail.com.
URL:https://uucv.org/event/uucv-book-group-4/
LOCATION:YUUth Room
CATEGORIES:Adult Education,Community,Education,Flag for Newsletter
ORGANIZER;CN="Rich Bronakoski":MAILTO:richardbronakoski@gmail.com
END:VEVENT
BEGIN:VEVENT
DTSTART;TZID=America/New_York:20160521T083000
DTEND;TZID=America/New_York:20160521T111500
DTSTAMP:20260423T192804
CREATED:20160505T171400Z
LAST-MODIFIED:20160505T171400Z
UID:10008158-1463819400-1463829300@uucv.org
SUMMARY:Project Share Distribution Day
DESCRIPTION:
URL:https://uucv.org/event/project-share-distribution-day-7/
LOCATION:Project Share\, 5 N. Orange Street\, Carlisle\, PA\, 17013
CATEGORIES:Community,Flag for Newsletter,Social Justice Activities,Social Justice Committee
ORGANIZER;CN="Cindy Good":MAILTO:cyagood4@gmail.com
END:VEVENT
BEGIN:VEVENT
DTSTART;TZID=America/New_York:20160519T150000
DTEND;TZID=America/New_York:20160519T174500
DTSTAMP:20260423T192804
CREATED:20160505T171310Z
LAST-MODIFIED:20160505T171310Z
UID:10008157-1463670000-1463679900@uucv.org
SUMMARY:Project Share Distribution Day
DESCRIPTION:
URL:https://uucv.org/event/project-share-distribution-day-6/
LOCATION:Project Share\, 5 N. Orange Street\, Carlisle\, PA\, 17013
CATEGORIES:Community,Flag for Newsletter,Social Justice Activities,Social Justice Committee
ORGANIZER;CN="Cindy Good":MAILTO:cyagood4@gmail.com
END:VEVENT
BEGIN:VEVENT
DTSTART;TZID=America/New_York:20160518T083000
DTEND;TZID=America/New_York:20160518T231500
DTSTAMP:20260423T192804
CREATED:20160505T170834Z
LAST-MODIFIED:20160505T171215Z
UID:10008156-1463560200-1463613300@uucv.org
SUMMARY:Project Share Distribution Day
DESCRIPTION:
URL:https://uucv.org/event/project-share-distribution-day-5/
LOCATION:Project Share\, 5 N. Orange Street\, Carlisle\, PA\, 17013
CATEGORIES:Community,Flag for Newsletter,Social Justice Activities,Social Justice Committee
ORGANIZER;CN="Cindy Good":MAILTO:cyagood4@gmail.com
END:VEVENT
BEGIN:VEVENT
DTSTART;TZID=America/New_York:20160517T113000
DTEND;TZID=America/New_York:20160517T141500
DTSTAMP:20260423T192804
CREATED:20160505T165907Z
LAST-MODIFIED:20160505T171117Z
UID:10008155-1463484600-1463494500@uucv.org
SUMMARY:Project SHARE Distribution Day
DESCRIPTION:
URL:https://uucv.org/event/project-share-distribution-day-4/
LOCATION:Project Share\, 5 N. Orange Street\, Carlisle\, PA\, 17013
CATEGORIES:Community,Flag for Newsletter,Social Justice Activities,Social Justice Committee
ORGANIZER;CN="Cindy Good":MAILTO:cyagood4@gmail.com
END:VEVENT
BEGIN:VEVENT
DTSTART;TZID=America/New_York:20160504T183000
DTEND;TZID=America/New_York:20160504T200000
DTSTAMP:20260423T192804
CREATED:20160421T110853Z
LAST-MODIFIED:20160426T130640Z
UID:10008034-1462386600-1462392000@uucv.org
SUMMARY:TRAPPED: What remains of a woman's right to choose?
DESCRIPTION:Join us on  Wednesday\, May 4th at 6:30 PM to view the documentary “TRAPPED”.\n\nThis film traces the abortion rights saga from Wendy Davis’s bold filibuster against Texas’s awful abortion restriction law to today–when access to safe abortion for hundreds of thousands of women rests on the Supreme Court’s shoulders\, all through the eyes of the brave individuals to run and work at abortion clinics. Come learn how and why clinics are shutting down\, because if we don’t fight back\, there may be no clinics left.
URL:https://uucv.org/event/trapped-what-remains-of-a-womans-right-to-choose/
LOCATION:Social Hall\, PA\, United States
CATEGORIES:Adult Education,Community,Education,Flag for Newsletter,Flag for Previews,Social Justice Activities,Social Justice Committee
ORGANIZER;CN="Cindy Good":MAILTO:cyagood4@gmail.com
END:VEVENT
BEGIN:VEVENT
DTSTART;TZID=America/New_York:20160503T190000
DTEND;TZID=America/New_York:20160503T210000
DTSTAMP:20260423T192804
CREATED:20160318T154037Z
LAST-MODIFIED:20160318T154037Z
UID:10007047-1462302000-1462309200@uucv.org
SUMMARY:Holocaust Remembrance Service (Yom Hashoah)
DESCRIPTION:This event is jointly sponsored by Congregation Beth Tikvah and the Carlisle Area Religious Council on Tuesday\, May 3\, 2016\, 7 P.M at the First Lutheran Church\, Corner of East High and South Bedford Streets (One Block East of the Square)\, Carlisle\, Pa.  David W. Wildermuth\, Shippensburg University Assistant Professor of German and Secretary/Treasurer\, American Friends of the Documentation Center of Austrian Resistance will be the guest speaker.  Anatomy of an Atrocity: German Soldiers and the “Pacification” of Lida in the Holocaust’s “First Hour” with Musical Interludes by Lori Elliott on Flute.
URL:https://uucv.org/event/holocaust-remembrance-service-yom-hashoah/
LOCATION:First Lutheran Church\, East High and South Bedford St\, Carlisle\, 17013
CATEGORIES:Community,Flag for Newsletter
END:VEVENT
BEGIN:VEVENT
DTSTART;TZID=America/New_York:20160424T183000
DTEND;TZID=America/New_York:20160424T203000
DTSTAMP:20260423T192804
CREATED:20160324T150032Z
LAST-MODIFIED:20160325T171313Z
UID:10008015-1461522600-1461529800@uucv.org
SUMMARY:UUCV Book Group
DESCRIPTION:Join us in our Yuuth Room to discuss Orphan 8 by Kim van Alkemade.  “A stunning debut novel of historical fiction set in the forgotten world of New York City’s Jewish orphanages.”  It is a story of a young woman\, Rachel\, who becomes a nurse and then meets the doctor who performed dangerous medical experiments on her as a child in a Jewish orphanage.  In 1919 medical experimentation on children in orphanages was a common practice. Through the compelling narrative story of her life we come to know Rachel and the choice she must make:  forgiveness or revenge. Kim will be with us for the discussion.  Question: Contact Richard Bronakoski at richardbronakoski@gmail.com
URL:https://uucv.org/event/uucv-book-group-3/
LOCATION:YUUth Room
CATEGORIES:Adult Education,Community,Education,Flag for Newsletter
ATTACH;FMTTYPE=image/jpeg:https://uucv.org/wp-content/uploads/2016/01/orphan-8.jpg
ORGANIZER;CN="Rich Bronakoski":MAILTO:richardbronakoski@gmail.com
END:VEVENT
BEGIN:VEVENT
DTSTART;TZID=America/New_York:20160423T083000
DTEND;TZID=America/New_York:20160423T111500
DTSTAMP:20260423T192804
CREATED:20160411T132953Z
LAST-MODIFIED:20160411T132953Z
UID:10008021-1461400200-1461410100@uucv.org
SUMMARY:Project Share Food Distribution
DESCRIPTION:
URL:https://uucv.org/event/project-share-food-distribution-3/
LOCATION:Project Share\, 5 N. Orange Street\, Carlisle\, PA\, 17013
CATEGORIES:Community,Flag for Newsletter,Social Justice Activities,Social Justice Committee
ORGANIZER;CN="Cindy Good":MAILTO:cyagood4@gmail.com
END:VEVENT
BEGIN:VEVENT
DTSTART;TZID=America/New_York:20160421T150000
DTEND;TZID=America/New_York:20160421T174500
DTSTAMP:20260423T192804
CREATED:20160411T132842Z
LAST-MODIFIED:20160411T133036Z
UID:10008020-1461250800-1461260700@uucv.org
SUMMARY:Project Share Food Distribution
DESCRIPTION:
URL:https://uucv.org/event/project-share-food-distribution-2/
LOCATION:Project Share\, 5 N. Orange Street\, Carlisle\, PA\, 17013
CATEGORIES:Community,Flag for Newsletter,Social Justice Activities,Social Justice Committee
ORGANIZER;CN="Cindy Good":MAILTO:cyagood4@gmail.com
END:VEVENT
BEGIN:VEVENT
DTSTART;TZID=America/New_York:20160420T083000
DTEND;TZID=America/New_York:20160420T111500
DTSTAMP:20260423T192804
CREATED:20160411T132744Z
LAST-MODIFIED:20160411T133107Z
UID:10008019-1461141000-1461150900@uucv.org
SUMMARY:Project Share Food Distribution
DESCRIPTION:
URL:https://uucv.org/event/project-share-food-distribution/
LOCATION:Project Share\, 5 N. Orange Street\, Carlisle\, PA\, 17013
CATEGORIES:Community,Flag for Newsletter,Social Justice Activities,Social Justice Committee
ORGANIZER;CN="Cindy Good":MAILTO:cyagood4@gmail.com
END:VEVENT
BEGIN:VEVENT
DTSTART;TZID=America/New_York:20160419T113000
DTEND;TZID=America/New_York:20160419T141500
DTSTAMP:20260423T192804
CREATED:20160411T132629Z
LAST-MODIFIED:20160411T133139Z
UID:10008018-1461065400-1461075300@uucv.org
SUMMARY:Project Share Food Distribution
DESCRIPTION:
URL:https://uucv.org/event/project-share/
LOCATION:Project Share\, 5 N. Orange Street\, Carlisle\, PA\, 17013
CATEGORIES:Community,Flag for Newsletter,Social Justice Activities,Social Justice Committee
ORGANIZER;CN="Cindy Good":MAILTO:cyagood4@gmail.com
END:VEVENT
BEGIN:VEVENT
DTSTART;TZID=America/New_York:20160417T090000
DTEND;TZID=America/New_York:20160417T221500
DTSTAMP:20260423T192804
CREATED:20160411T133321Z
LAST-MODIFIED:20160411T133810Z
UID:10008023-1460883600-1460931300@uucv.org
SUMMARY:Groundswell Rising
DESCRIPTION:
URL:https://uucv.org/event/groundswell-rising-3/
LOCATION:Board Room
CATEGORIES:Adult Education,Community,Education,Flag for Newsletter,Social Justice Activities,Social Justice Committee
ORGANIZER;CN="Cindy Good":MAILTO:cyagood4@gmail.com
END:VEVENT
BEGIN:VEVENT
DTSTART;TZID=America/New_York:20160321T080000
DTEND;TZID=America/New_York:20160321T170000
DTSTAMP:20260423T192804
CREATED:20160309T144111Z
LAST-MODIFIED:20160309T161535Z
UID:10007044-1458547200-1458579600@uucv.org
SUMMARY:MORALtorium and Rally Day
DESCRIPTION:Attend the anti-fracking MORALtorium Rally & Lobby Day in Harrisburg. For more details check out the Social Justice bulletin board and the easel outside sanctuary or contact Cindy Good cagood@embarqmail.com
URL:https://uucv.org/event/moraltorium-and-rally-day/
LOCATION:Social Hall\, PA\, United States
CATEGORIES:Community,Social Justice Activities,Social Justice Committee
END:VEVENT
BEGIN:VEVENT
DTSTART;TZID=America/New_York:20160320T183000
DTEND;TZID=America/New_York:20160320T213000
DTSTAMP:20260423T192804
CREATED:20160308T135009Z
LAST-MODIFIED:20160308T144815Z
UID:10007032-1458498600-1458509400@uucv.org
SUMMARY:UUPLAN Film Opportunity and More
DESCRIPTION:Dear UU Friends of York and Gettysburg\, \nI’m writing to invite you to a film screening of Groundswell Rising\, an important documentary on fracking in Pennsylvania. Fellow UU\, Mark Lichty\, Pocono congregation and the new co-chair of the UUPLAN Environmental Justice Team is the executive producer. \nThe film will be shown at the UU Church of the Cumberland Valley on Sunday\, March 20th beginning at 6:30 pm. It is a 70 min. film and afterward\, the director\, Renard Cohen\, will be available for discussion and a talk-back. \nPlease pass this invitation along to your networks and to other members of your congregations.\nThe address at the church is UU of the Cumberland Valley\, 2 Forge Rd\, Boiling Springs\, PA 17007. \nThen\, on Monday\, March 21\, UUPLAN will join with a multi-faith community for a MORALtorium Rally and Lobby Day to stop fracking new wells in Pennsylvania and move toward renewable energy. We invite you to join us for this important action. It is a day-long event – but you are welcome to stay for as much or little of the day as possible. \nPlease share with your networks and FB friends. \n  \nI look forward to seeing you soon. \nRegards\, \nAnita
URL:https://uucv.org/event/uuplan-film-opportunity-and-more/
LOCATION:Social Hall\, PA\, United States
CATEGORIES:Adult Education,Community,Education,Flag for Newsletter,Social Justice Activities,Social Justice Committee
ORGANIZER;CN="Cindy Good":MAILTO:cyagood4@gmail.com
END:VEVENT
BEGIN:VEVENT
DTSTART;TZID=America/New_York:20160320T183000
DTEND;TZID=America/New_York:20160320T210000
DTSTAMP:20260423T192804
CREATED:20160309T153834Z
LAST-MODIFIED:20160309T153834Z
UID:10007045-1458498600-1458507600@uucv.org
SUMMARY:Groundswell RISING
DESCRIPTION:
URL:https://uucv.org/event/groundswell-rising-2/
LOCATION:Social Hall\, PA\, United States
CATEGORIES:Community,Social Justice Activities,Social Justice Committee
ORGANIZER;CN="Cindy Good":MAILTO:cyagood4@gmail.com
END:VEVENT
BEGIN:VEVENT
DTSTART;TZID=America/New_York:20160320T183000
DTEND;TZID=America/New_York:20160320T210000
DTSTAMP:20260423T192804
CREATED:20160309T143854Z
LAST-MODIFIED:20160309T143854Z
UID:10007042-1458498600-1458507600@uucv.org
SUMMARY:Groundswell Rising
DESCRIPTION:Join us at UUCV as we view “Groundswell Rising” and meet the documentary’s Director/Producer – Renard Cohen.  Contact Cindy Good cagood@embarqmail.com  for more information.
URL:https://uucv.org/event/groundswell-rising/
LOCATION:Social Hall\, PA\, United States
CATEGORIES:Community,Social Justice Activities,Social Justice Committee
ORGANIZER;CN="Cindy Good":MAILTO:cyagood4@gmail.com
END:VEVENT
BEGIN:VEVENT
DTSTART;TZID=America/New_York:20160320T183000
DTEND;TZID=America/New_York:20160320T203000
DTSTAMP:20260423T192804
CREATED:20160301T184705Z
LAST-MODIFIED:20160301T184705Z
UID:10007030-1458498600-1458505800@uucv.org
SUMMARY:UUCV Book Group
DESCRIPTION:Join us on Sunday\, March 20\, 2016 at 6:30 PM in our Yuuth Room to discuss Marcus Borg’s book\, Reading the Bible for the First Time Again: Taking the Bible Seriously But Not Literally. Note the word “again” in the title.  Borg wants us to read the bible again\, not as a literal-factual text\, but as a source of meaning and guidance.  Borg argues that it is not necessary to give up our scientific and critical ways of thinking when we read the bible.  Using current biblical scholarship and exceptionally lucid writing\, he reintroduces stories and biblical texts that we thought we knew and shows that the wisdom offered is still relevant today.  Dot Everhart will lead the discussion.  Questions: Contact Richard Bronakoski at richbro@ix.netcom.com.
URL:https://uucv.org/event/uucv-book-group/
LOCATION:YUUth Room
CATEGORIES:Adult Education,Community,Education,Flag for Newsletter
ORGANIZER;CN="Rich Bronakoski":MAILTO:richardbronakoski@gmail.com
END:VEVENT
BEGIN:VEVENT
DTSTART;TZID=America/New_York:20160319T083000
DTEND;TZID=America/New_York:20160319T111500
DTSTAMP:20260423T192804
CREATED:20160309T143652Z
LAST-MODIFIED:20160309T143652Z
UID:10007040-1458376200-1458386100@uucv.org
SUMMARY:Project Share Distribution Day
DESCRIPTION:Help distribute food at Project Share.  Contact Cindy Good cagood@embarqmail.com  for more information.
URL:https://uucv.org/event/project-share-distribution-day-3/
LOCATION:Project Share\, 5 N. Orange Street\, Carlisle\, PA\, 17013
CATEGORIES:Community,Social Justice Activities,Social Justice Committee
ORGANIZER;CN="Cindy Good":MAILTO:cyagood4@gmail.com
END:VEVENT
BEGIN:VEVENT
DTSTART;TZID=America/New_York:20160317T030000
DTEND;TZID=America/New_York:20160317T174500
DTSTAMP:20260423T192804
CREATED:20160309T143538Z
LAST-MODIFIED:20160309T143538Z
UID:10007038-1458183600-1458236700@uucv.org
SUMMARY:Project Share Distribution Day
DESCRIPTION:Help distribute food at Project Share.  Contact Cindy Good cagood@embarqmail.com  for more information.
URL:https://uucv.org/event/project-share-distribution-day-2/
LOCATION:Project Share\, 5 N. Orange Street\, Carlisle\, PA\, 17013
CATEGORIES:Community,Social Justice Activities,Social Justice Committee
ORGANIZER;CN="Cindy Good":MAILTO:cyagood4@gmail.com
END:VEVENT
BEGIN:VEVENT
DTSTART;TZID=America/New_York:20160316T083000
DTEND;TZID=America/New_York:20160316T111500
DTSTAMP:20260423T192804
CREATED:20160309T143432Z
LAST-MODIFIED:20160309T143432Z
UID:10007036-1458117000-1458126900@uucv.org
SUMMARY:Project Share Distribution Day
DESCRIPTION:Help distribute food at Project Share.  Contact Cindy Good cagood@embarqmail.com  for more information.
URL:https://uucv.org/event/project-share-distribution-day/
LOCATION:Project Share\, 5 N. Orange Street\, Carlisle\, PA\, 17013
CATEGORIES:Community,Social Justice Activities,Social Justice Committee
ORGANIZER;CN="Cindy Good":MAILTO:cyagood4@gmail.com
END:VEVENT
BEGIN:VEVENT
DTSTART;TZID=America/New_York:20160315T113000
DTEND;TZID=America/New_York:20160315T141500
DTSTAMP:20260423T192804
CREATED:20160309T143305Z
LAST-MODIFIED:20160309T143305Z
UID:10007034-1458041400-1458051300@uucv.org
SUMMARY:Project Share Distribution Dates
DESCRIPTION:Help distribute food at Project Share.  Contact Cindy Good cagood@embarqmail.com  for more information.
URL:https://uucv.org/event/project-share-distribution-dates/
LOCATION:Project Share\, 5 N. Orange Street\, Carlisle\, PA\, 17013
CATEGORIES:Community,Social Justice Activities,Social Justice Committee
ORGANIZER;CN="Cindy Good":MAILTO:cyagood4@gmail.com
END:VEVENT
BEGIN:VEVENT
DTSTART;TZID=America/New_York:20160312T130000
DTEND;TZID=America/New_York:20160312T160000
DTSTAMP:20260423T192804
CREATED:20160217T144327Z
LAST-MODIFIED:20160217T144327Z
UID:10007878-1457787600-1457798400@uucv.org
SUMMARY:Fun Family Event
DESCRIPTION:Mark your calendars for a fun afternoon of roller skating on Saturday\, March 12th from 1-4 pm.  We will meet at Midway Skating Center\, 1561 Holly Pike\, Carlisle\, PA  17015.  Admission is $5 per person.  Bring your own skates or rent some for $2.  The center has a snack bar of fast food and drinks.  Please email marylynn_lynch@yahoo.com with any questions.  Hope to see you there!\n 
URL:https://uucv.org/event/fun-family-event/
LOCATION:Midway Skating\, 1561 Holly Pike\, Carlisle\, PA
CATEGORIES:Community,Flag for Newsletter,K-12 Religious Education
ORGANIZER;CN="Mary Lynn Lynch":MAILTO:marylynn_lynch@yahoo.com
END:VEVENT
BEGIN:VEVENT
DTSTART;TZID=America/New_York:20151202T183000
DTEND;TZID=America/New_York:20151202T213000
DTSTAMP:20260423T192804
CREATED:20151118T190356Z
LAST-MODIFIED:20151118T190356Z
UID:10007037-1449081000-1449091800@uucv.org
SUMMARY:Mens Dinner @ White Elephant
DESCRIPTION:“BYOB” gathering on the first Wednesday of the month at the White Elephant in downtown Carlisle\, PA.  More info: uucvpa@gmail.com.
URL:https://uucv.org/event/mens-dinner-white-elephant/
LOCATION:White Elephant\, 141 W. High Street\, Carlisle\, PA\, 17013\, United States
CATEGORIES:Community
ATTACH;FMTTYPE=image/jpeg:https://uucv.org/wp-content/uploads/2015/09/Bird_Art.jpg
END:VEVENT
END:VCALENDAR