BEGIN:VCALENDAR
VERSION:2.0
PRODID:-//Unitarian Universalists of the Cumberland Valley - ECPv6.15.20//NONSGML v1.0//EN
CALSCALE:GREGORIAN
METHOD:PUBLISH
X-ORIGINAL-URL:https://uucv.org
X-WR-CALDESC:Events for Unitarian Universalists of the Cumberland Valley
REFRESH-INTERVAL;VALUE=DURATION:PT1H
X-Robots-Tag:noindex
X-PUBLISHED-TTL:PT1H
BEGIN:VTIMEZONE
TZID:America/New_York
BEGIN:DAYLIGHT
TZOFFSETFROM:-0500
TZOFFSETTO:-0400
TZNAME:EDT
DTSTART:20160313T070000
END:DAYLIGHT
BEGIN:STANDARD
TZOFFSETFROM:-0400
TZOFFSETTO:-0500
TZNAME:EST
DTSTART:20161106T060000
END:STANDARD
BEGIN:DAYLIGHT
TZOFFSETFROM:-0500
TZOFFSETTO:-0400
TZNAME:EDT
DTSTART:20170312T070000
END:DAYLIGHT
BEGIN:STANDARD
TZOFFSETFROM:-0400
TZOFFSETTO:-0500
TZNAME:EST
DTSTART:20171105T060000
END:STANDARD
BEGIN:DAYLIGHT
TZOFFSETFROM:-0500
TZOFFSETTO:-0400
TZNAME:EDT
DTSTART:20180311T070000
END:DAYLIGHT
BEGIN:STANDARD
TZOFFSETFROM:-0400
TZOFFSETTO:-0500
TZNAME:EST
DTSTART:20181104T060000
END:STANDARD
BEGIN:DAYLIGHT
TZOFFSETFROM:-0500
TZOFFSETTO:-0400
TZNAME:EDT
DTSTART:20190310T070000
END:DAYLIGHT
BEGIN:STANDARD
TZOFFSETFROM:-0400
TZOFFSETTO:-0500
TZNAME:EST
DTSTART:20191103T060000
END:STANDARD
END:VTIMEZONE
BEGIN:VEVENT
DTSTART;TZID=America/New_York:20180814T100000
DTEND;TZID=America/New_York:20180814T120000
DTSTAMP:20260419T134619
CREATED:20180725T180727Z
LAST-MODIFIED:20180725T180727Z
UID:10011792-1534240800-1534248000@uucv.org
SUMMARY:Auction Artists
DESCRIPTION:
URL:https://uucv.org/event/auction-artists/
LOCATION:Klein Emporium\, PA\, United States
CATEGORIES:Auction,Flag for Newsletter
ORGANIZER;CN="Char Klein":MAILTO:charklein@kuhncom.net
GEO:41.2033216;-77.1945247
END:VEVENT
BEGIN:VEVENT
DTSTART;TZID=America/New_York:20180702T100000
DTEND;TZID=America/New_York:20180702T120000
DTSTAMP:20260419T134619
CREATED:20180627T171802Z
LAST-MODIFIED:20180627T171802Z
UID:10011791-1530525600-1530532800@uucv.org
SUMMARY:Auction Planning Meeting
DESCRIPTION:
URL:https://uucv.org/event/auction-planning-meeting/
LOCATION:Board Room
CATEGORIES:Auction
ORGANIZER;CN="Wendy Gebb":MAILTO:wendywinter@comcast.net
END:VEVENT
BEGIN:VEVENT
DTSTART;TZID=America/New_York:20180318T120000
DTEND;TZID=America/New_York:20180318T130000
DTSTAMP:20260419T134619
CREATED:20180302T173515Z
LAST-MODIFIED:20180302T173700Z
UID:10011752-1521374400-1521378000@uucv.org
SUMMARY:UUCV Jazz Band Practice
DESCRIPTION:
URL:https://uucv.org/event/uucv-jazz-band-practice-2018-03-26/
LOCATION:Social Hall\, PA\, United States
CATEGORIES:Auction,Flag for Newsletter,Music Rehearsals,Special Rehearsals
ORGANIZER;CN="Brian McPherson":MAILTO:wbmcp@hotmail.com
END:VEVENT
BEGIN:VEVENT
DTSTART;TZID=America/New_York:20171203T120000
DTEND;TZID=America/New_York:20171203T140000
DTSTAMP:20260419T134619
CREATED:20171005T152053Z
LAST-MODIFIED:20171009T144401Z
UID:10011499-1512302400-1512309600@uucv.org
SUMMARY:Mozambique Kick-Off Luncheon
DESCRIPTION:
URL:https://uucv.org/event/mozambique-kick-off-luncheon-2/
LOCATION:Dining Room
CATEGORIES:Auction,Community,Education,Flag for Newsletter,Social Justice Activities,Social Justice Committee
END:VEVENT
BEGIN:VEVENT
DTSTART;TZID=America/New_York:20171202T100000
DTEND;TZID=America/New_York:20171202T120000
DTSTAMP:20260419T134619
CREATED:20171129T145107Z
LAST-MODIFIED:20171129T145107Z
UID:10008298-1512208800-1512216000@uucv.org
SUMMARY:Family Open Auction Event - Kindness Rock Painting
DESCRIPTION:
URL:https://uucv.org/event/family-open-auction-event-kindness-rock-painting/
LOCATION:Dining Room
CATEGORIES:Auction,Community,Flag for Newsletter
ORGANIZER;CN="Melissa Mattson":MAILTO:jemgrrl@gmail.com
END:VEVENT
BEGIN:VEVENT
DTSTART;TZID=America/New_York:20171111T183000
DTEND;TZID=America/New_York:20171111T213000
DTSTAMP:20260419T134619
CREATED:20170623T164731Z
LAST-MODIFIED:20171005T151834Z
UID:10011402-1510425000-1510435800@uucv.org
SUMMARY:Roaring 20's Auction
DESCRIPTION:Come for the fun at 6:30 pm for the Roaring 20’s Auction in the UUCV Social Hall. \n  \nWendy Gebb and Melissa Mattson\, Auction Co Chairs
URL:https://uucv.org/event/save-the-date-2017-auction/
LOCATION:Social Hall
CATEGORIES:Auction,Community,Flag for Newsletter
ORGANIZER;CN="Wendy Gebb":MAILTO:wendywinter@comcast.net
END:VEVENT
BEGIN:VEVENT
DTSTART;TZID=America/New_York:20170826T190000
DTEND;TZID=America/New_York:20170826T220000
DTSTAMP:20260419T134619
CREATED:20170718T151010Z
LAST-MODIFIED:20170718T151010Z
UID:10011406-1503774000-1503784800@uucv.org
SUMMARY:Auction Event: Game Night at the Vernons
DESCRIPTION:There are openings for Game Night at the Vernons in Carlise which has been rescheduled for Saturday\, August 26th from 7:00 to 10:00 PM .   A variety of games will be on hand as well as Carole Knisely playing the piano for a sing-along for anyone interested in that option.  Contact Susan Vernon at snvernon@comcast.net or Pam at pam@qmf.309.myftpupload.com to sign up for this event.  Cost is $15.00
URL:https://uucv.org/event/auction-event-game-night-at-the-vernons/
LOCATION:Susan Vernon\, United States
CATEGORIES:Auction,Community,Flag for Newsletter,Open Auction Events
END:VEVENT
END:VCALENDAR