BEGIN:VCALENDAR
VERSION:2.0
PRODID:-//Unitarian Universalists of the Cumberland Valley - ECPv6.15.20//NONSGML v1.0//EN
CALSCALE:GREGORIAN
METHOD:PUBLISH
X-ORIGINAL-URL:https://uucv.org
X-WR-CALDESC:Events for Unitarian Universalists of the Cumberland Valley
REFRESH-INTERVAL;VALUE=DURATION:PT1H
X-Robots-Tag:noindex
X-PUBLISHED-TTL:PT1H
BEGIN:VTIMEZONE
TZID:America/New_York
BEGIN:DAYLIGHT
TZOFFSETFROM:-0500
TZOFFSETTO:-0400
TZNAME:EDT
DTSTART:20160313T070000
END:DAYLIGHT
BEGIN:STANDARD
TZOFFSETFROM:-0400
TZOFFSETTO:-0500
TZNAME:EST
DTSTART:20161106T060000
END:STANDARD
BEGIN:DAYLIGHT
TZOFFSETFROM:-0500
TZOFFSETTO:-0400
TZNAME:EDT
DTSTART:20170312T070000
END:DAYLIGHT
BEGIN:STANDARD
TZOFFSETFROM:-0400
TZOFFSETTO:-0500
TZNAME:EST
DTSTART:20171105T060000
END:STANDARD
BEGIN:DAYLIGHT
TZOFFSETFROM:-0500
TZOFFSETTO:-0400
TZNAME:EDT
DTSTART:20180311T070000
END:DAYLIGHT
BEGIN:STANDARD
TZOFFSETFROM:-0400
TZOFFSETTO:-0500
TZNAME:EST
DTSTART:20181104T060000
END:STANDARD
END:VTIMEZONE
BEGIN:VEVENT
DTSTART;TZID=America/New_York:20171203T113000
DTEND;TZID=America/New_York:20171203T123000
DTSTAMP:20260420T010639
CREATED:20171005T152245Z
LAST-MODIFIED:20171023T153638Z
UID:10011501-1512300600-1512304200@uucv.org
SUMMARY:Capital Campaign Open Discussion with Congregation
DESCRIPTION:Members of the Capital Campaign Steering Committee will be on hand in the sanctuary after the service to answer any questions you may have.
URL:https://uucv.org/event/capital-campaign-open-discussion-with-congregation/
LOCATION:Social Hall\, PA\, United States
CATEGORIES:Capital Campaign
END:VEVENT
BEGIN:VEVENT
DTSTART;TZID=America/New_York:20171119T113000
DTEND;TZID=America/New_York:20171119T120000
DTSTAMP:20260420T010639
CREATED:20171005T152151Z
LAST-MODIFIED:20171023T153508Z
UID:10011500-1511091000-1511092800@uucv.org
SUMMARY:Capital Campaign Presentations to Congregation
DESCRIPTION:Three price point packages will be presented and explained to the congregation.  Brochures and handouts will be available.  A delicious light lunch will follow.
URL:https://uucv.org/event/capital-campaign-presentations-to-congregation/
LOCATION:Social Hall\, PA\, United States
CATEGORIES:Capital Campaign
END:VEVENT
BEGIN:VEVENT
DTSTART;TZID=America/New_York:20171018T180000
DTEND;TZID=America/New_York:20171018T193000
DTSTAMP:20260420T010639
CREATED:20171009T153320Z
LAST-MODIFIED:20171009T153320Z
UID:10011525-1508349600-1508355000@uucv.org
SUMMARY:CC Steering Committee Meeting
DESCRIPTION:
URL:https://uucv.org/event/cc-steering-committee-meeting/
LOCATION:Social Hall\, PA\, United States
CATEGORIES:Capital Campaign,Flag for Newsletter
END:VEVENT
BEGIN:VEVENT
DTSTART;TZID=America/New_York:20170820T120000
DTEND;TZID=America/New_York:20170820T133000
DTSTAMP:20260420T010639
CREATED:20170718T151945Z
LAST-MODIFIED:20170718T152538Z
UID:10011407-1503230400-1503235800@uucv.org
SUMMARY:Capital Campaign Workshop with David Pyle
DESCRIPTION:Please plan on attending this important workshop with special guest Rev. David Pyle.  Following services on Sunday\, August 20\, there will be substantial snacks served before Rev. Pyle begins the workshop in the Sanctuary at 12:00 noon.  Rev. Pyle is a member of the UUA’s Central East Regional Staff\, and serves the congregations of the Delmarva Penninsula\, Greater Baltimore.  This workshop will focus on the process of visioning for our Capital Campaign.  Childcare will be provided for this event.
URL:https://uucv.org/event/capital-campaign-workshop-with-david-pyle/
LOCATION:Social Hall\, PA\, United States
CATEGORIES:Capital Campaign,Community,Conference,Education,Flag for Newsletter,Meetings,Seminars
END:VEVENT
END:VCALENDAR