BEGIN:VCALENDAR
VERSION:2.0
PRODID:-//Unitarian Universalists of the Cumberland Valley - ECPv6.15.20//NONSGML v1.0//EN
CALSCALE:GREGORIAN
METHOD:PUBLISH
X-ORIGINAL-URL:https://uucv.org
X-WR-CALDESC:Events for Unitarian Universalists of the Cumberland Valley
REFRESH-INTERVAL;VALUE=DURATION:PT1H
X-Robots-Tag:noindex
X-PUBLISHED-TTL:PT1H
BEGIN:VTIMEZONE
TZID:America/New_York
BEGIN:DAYLIGHT
TZOFFSETFROM:-0500
TZOFFSETTO:-0400
TZNAME:EDT
DTSTART:20150308T070000
END:DAYLIGHT
BEGIN:STANDARD
TZOFFSETFROM:-0400
TZOFFSETTO:-0500
TZNAME:EST
DTSTART:20151101T060000
END:STANDARD
BEGIN:DAYLIGHT
TZOFFSETFROM:-0500
TZOFFSETTO:-0400
TZNAME:EDT
DTSTART:20160313T070000
END:DAYLIGHT
BEGIN:STANDARD
TZOFFSETFROM:-0400
TZOFFSETTO:-0500
TZNAME:EST
DTSTART:20161106T060000
END:STANDARD
BEGIN:DAYLIGHT
TZOFFSETFROM:-0500
TZOFFSETTO:-0400
TZNAME:EDT
DTSTART:20170312T070000
END:DAYLIGHT
BEGIN:STANDARD
TZOFFSETFROM:-0400
TZOFFSETTO:-0500
TZNAME:EST
DTSTART:20171105T060000
END:STANDARD
BEGIN:DAYLIGHT
TZOFFSETFROM:-0500
TZOFFSETTO:-0400
TZNAME:EDT
DTSTART:20180311T070000
END:DAYLIGHT
BEGIN:STANDARD
TZOFFSETFROM:-0400
TZOFFSETTO:-0500
TZNAME:EST
DTSTART:20181104T060000
END:STANDARD
END:VTIMEZONE
BEGIN:VEVENT
DTSTART;TZID=America/New_York:20170826T190000
DTEND;TZID=America/New_York:20170826T220000
DTSTAMP:20260419T140419
CREATED:20170718T151010Z
LAST-MODIFIED:20170718T151010Z
UID:10011406-1503774000-1503784800@uucv.org
SUMMARY:Auction Event: Game Night at the Vernons
DESCRIPTION:There are openings for Game Night at the Vernons in Carlise which has been rescheduled for Saturday\, August 26th from 7:00 to 10:00 PM .   A variety of games will be on hand as well as Carole Knisely playing the piano for a sing-along for anyone interested in that option.  Contact Susan Vernon at snvernon@comcast.net or Pam at pam@qmf.309.myftpupload.com to sign up for this event.  Cost is $15.00
URL:https://uucv.org/event/auction-event-game-night-at-the-vernons/
LOCATION:Susan Vernon\, United States
CATEGORIES:Auction,Community,Flag for Newsletter,Open Auction Events
END:VEVENT
BEGIN:VEVENT
DTSTART;TZID=America/New_York:20170715T180000
DTEND;TZID=America/New_York:20170715T200000
DTSTAMP:20260419T140419
CREATED:20161206T174204Z
LAST-MODIFIED:20170411T153601Z
UID:10008029-1500141600-1500148800@uucv.org
SUMMARY:OPEN AUCTION EVENT: An Evening in Paris
DESCRIPTION:Celebrate Bastille Day with a night of French food\, made with organic and clean food ingredients; French wine\, music\, and a French film.  Contact Julie Ham jlham1959@gmail.com for additional information or to sign up for this event.
URL:https://uucv.org/event/open-auction-event-an-evening-in-paris/
LOCATION:Member’s Home\,  \,  \, PA
CATEGORIES:Community,Flag for Newsletter,Open Auction Events
END:VEVENT
BEGIN:VEVENT
DTSTART;TZID=America/New_York:20170704T080000
DTEND;TZID=America/New_York:20170704T170000
DTSTAMP:20260419T140419
CREATED:20161206T174010Z
LAST-MODIFIED:20161206T174010Z
UID:10008027-1499155200-1499187600@uucv.org
SUMMARY:OPEN AUCTION EVENT: HSO Concert after Dinner
DESCRIPTION:
URL:https://uucv.org/event/open-auction-event-hso-concert-after-dinner/
LOCATION:Member’s Home\,  \,  \, PA
CATEGORIES:Community,Flag for Newsletter,Open Auction Events
END:VEVENT
BEGIN:VEVENT
DTSTART;TZID=America/New_York:20170617T160000
DTEND;TZID=America/New_York:20170617T210000
DTSTAMP:20260419T140419
CREATED:20161206T173833Z
LAST-MODIFIED:20161206T173833Z
UID:10008026-1497715200-1497733200@uucv.org
SUMMARY:OPEN AUCTION EVENT: Croquet and Billiards Picnic
DESCRIPTION:
URL:https://uucv.org/event/open-auction-event-croquet-and-billiards-picnic/
LOCATION:Member’s Home\,  \,  \, PA
CATEGORIES:Community,Flag for Newsletter,Open Auction Events
END:VEVENT
BEGIN:VEVENT
DTSTART;TZID=America/New_York:20170610T160000
DTEND;TZID=America/New_York:20170610T210000
DTSTAMP:20260419T140419
CREATED:20161206T173703Z
LAST-MODIFIED:20170310T143653Z
UID:10008024-1497110400-1497128400@uucv.org
SUMMARY:OPEN AUCTION EVENT: Magical Mystery Tour
DESCRIPTION:
URL:https://uucv.org/event/open-auction-event-magical-mystery-tour/
LOCATION:Member’s Home\,  \,  \, PA
CATEGORIES:Community,Flag for Newsletter,Open Auction Events
END:VEVENT
BEGIN:VEVENT
DTSTART;TZID=America/New_York:20170603T080000
DTEND;TZID=America/New_York:20170603T170000
DTSTAMP:20260419T140419
CREATED:20161206T174343Z
LAST-MODIFIED:20161206T174415Z
UID:10008031-1496476800-1496509200@uucv.org
SUMMARY:OPEN AUCTION EVENT: Become an Expert Camper
DESCRIPTION:
URL:https://uucv.org/event/open-auction-event-become-an-expert-camper/
LOCATION:Member’s Home\,  \,  \, PA
CATEGORIES:Community,Flag for Newsletter,Open Auction Events
END:VEVENT
BEGIN:VEVENT
DTSTART;TZID=America/New_York:20170520T093000
DTEND;TZID=America/New_York:20170520T113000
DTSTAMP:20260419T140419
CREATED:20161206T170836Z
LAST-MODIFIED:20161206T172640Z
UID:10008320-1495272600-1495279800@uucv.org
SUMMARY:OPEN AUCTION EVENT: Make Your Own Totem Necklace
DESCRIPTION:
URL:https://uucv.org/event/open-auction-event-make-your-own-totem-necklace/
LOCATION:Member’s Home\,  \,  \, PA
CATEGORIES:Community,Flag for Newsletter,Open Auction Events
END:VEVENT
BEGIN:VEVENT
DTSTART;TZID=America/New_York:20170513T183000
DTEND;TZID=America/New_York:20170513T203000
DTSTAMP:20260419T140419
CREATED:20161206T173504Z
LAST-MODIFIED:20161206T173530Z
UID:10008022-1494700200-1494707400@uucv.org
SUMMARY:OPEN AUCTION EVENT: Country Blues Line Dancing
DESCRIPTION:
URL:https://uucv.org/event/open-auction-event-country-blues-line-dancing/
LOCATION:Member’s Home\,  \,  \, PA
CATEGORIES:Community,Flag for Newsletter,Open Auction Events
END:VEVENT
BEGIN:VEVENT
DTSTART;TZID=America/New_York:20170512T173000
DTEND;TZID=America/New_York:20170512T203000
DTSTAMP:20260419T140419
CREATED:20161206T173146Z
LAST-MODIFIED:20161206T173325Z
UID:10008322-1494610200-1494621000@uucv.org
SUMMARY:OPEN AUCTION EVENT: Wine\, Womenfolk and Song
DESCRIPTION:
URL:https://uucv.org/event/open-auction-event-wine-womenfolk-and-song/
LOCATION:Member’s Home\,  \,  \, PA
CATEGORIES:Community,Flag for Newsletter,Open Auction Events
END:VEVENT
BEGIN:VEVENT
DTSTART;TZID=America/New_York:20170505T190000
DTEND;TZID=America/New_York:20170506T103000
DTSTAMP:20260419T140419
CREATED:20161206T172833Z
LAST-MODIFIED:20161206T172833Z
UID:10008321-1494010800-1494066600@uucv.org
SUMMARY:OPEN AUCTION EVENT: Retro Pajama Party
DESCRIPTION:
URL:https://uucv.org/event/open-auction-event-retro-pajama-party/
LOCATION:Member’s Home\,  \,  \, PA
CATEGORIES:Community,Flag for Newsletter,Open Auction Events
END:VEVENT
BEGIN:VEVENT
DTSTART;TZID=America/New_York:20170422T170000
DTEND;TZID=America/New_York:20170422T210000
DTSTAMP:20260419T140419
CREATED:20161206T160235Z
LAST-MODIFIED:20161206T160624Z
UID:10008319-1492880400-1492894800@uucv.org
SUMMARY:OPEN AUCTION EVENT: Can We Vote on the Answer?  Trivia Night
DESCRIPTION:
URL:https://uucv.org/event/open-auction-event-can-we-vote-on-the-answer-trivia-night/
LOCATION:Member’s Home\,  \,  \, PA
CATEGORIES:Community,Flag for Newsletter,Open Auction Events
END:VEVENT
BEGIN:VEVENT
DTSTART;TZID=America/New_York:20170401T080000
DTEND;TZID=America/New_York:20170401T233000
DTSTAMP:20260419T140419
CREATED:20161206T155934Z
LAST-MODIFIED:20161206T160812Z
UID:10008318-1491033600-1491089400@uucv.org
SUMMARY:OPEN AUCTION EVENT: The No-Show-Up Pay It Forward Event
DESCRIPTION:
URL:https://uucv.org/event/open-auction-event-the-no-show-up-pay-it-forward-event/
LOCATION:Member’s Home\,  \,  \, PA
CATEGORIES:Community,Flag for Newsletter,Open Auction Events
END:VEVENT
BEGIN:VEVENT
DTSTART;TZID=America/New_York:20170310T190000
DTEND;TZID=America/New_York:20170310T210000
DTSTAMP:20260419T140419
CREATED:20161205T182755Z
LAST-MODIFIED:20161206T160910Z
UID:10008317-1489172400-1489179600@uucv.org
SUMMARY:OPEN AUCTION EVENT: Paint Night with UUCV Artists
DESCRIPTION:
URL:https://uucv.org/event/open-auction-event-paint-night-with-uucv-artists/
LOCATION:Dining Room
CATEGORIES:Community,Flag for Newsletter,Open Auction Events
END:VEVENT
BEGIN:VEVENT
DTSTART;TZID=America/New_York:20161229T190000
DTEND;TZID=America/New_York:20161229T210000
DTSTAMP:20260419T140419
CREATED:20161205T181654Z
LAST-MODIFIED:20161206T163845Z
UID:10008316-1483038000-1483045200@uucv.org
SUMMARY:OPEN AUCTION EVENT: A Night at the Movies: "What Would Jesus Buy?"
DESCRIPTION:
URL:https://uucv.org/event/auction-event-a-night-at-the-movies-what-would-jesus-buy/
LOCATION:Social Hall
CATEGORIES:Community,Flag for Newsletter,Open Auction Events
ORGANIZER;CN="Rita van Alkemade":MAILTO:tim.rita.zoe@gmail.com
END:VEVENT
BEGIN:VEVENT
DTSTART;TZID=America/New_York:20161105T183000
DTEND;TZID=America/New_York:20161105T210000
DTSTAMP:20260419T140419
CREATED:20160721T143657Z
LAST-MODIFIED:20160721T144357Z
UID:10008186-1478370600-1478379600@uucv.org
SUMMARY:The World of Alice and Wonderland - Annual Auction
DESCRIPTION:
URL:https://uucv.org/event/the-world-of-alice-and-wonderland-annual-auction/
LOCATION:Social Hall
CATEGORIES:Community,Flag for Newsletter,Open Auction Events
ATTACH;FMTTYPE=image/gif:https://uucv.org/wp-content/uploads/2016/07/Auction-picture-2016.jpg.gif
ORGANIZER;CN="Rita van Alkemade":MAILTO:tim.rita.zoe@gmail.com
END:VEVENT
BEGIN:VEVENT
DTSTART;TZID=America/New_York:20161015T090000
DTEND;TZID=America/New_York:20161015T150000
DTSTAMP:20260419T140419
CREATED:20160212T165439Z
LAST-MODIFIED:20160224T172255Z
UID:10007844-1476522000-1476543600@uucv.org
SUMMARY:Oktoberfest and Volksmarch
DESCRIPTION:Celebrate this traditional German event at Walhaus\, home of Michele burton.michelem@gmail.com and Jim Burton jamesburton22153@gmail.com.  the day will start with a six-mile hike on the Appalachian Trail at 9:00 AM.  The “Fest with bratwurst and bier” will begin at 1:00 PM for those who do not hike.  There will also be an opportunity to take a guided walk of the POW camp nearby.
URL:https://uucv.org/event/auction-oktoberfest-and-volksmarch/
LOCATION:Member’s Home\,  \,  \, PA
CATEGORIES:Flag for Newsletter,Open Auction Events
END:VEVENT
BEGIN:VEVENT
DTSTART;TZID=America/New_York:20161008T183000
DTEND;TZID=America/New_York:20161008T220000
DTSTAMP:20260419T140419
CREATED:20160217T152957Z
LAST-MODIFIED:20160224T172313Z
UID:10007892-1475951400-1475964000@uucv.org
SUMMARY:Get in the Spirit
DESCRIPTION:Join Deb Stille and John Sigle for an autumn-themed local food vegetarian dinner\, just in time to get in the spirit  for Halloween.  Food will include Deb’s favorite autumn vegetarian recipes\, and the decorations will be  to die for.  Bring a ghost story to share.  This event is full but check with the host(s) for a wait list in case of cancellations.
URL:https://uucv.org/event/get-in-the-spirit/
LOCATION:Member’s Home\,  \,  \, PA
CATEGORIES:Flag for Newsletter,Open Auction Events
ORGANIZER;CN="Deb Stille":MAILTO:debuucv@gmail.com
END:VEVENT
BEGIN:VEVENT
DTSTART;TZID=America/New_York:20160924T160000
DTEND;TZID=America/New_York:20160924T190000
DTSTAMP:20260419T140419
CREATED:20160217T152637Z
LAST-MODIFIED:20160224T172324Z
UID:10007890-1474732800-1474743600@uucv.org
SUMMARY:La Cucina di Verdura Italiania!
DESCRIPTION:Enjoy a sumptuous Italian vegetarian dinner with vino (wine)\, appetizer and dessert hosted by Susan and Max Lara.  This event is full but check with the host(s) for a wait list in case of cancellations.
URL:https://uucv.org/event/la-cucina-di-verdura-italiania/
LOCATION:Member’s Home\,  \,  \, PA
CATEGORIES:Flag for Newsletter,Open Auction Events
ORGANIZER;CN="Susan Lara":MAILTO:suelara@embarqmail.com
END:VEVENT
BEGIN:VEVENT
DTSTART;TZID=America/New_York:20160917T180000
DTEND;TZID=America/New_York:20160917T210000
DTSTAMP:20260419T140419
CREATED:20160217T152225Z
LAST-MODIFIED:20160224T172342Z
UID:10007888-1474135200-1474146000@uucv.org
SUMMARY:Gastronomical Tour of Italy
DESCRIPTION:Taste the culinary delights from a variety of regions in Italy.  As an added bonus to this dining experience\, a special guest is expected to appear.  You may have missed seeing the Pope in Philadelphia\, but rumor has it\, that while we dine he may pay a surprise visit to the van Alkemade-Tilton Stone House.  This event is full but check with the host(s) for a wait list in case of cancellations.
URL:https://uucv.org/event/gastronomical-tour-of-italy/
LOCATION:Member’s Home\,  \,  \, PA
CATEGORIES:Flag for Newsletter,Open Auction Events
ORGANIZER;CN="Rita van Alkemade":MAILTO:tim.rita.zoe@gmail.com
END:VEVENT
BEGIN:VEVENT
DTSTART;TZID=America/New_York:20160910T180000
DTEND;TZID=America/New_York:20160910T210000
DTSTAMP:20260419T140419
CREATED:20160217T151934Z
LAST-MODIFIED:20160224T172357Z
UID:10007886-1473530400-1473541200@uucv.org
SUMMARY:Fall Paella on the Patio
DESCRIPTION:Come taste tapas\, sip Sangria\, and plow into some Valencian seafood paella on the patio of Marie Helweg-Larsen and Wendell Smith.  We are anticipating a beauiful fall evening.  Spanish lesson and Spanish wine tasting included. This event is full but check with the host(s) for a wait list in case of cancellations.
URL:https://uucv.org/event/fall-paella-on-the-patio/
LOCATION:Member’s Home\,  \,  \, PA
CATEGORIES:Flag for Newsletter,Open Auction Events
ORGANIZER;CN="Marie Helweg-Larsen":MAILTO:helwegm@dickinson.edu
END:VEVENT
BEGIN:VEVENT
DTSTART;TZID=America/New_York:20160909T190000
DTEND;TZID=America/New_York:20160909T220000
DTSTAMP:20260419T140419
CREATED:20160212T163831Z
LAST-MODIFIED:20160224T172408Z
UID:10007841-1473447600-1473458400@uucv.org
SUMMARY:Local Harvest Dinner
DESCRIPTION:Wine\, beer\, and a harvest dinner made with food all grown and raised locally at the home of Amy Farrell farrell@dickinson.edu and John Bloom bloom@pa.net
URL:https://uucv.org/event/auction-local-harvest-dinner/
LOCATION:Member’s Home\,  \,  \, PA
CATEGORIES:Flag for Newsletter,Open Auction Events
ORGANIZER;CN="John Bloom":MAILTO:bloom@pa.net
END:VEVENT
BEGIN:VEVENT
DTSTART;TZID=America/New_York:20160716T130000
DTEND;TZID=America/New_York:20160716T170000
DTSTAMP:20260419T140419
CREATED:20160212T163342Z
LAST-MODIFIED:20160224T172438Z
UID:10007839-1468674000-1468688400@uucv.org
SUMMARY:Potluck Pool Party
DESCRIPTION:Have fun splashing in the pool or just lounging in the sun while others swim.  Enjoy sharing food\, games and entertainment.  This is for adults only and the cost is $20/person.  Hosts Anne Gero annegero@mac.com and Don Klinesinst donrayk@mac.com
URL:https://uucv.org/event/auction-potluck-pool-party/
LOCATION:Member’s Home\,  \,  \, PA
CATEGORIES:Flag for Newsletter,Open Auction Events
ORGANIZER;CN="Anne Gero":MAILTO:annegero@mac.com
END:VEVENT
BEGIN:VEVENT
DTSTART;TZID=America/New_York:20160709T190000
DTEND;TZID=America/New_York:20160709T220000
DTSTAMP:20260419T140419
CREATED:20160212T150241Z
LAST-MODIFIED:20160524T165534Z
UID:10007010-1468090800-1468101600@uucv.org
SUMMARY:Cranium Party
DESCRIPTION:Gather to play Cranium at the home of Julie Ham.  It’s a creative team game of trivia\, charades\, pictogram and other activities.  Contact Julie jlham1959@gmail.com
URL:https://uucv.org/event/cranium-party/
LOCATION:Member’s Home\,  \,  \, PA
CATEGORIES:Community,Flag for Newsletter,Open Auction Events
ORGANIZER;CN="Julie Ham":MAILTO:jlham1959@gmail.com
END:VEVENT
BEGIN:VEVENT
DTSTART;TZID=America/New_York:20160618T180000
DTEND;TZID=America/New_York:20160618T220000
DTSTAMP:20260419T140419
CREATED:20160217T151103Z
LAST-MODIFIED:20160224T172450Z
UID:10007884-1466272800-1466287200@uucv.org
SUMMARY:Just a Backyard Barbeque
DESCRIPTION:Join Dan Cozort for a friendly and relaxed evening on his patio.  There will be grilled vegetables and meats\, salads\, plus whatever you like to drink.  This event is full but check with the host(s) for a wait list in case of cancellations.
URL:https://uucv.org/event/just-a-backyard-barbeque/
LOCATION:Member’s Home\,  \,  \, PA
CATEGORIES:Flag for Newsletter,Open Auction Events
ORGANIZER;CN="Dan Cozort":MAILTO:cozort@dickinson.edu
END:VEVENT
BEGIN:VEVENT
DTSTART;TZID=America/New_York:20160618T150000
DTEND;TZID=America/New_York:20160618T170000
DTSTAMP:20260419T140419
CREATED:20160212T162806Z
LAST-MODIFIED:20160224T172516Z
UID:10007837-1466262000-1466269200@uucv.org
SUMMARY:Pool and Ice Cream Party at Gisela's
DESCRIPTION:Have fun swimming or doggy paddling around our pool.  “Pack die Badehose ein!” (Bring your swim gear and sun tan lotion)  Ice cream lovers\, there’ll be plenty of ice cream from Leo’s.  Gisela Roethke roethke@dickinson.edu is your host for this adult only party.
URL:https://uucv.org/event/pool-and-ice-cream-party-at-giselas/
LOCATION:Member’s Home\,  \,  \, PA
CATEGORIES:Flag for Newsletter,Open Auction Events
ORGANIZER;CN="Gisela Roethe":MAILTO:roethke@dickinson.edu
END:VEVENT
BEGIN:VEVENT
DTSTART;TZID=America/New_York:20160612T130000
DTEND;TZID=America/New_York:20160612T150000
DTSTAMP:20260419T140419
CREATED:20160212T162442Z
LAST-MODIFIED:20160224T172536Z
UID:10007835-1465736400-1465743600@uucv.org
SUMMARY:Garden Party
DESCRIPTION:Stroll through the lovely gardens of June Hoch gjunehoch@gmail.com and enjoy a luscious bugget dinner of summer fare (some dishes will include nuts) prepared by the Camp Hill/Lemoyne Small Group.  Win will be served along with lunch.
URL:https://uucv.org/event/auction-garden-party/
LOCATION:Member’s Home\,  \,  \, PA
CATEGORIES:Flag for Newsletter,Open Auction Events
ORGANIZER;CN="June Hoch":MAILTO:gjunehoch@gmail.com
END:VEVENT
BEGIN:VEVENT
DTSTART;TZID=America/New_York:20160611T180000
DTEND;TZID=America/New_York:20160611T210000
DTSTAMP:20260419T140419
CREATED:20160212T162146Z
LAST-MODIFIED:20160224T172552Z
UID:10007833-1465668000-1465678800@uucv.org
SUMMARY:Buffet Dinner featuring Jazz and a Golden Oldies Sing-a-long
DESCRIPTION:Bring your voice and other instruments to play and/or sing-a-long.  Music featuring Ken Laws and Carole Knisely\, with food prepared by Gisela Roethke and Priscilla Laws lawsp@dickinson.edu
URL:https://uucv.org/event/auction-buffet-dinner-featuring-jazz-and-a-golden-oldies-sing-a-long/
LOCATION:Member’s Home\,  \,  \, PA
CATEGORIES:Flag for Newsletter,Open Auction Events
ORGANIZER;CN="Priscilla Laws":MAILTO:lawsp@dickinson.edu
END:VEVENT
BEGIN:VEVENT
DTSTART;TZID=America/New_York:20160523T183000
DTEND;TZID=America/New_York:20160523T203000
DTSTAMP:20260419T140419
CREATED:20160217T154842Z
LAST-MODIFIED:20160224T172618Z
UID:10007898-1464028200-1464035400@uucv.org
SUMMARY:Sewing Classes
DESCRIPTION:Love Judy Dench’s style?  Willing to sew it for yourself?  Kate Barr is offering a series of six classes to take you from sewing machine maintenance to adjusting the perfect pattern for casual\, loose-fitting pants and on to creating a variety of styles.  Must have a portable sewing machine in good working order and be able to sew a straight seam!
URL:https://uucv.org/event/sewing-classes/2016-05-23/
LOCATION:Member’s Home\,  \,  \, PA
CATEGORIES:Flag for Newsletter,Open Auction Events
ORGANIZER;CN="Kate Barr":MAILTO:katiebarrthedoor@gmail.com
END:VEVENT
BEGIN:VEVENT
DTSTART;TZID=America/New_York:20160521T130000
DTEND;TZID=America/New_York:20160521T170000
DTSTAMP:20260419T140419
CREATED:20160212T161458Z
LAST-MODIFIED:20160224T172938Z
UID:10007831-1463835600-1463850000@uucv.org
SUMMARY:UUCV Art Tour with Hors d'oeuvres
DESCRIPTION:Enjoy the creations of six UUCV artists on a tour of three homes and studios where the artists will display their art and that of their fellow artists.  Begin on the farm of Char Klein charklein@kuhncom.net where you will enjoy her fanciful art and wonderful watercolors of Carolyn Hocker carolynahocker@gmail.com  Next stop will be the Stone House Studio of Rita van Alkemade tim.rita.zoe@gmail.com with a tour of her sculptures along with the paintings of Susan Vernon snvernon@comcast.net and Deb Stille debuucv@gmail.com  Your last studio stop is at the home of Leeann Rhoades\, L30rhs@gmail.com along the beautiful Susquehanna River\, where she will display her own work and the beautiful watercolors of Pam Wenger pwenger32@comcast.net.  The tour will end with an optional dinner on your own at The Millworks restaurant where you can tour the studio of many artists.
URL:https://uucv.org/event/auction-uucv-art-tour-with-hors-doeuvres/
LOCATION:Member’s Home\,  \,  \, PA
CATEGORIES:Flag for Newsletter,Open Auction Events
ORGANIZER;CN="Char Klein":MAILTO:charklein@kuhncom.net
END:VEVENT
BEGIN:VEVENT
DTSTART;TZID=America/New_York:20160514T180000
DTEND;TZID=America/New_York:20160514T220000
DTSTAMP:20260419T140419
CREATED:20160212T160159Z
LAST-MODIFIED:20160224T172948Z
UID:10007829-1463248800-1463263200@uucv.org
SUMMARY:Authentic Jamaican Diner
DESCRIPTION:Join Laurel Belding ljbelding46@gmail.com and Will Guilliams wdg1450@gmail.com at their Carlisle home for an evening of reggae\, Red Stripe and an authentic Jamaican dinner.  Laurel lived in Jamaica for several years and will prepare some of her favorites including jerk chicken grilled over pimento wood straight from the islands\, rice and peas\, callaloo\, festival and more.  Adults only and there are cats in the home.
URL:https://uucv.org/event/auction-authentic-jamaican-diner/
LOCATION:Member’s Home\,  \,  \, PA
CATEGORIES:Flag for Newsletter,Open Auction Events
ORGANIZER;CN="Will Guillams":MAILTO:wdg1450@gmail.com
END:VEVENT
END:VCALENDAR